Workbook
Name CalYear: Setup!$B$6
Name CodeBucket: Setup!$E$9:$E$22
Name CodeDays: Setup!$D$9:$D$22
Name Codes: Setup!$B$9:$B$22

Sheet Summary
B2: ="Vacation tracker "&CalYear -> 0
B3: Enter people and allowances here. Log days off on the month tabs with codes (V, HV, S…).
B5: EMPLOYEE | C5: TEAM | D5: VACATION ALLOWANCE | E5: CARRY- OVER | F5: VACATION TAKEN | G5: VACATION LEFT | H5: % USED | I5: SICK ALLOWANCE | J5: SICK TAKEN | K5: SICK LEFT | L5: PERSONAL TAKEN | M5: OTHER TAKEN | N5: TOTAL DAYS OFF
B6: Alex Rivera | C6: Design | D6: 15 | E6: 2 | F6: =IF($B6="","",Jan!AI6+Feb!AI6+Mar!AI6+Apr!AI6+May!AI6+Jun!AI6+Jul!AI6+Aug!AI6+Sep!AI6+Oct!AI6+Nov!AI6+Dec!AI6) -> 0 | G6: =IF($B6="","",N(D6)+N(E6)-N(F6)) -> 0 | H6: =IF(OR($B6="",N(D6)+N(E6)=0),"",MIN(1,N(F6)/(N(D6)+N(E6)))) -> 0 | I6: 10 | J6: =IF($B6="","",Jan!AJ6+Feb!AJ6+Mar!AJ6+Apr!AJ6+May!AJ6+Jun!AJ6+Jul!AJ6+Aug!AJ6+Sep!AJ6+Oct!AJ6+Nov!AJ6+Dec!AJ6) -> 0 | K6: =IF(OR($B6="",I6=""),"",N(I6)-N(J6)) -> 0 | L6: =IF($B6="","",Jan!AK6+Feb!AK6+Mar!AK6+Apr!AK6+May!AK6+Jun!AK6+Jul!AK6+Aug!AK6+Sep!AK6+Oct!AK6+Nov!AK6+Dec!AK6) -> 0 | M6: =IF($B6="","",Jan!AL6+Feb!AL6+Mar!AL6+Apr!AL6+May!AL6+Jun!AL6+Jul!AL6+Aug!AL6+Sep!AL6+Oct!AL6+Nov!AL6+Dec!AL6) -> 0 | N6: =IF($B6="","",N(F6)+N(J6)+N(L6)+N(M6)) -> 0
B7: Jordan Lee | C7: Engineering | D7: 20 | E7: 0 | F7: =IF($B7="","",Jan!AI7+Feb!AI7+Mar!AI7+Apr!AI7+May!AI7+Jun!AI7+Jul!AI7+Aug!AI7+Sep!AI7+Oct!AI7+Nov!AI7+Dec!AI7) -> 0 | G7: =IF($B7="","",N(D7)+N(E7)-N(F7)) -> 0 | H7: =IF(OR($B7="",N(D7)+N(E7)=0),"",MIN(1,N(F7)/(N(D7)+N(E7)))) -> 0 | I7: 10 | J7: =IF($B7="","",Jan!AJ7+Feb!AJ7+Mar!AJ7+Apr!AJ7+May!AJ7+Jun!AJ7+Jul!AJ7+Aug!AJ7+Sep!AJ7+Oct!AJ7+Nov!AJ7+Dec!AJ7) -> 0 | K7: =IF(OR($B7="",I7=""),"",N(I7)-N(J7)) -> 0 | L7: =IF($B7="","",Jan!AK7+Feb!AK7+Mar!AK7+Apr!AK7+May!AK7+Jun!AK7+Jul!AK7+Aug!AK7+Sep!AK7+Oct!AK7+Nov!AK7+Dec!AK7) -> 0 | M7: =IF($B7="","",Jan!AL7+Feb!AL7+Mar!AL7+Apr!AL7+May!AL7+Jun!AL7+Jul!AL7+Aug!AL7+Sep!AL7+Oct!AL7+Nov!AL7+Dec!AL7) -> 0 | N7: =IF($B7="","",N(F7)+N(J7)+N(L7)+N(M7)) -> 0
B8: Sam Patel | C8: Sales | D8: 15 | E8: 3 | F8: =IF($B8="","",Jan!AI8+Feb!AI8+Mar!AI8+Apr!AI8+May!AI8+Jun!AI8+Jul!AI8+Aug!AI8+Sep!AI8+Oct!AI8+Nov!AI8+Dec!AI8) -> 0 | G8: =IF($B8="","",N(D8)+N(E8)-N(F8)) -> 0 | H8: =IF(OR($B8="",N(D8)+N(E8)=0),"",MIN(1,N(F8)/(N(D8)+N(E8)))) -> 0 | I8: 10 | J8: =IF($B8="","",Jan!AJ8+Feb!AJ8+Mar!AJ8+Apr!AJ8+May!AJ8+Jun!AJ8+Jul!AJ8+Aug!AJ8+Sep!AJ8+Oct!AJ8+Nov!AJ8+Dec!AJ8) -> 0 | K8: =IF(OR($B8="",I8=""),"",N(I8)-N(J8)) -> 0 | L8: =IF($B8="","",Jan!AK8+Feb!AK8+Mar!AK8+Apr!AK8+May!AK8+Jun!AK8+Jul!AK8+Aug!AK8+Sep!AK8+Oct!AK8+Nov!AK8+Dec!AK8) -> 0 | M8: =IF($B8="","",Jan!AL8+Feb!AL8+Mar!AL8+Apr!AL8+May!AL8+Jun!AL8+Jul!AL8+Aug!AL8+Sep!AL8+Oct!AL8+Nov!AL8+Dec!AL8) -> 0 | N8: =IF($B8="","",N(F8)+N(J8)+N(L8)+N(M8)) -> 0
F9: =IF($B9="","",Jan!AI9+Feb!AI9+Mar!AI9+Apr!AI9+May!AI9+Jun!AI9+Jul!AI9+Aug!AI9+Sep!AI9+Oct!AI9+Nov!AI9+Dec!AI9) -> 0 | G9: =IF($B9="","",N(D9)+N(E9)-N(F9)) -> 0 | H9: =IF(OR($B9="",N(D9)+N(E9)=0),"",MIN(1,N(F9)/(N(D9)+N(E9)))) -> 0 | J9: =IF($B9="","",Jan!AJ9+Feb!AJ9+Mar!AJ9+Apr!AJ9+May!AJ9+Jun!AJ9+Jul!AJ9+Aug!AJ9+Sep!AJ9+Oct!AJ9+Nov!AJ9+Dec!AJ9) -> 0 | K9: =IF(OR($B9="",I9=""),"",N(I9)-N(J9)) -> 0 | L9: =IF($B9="","",Jan!AK9+Feb!AK9+Mar!AK9+Apr!AK9+May!AK9+Jun!AK9+Jul!AK9+Aug!AK9+Sep!AK9+Oct!AK9+Nov!AK9+Dec!AK9) -> 0 | M9: =IF($B9="","",Jan!AL9+Feb!AL9+Mar!AL9+Apr!AL9+May!AL9+Jun!AL9+Jul!AL9+Aug!AL9+Sep!AL9+Oct!AL9+Nov!AL9+Dec!AL9) -> 0 | N9: =IF($B9="","",N(F9)+N(J9)+N(L9)+N(M9)) -> 0
F10: =IF($B10="","",Jan!AI10+Feb!AI10+Mar!AI10+Apr!AI10+May!AI10+Jun!AI10+Jul!AI10+Aug!AI10+Sep!AI10+Oct!AI10+Nov!AI10+Dec!AI10) -> 0 | G10: =IF($B10="","",N(D10)+N(E10)-N(F10)) -> 0 | H10: =IF(OR($B10="",N(D10)+N(E10)=0),"",MIN(1,N(F10)/(N(D10)+N(E10)))) -> 0 | J10: =IF($B10="","",Jan!AJ10+Feb!AJ10+Mar!AJ10+Apr!AJ10+May!AJ10+Jun!AJ10+Jul!AJ10+Aug!AJ10+Sep!AJ10+Oct!AJ10+Nov!AJ10+Dec!AJ10) -> 0 | K10: =IF(OR($B10="",I10=""),"",N(I10)-N(J10)) -> 0 | L10: =IF($B10="","",Jan!AK10+Feb!AK10+Mar!AK10+Apr!AK10+May!AK10+Jun!AK10+Jul!AK10+Aug!AK10+Sep!AK10+Oct!AK10+Nov!AK10+Dec!AK10) -> 0 | M10: =IF($B10="","",Jan!AL10+Feb!AL10+Mar!AL10+Apr!AL10+May!AL10+Jun!AL10+Jul!AL10+Aug!AL10+Sep!AL10+Oct!AL10+Nov!AL10+Dec!AL10) -> 0 | N10: =IF($B10="","",N(F10)+N(J10)+N(L10)+N(M10)) -> 0
F11: =IF($B11="","",Jan!AI11+Feb!AI11+Mar!AI11+Apr!AI11+May!AI11+Jun!AI11+Jul!AI11+Aug!AI11+Sep!AI11+Oct!AI11+Nov!AI11+Dec!AI11) -> 0 | G11: =IF($B11="","",N(D11)+N(E11)-N(F11)) -> 0 | H11: =IF(OR($B11="",N(D11)+N(E11)=0),"",MIN(1,N(F11)/(N(D11)+N(E11)))) -> 0 | J11: =IF($B11="","",Jan!AJ11+Feb!AJ11+Mar!AJ11+Apr!AJ11+May!AJ11+Jun!AJ11+Jul!AJ11+Aug!AJ11+Sep!AJ11+Oct!AJ11+Nov!AJ11+Dec!AJ11) -> 0 | K11: =IF(OR($B11="",I11=""),"",N(I11)-N(J11)) -> 0 | L11: =IF($B11="","",Jan!AK11+Feb!AK11+Mar!AK11+Apr!AK11+May!AK11+Jun!AK11+Jul!AK11+Aug!AK11+Sep!AK11+Oct!AK11+Nov!AK11+Dec!AK11) -> 0 | M11: =IF($B11="","",Jan!AL11+Feb!AL11+Mar!AL11+Apr!AL11+May!AL11+Jun!AL11+Jul!AL11+Aug!AL11+Sep!AL11+Oct!AL11+Nov!AL11+Dec!AL11) -> 0 | N11: =IF($B11="","",N(F11)+N(J11)+N(L11)+N(M11)) -> 0
F12: =IF($B12="","",Jan!AI12+Feb!AI12+Mar!AI12+Apr!AI12+May!AI12+Jun!AI12+Jul!AI12+Aug!AI12+Sep!AI12+Oct!AI12+Nov!AI12+Dec!AI12) -> 0 | G12: =IF($B12="","",N(D12)+N(E12)-N(F12)) -> 0 | H12: =IF(OR($B12="",N(D12)+N(E12)=0),"",MIN(1,N(F12)/(N(D12)+N(E12)))) -> 0 | J12: =IF($B12="","",Jan!AJ12+Feb!AJ12+Mar!AJ12+Apr!AJ12+May!AJ12+Jun!AJ12+Jul!AJ12+Aug!AJ12+Sep!AJ12+Oct!AJ12+Nov!AJ12+Dec!AJ12) -> 0 | K12: =IF(OR($B12="",I12=""),"",N(I12)-N(J12)) -> 0 | L12: =IF($B12="","",Jan!AK12+Feb!AK12+Mar!AK12+Apr!AK12+May!AK12+Jun!AK12+Jul!AK12+Aug!AK12+Sep!AK12+Oct!AK12+Nov!AK12+Dec!AK12) -> 0 | M12: =IF($B12="","",Jan!AL12+Feb!AL12+Mar!AL12+Apr!AL12+May!AL12+Jun!AL12+Jul!AL12+Aug!AL12+Sep!AL12+Oct!AL12+Nov!AL12+Dec!AL12) -> 0 | N12: =IF($B12="","",N(F12)+N(J12)+N(L12)+N(M12)) -> 0
F13: =IF($B13="","",Jan!AI13+Feb!AI13+Mar!AI13+Apr!AI13+May!AI13+Jun!AI13+Jul!AI13+Aug!AI13+Sep!AI13+Oct!AI13+Nov!AI13+Dec!AI13) -> 0 | G13: =IF($B13="","",N(D13)+N(E13)-N(F13)) -> 0 | H13: =IF(OR($B13="",N(D13)+N(E13)=0),"",MIN(1,N(F13)/(N(D13)+N(E13)))) -> 0 | J13: =IF($B13="","",Jan!AJ13+Feb!AJ13+Mar!AJ13+Apr!AJ13+May!AJ13+Jun!AJ13+Jul!AJ13+Aug!AJ13+Sep!AJ13+Oct!AJ13+Nov!AJ13+Dec!AJ13) -> 0 | K13: =IF(OR($B13="",I13=""),"",N(I13)-N(J13)) -> 0 | L13: =IF($B13="","",Jan!AK13+Feb!AK13+Mar!AK13+Apr!AK13+May!AK13+Jun!AK13+Jul!AK13+Aug!AK13+Sep!AK13+Oct!AK13+Nov!AK13+Dec!AK13) -> 0 | M13: =IF($B13="","",Jan!AL13+Feb!AL13+Mar!AL13+Apr!AL13+May!AL13+Jun!AL13+Jul!AL13+Aug!AL13+Sep!AL13+Oct!AL13+Nov!AL13+Dec!AL13) -> 0 | N13: =IF($B13="","",N(F13)+N(J13)+N(L13)+N(M13)) -> 0
F14: =IF($B14="","",Jan!AI14+Feb!AI14+Mar!AI14+Apr!AI14+May!AI14+Jun!AI14+Jul!AI14+Aug!AI14+Sep!AI14+Oct!AI14+Nov!AI14+Dec!AI14) -> 0 | G14: =IF($B14="","",N(D14)+N(E14)-N(F14)) -> 0 | H14: =IF(OR($B14="",N(D14)+N(E14)=0),"",MIN(1,N(F14)/(N(D14)+N(E14)))) -> 0 | J14: =IF($B14="","",Jan!AJ14+Feb!AJ14+Mar!AJ14+Apr!AJ14+May!AJ14+Jun!AJ14+Jul!AJ14+Aug!AJ14+Sep!AJ14+Oct!AJ14+Nov!AJ14+Dec!AJ14) -> 0 | K14: =IF(OR($B14="",I14=""),"",N(I14)-N(J14)) -> 0 | L14: =IF($B14="","",Jan!AK14+Feb!AK14+Mar!AK14+Apr!AK14+May!AK14+Jun!AK14+Jul!AK14+Aug!AK14+Sep!AK14+Oct!AK14+Nov!AK14+Dec!AK14) -> 0 | M14: =IF($B14="","",Jan!AL14+Feb!AL14+Mar!AL14+Apr!AL14+May!AL14+Jun!AL14+Jul!AL14+Aug!AL14+Sep!AL14+Oct!AL14+Nov!AL14+Dec!AL14) -> 0 | N14: =IF($B14="","",N(F14)+N(J14)+N(L14)+N(M14)) -> 0
F15: =IF($B15="","",Jan!AI15+Feb!AI15+Mar!AI15+Apr!AI15+May!AI15+Jun!AI15+Jul!AI15+Aug!AI15+Sep!AI15+Oct!AI15+Nov!AI15+Dec!AI15) -> 0 | G15: =IF($B15="","",N(D15)+N(E15)-N(F15)) -> 0 | H15: =IF(OR($B15="",N(D15)+N(E15)=0),"",MIN(1,N(F15)/(N(D15)+N(E15)))) -> 0 | J15: =IF($B15="","",Jan!AJ15+Feb!AJ15+Mar!AJ15+Apr!AJ15+May!AJ15+Jun!AJ15+Jul!AJ15+Aug!AJ15+Sep!AJ15+Oct!AJ15+Nov!AJ15+Dec!AJ15) -> 0 | K15: =IF(OR($B15="",I15=""),"",N(I15)-N(J15)) -> 0 | L15: =IF($B15="","",Jan!AK15+Feb!AK15+Mar!AK15+Apr!AK15+May!AK15+Jun!AK15+Jul!AK15+Aug!AK15+Sep!AK15+Oct!AK15+Nov!AK15+Dec!AK15) -> 0 | M15: =IF($B15="","",Jan!AL15+Feb!AL15+Mar!AL15+Apr!AL15+May!AL15+Jun!AL15+Jul!AL15+Aug!AL15+Sep!AL15+Oct!AL15+Nov!AL15+Dec!AL15) -> 0 | N15: =IF($B15="","",N(F15)+N(J15)+N(L15)+N(M15)) -> 0
F16: =IF($B16="","",Jan!AI16+Feb!AI16+Mar!AI16+Apr!AI16+May!AI16+Jun!AI16+Jul!AI16+Aug!AI16+Sep!AI16+Oct!AI16+Nov!AI16+Dec!AI16) -> 0 | G16: =IF($B16="","",N(D16)+N(E16)-N(F16)) -> 0 | H16: =IF(OR($B16="",N(D16)+N(E16)=0),"",MIN(1,N(F16)/(N(D16)+N(E16)))) -> 0 | J16: =IF($B16="","",Jan!AJ16+Feb!AJ16+Mar!AJ16+Apr!AJ16+May!AJ16+Jun!AJ16+Jul!AJ16+Aug!AJ16+Sep!AJ16+Oct!AJ16+Nov!AJ16+Dec!AJ16) -> 0 | K16: =IF(OR($B16="",I16=""),"",N(I16)-N(J16)) -> 0 | L16: =IF($B16="","",Jan!AK16+Feb!AK16+Mar!AK16+Apr!AK16+May!AK16+Jun!AK16+Jul!AK16+Aug!AK16+Sep!AK16+Oct!AK16+Nov!AK16+Dec!AK16) -> 0 | M16: =IF($B16="","",Jan!AL16+Feb!AL16+Mar!AL16+Apr!AL16+May!AL16+Jun!AL16+Jul!AL16+Aug!AL16+Sep!AL16+Oct!AL16+Nov!AL16+Dec!AL16) -> 0 | N16: =IF($B16="","",N(F16)+N(J16)+N(L16)+N(M16)) -> 0
F17: =IF($B17="","",Jan!AI17+Feb!AI17+Mar!AI17+Apr!AI17+May!AI17+Jun!AI17+Jul!AI17+Aug!AI17+Sep!AI17+Oct!AI17+Nov!AI17+Dec!AI17) -> 0 | G17: =IF($B17="","",N(D17)+N(E17)-N(F17)) -> 0 | H17: =IF(OR($B17="",N(D17)+N(E17)=0),"",MIN(1,N(F17)/(N(D17)+N(E17)))) -> 0 | J17: =IF($B17="","",Jan!AJ17+Feb!AJ17+Mar!AJ17+Apr!AJ17+May!AJ17+Jun!AJ17+Jul!AJ17+Aug!AJ17+Sep!AJ17+Oct!AJ17+Nov!AJ17+Dec!AJ17) -> 0 | K17: =IF(OR($B17="",I17=""),"",N(I17)-N(J17)) -> 0 | L17: =IF($B17="","",Jan!AK17+Feb!AK17+Mar!AK17+Apr!AK17+May!AK17+Jun!AK17+Jul!AK17+Aug!AK17+Sep!AK17+Oct!AK17+Nov!AK17+Dec!AK17) -> 0 | M17: =IF($B17="","",Jan!AL17+Feb!AL17+Mar!AL17+Apr!AL17+May!AL17+Jun!AL17+Jul!AL17+Aug!AL17+Sep!AL17+Oct!AL17+Nov!AL17+Dec!AL17) -> 0 | N17: =IF($B17="","",N(F17)+N(J17)+N(L17)+N(M17)) -> 0
F18: =IF($B18="","",Jan!AI18+Feb!AI18+Mar!AI18+Apr!AI18+May!AI18+Jun!AI18+Jul!AI18+Aug!AI18+Sep!AI18+Oct!AI18+Nov!AI18+Dec!AI18) -> 0 | G18: =IF($B18="","",N(D18)+N(E18)-N(F18)) -> 0 | H18: =IF(OR($B18="",N(D18)+N(E18)=0),"",MIN(1,N(F18)/(N(D18)+N(E18)))) -> 0 | J18: =IF($B18="","",Jan!AJ18+Feb!AJ18+Mar!AJ18+Apr!AJ18+May!AJ18+Jun!AJ18+Jul!AJ18+Aug!AJ18+Sep!AJ18+Oct!AJ18+Nov!AJ18+Dec!AJ18) -> 0 | K18: =IF(OR($B18="",I18=""),"",N(I18)-N(J18)) -> 0 | L18: =IF($B18="","",Jan!AK18+Feb!AK18+Mar!AK18+Apr!AK18+May!AK18+Jun!AK18+Jul!AK18+Aug!AK18+Sep!AK18+Oct!AK18+Nov!AK18+Dec!AK18) -> 0 | M18: =IF($B18="","",Jan!AL18+Feb!AL18+Mar!AL18+Apr!AL18+May!AL18+Jun!AL18+Jul!AL18+Aug!AL18+Sep!AL18+Oct!AL18+Nov!AL18+Dec!AL18) -> 0 | N18: =IF($B18="","",N(F18)+N(J18)+N(L18)+N(M18)) -> 0
F19: =IF($B19="","",Jan!AI19+Feb!AI19+Mar!AI19+Apr!AI19+May!AI19+Jun!AI19+Jul!AI19+Aug!AI19+Sep!AI19+Oct!AI19+Nov!AI19+Dec!AI19) -> 0 | G19: =IF($B19="","",N(D19)+N(E19)-N(F19)) -> 0 | H19: =IF(OR($B19="",N(D19)+N(E19)=0),"",MIN(1,N(F19)/(N(D19)+N(E19)))) -> 0 | J19: =IF($B19="","",Jan!AJ19+Feb!AJ19+Mar!AJ19+Apr!AJ19+May!AJ19+Jun!AJ19+Jul!AJ19+Aug!AJ19+Sep!AJ19+Oct!AJ19+Nov!AJ19+Dec!AJ19) -> 0 | K19: =IF(OR($B19="",I19=""),"",N(I19)-N(J19)) -> 0 | L19: =IF($B19="","",Jan!AK19+Feb!AK19+Mar!AK19+Apr!AK19+May!AK19+Jun!AK19+Jul!AK19+Aug!AK19+Sep!AK19+Oct!AK19+Nov!AK19+Dec!AK19) -> 0 | M19: =IF($B19="","",Jan!AL19+Feb!AL19+Mar!AL19+Apr!AL19+May!AL19+Jun!AL19+Jul!AL19+Aug!AL19+Sep!AL19+Oct!AL19+Nov!AL19+Dec!AL19) -> 0 | N19: =IF($B19="","",N(F19)+N(J19)+N(L19)+N(M19)) -> 0
F20: =IF($B20="","",Jan!AI20+Feb!AI20+Mar!AI20+Apr!AI20+May!AI20+Jun!AI20+Jul!AI20+Aug!AI20+Sep!AI20+Oct!AI20+Nov!AI20+Dec!AI20) -> 0 | G20: =IF($B20="","",N(D20)+N(E20)-N(F20)) -> 0 | H20: =IF(OR($B20="",N(D20)+N(E20)=0),"",MIN(1,N(F20)/(N(D20)+N(E20)))) -> 0 | J20: =IF($B20="","",Jan!AJ20+Feb!AJ20+Mar!AJ20+Apr!AJ20+May!AJ20+Jun!AJ20+Jul!AJ20+Aug!AJ20+Sep!AJ20+Oct!AJ20+Nov!AJ20+Dec!AJ20) -> 0 | K20: =IF(OR($B20="",I20=""),"",N(I20)-N(J20)) -> 0 | L20: =IF($B20="","",Jan!AK20+Feb!AK20+Mar!AK20+Apr!AK20+May!AK20+Jun!AK20+Jul!AK20+Aug!AK20+Sep!AK20+Oct!AK20+Nov!AK20+Dec!AK20) -> 0 | M20: =IF($B20="","",Jan!AL20+Feb!AL20+Mar!AL20+Apr!AL20+May!AL20+Jun!AL20+Jul!AL20+Aug!AL20+Sep!AL20+Oct!AL20+Nov!AL20+Dec!AL20) -> 0 | N20: =IF($B20="","",N(F20)+N(J20)+N(L20)+N(M20)) -> 0
... F30: =IF($B30="","",Jan!AI30+Feb!AI30+Mar!AI30+Apr!AI30+May!AI30+Jun!AI30+Jul!AI30+Aug!AI30+Sep!AI30+Oct!AI30+Nov!AI30+Dec!AI30) -> 0 | G30: =IF($B30="","",N(D30)+N(E30)-N(F30)) -> 0 | H30: =IF(OR($B30="",N(D30)+N(E30)=0),"",MIN(1,N(F30)/(N(D30)+N(E30)))) -> 0 | J30: =IF($B30="","",Jan!AJ30+Feb!AJ30+Mar!AJ30+Apr!AJ30+May!AJ30+Jun!AJ30+Jul!AJ30+Aug!AJ30+Sep!AJ30+Oct!AJ30+Nov!AJ30+Dec!AJ30) -> 0 | K30: =IF(OR($B30="",I30=""),"",N(I30)-N(J30)) -> 0 | L30: =IF($B30="","",Jan!AK30+Feb!AK30+Mar!AK30+Apr!AK30+May!AK30+Jun!AK30+Jul!AK30+Aug!AK30+Sep!AK30+Oct!AK30+Nov!AK30+Dec!AK30) -> 0 | M30: =IF($B30="","",Jan!AL30+Feb!AL30+Mar!AL30+Apr!AL30+May!AL30+Jun!AL30+Jul!AL30+Aug!AL30+Sep!AL30+Oct!AL30+Nov!AL30+Dec!AL30) -> 0 | N30: =IF($B30="","",N(F30)+N(J30)+N(L30)+N(M30)) -> 0
B31: Team total | D31: =SUM(D6:D30) -> 0 | E31: =SUM(E6:E30) -> 0 | F31: =SUM(F6:F30) -> 0 | G31: =SUM(G6:G30) -> 0 | I31: =SUM(I6:I30) -> 0 | J31: =SUM(J6:J30) -> 0 | K31: =SUM(K6:K30) -> 0 | L31: =SUM(L6:L30) -> 0 | M31: =SUM(M6:M30) -> 0 | N31: =SUM(N6:N30) -> 0

Sheet Jan
B2: January | J2: =CalYear -> 0 | P2: ="Codes: "&Setup!B9&" "&Setup!C9&" · "&Setup!B10&" "&Setup!C10&" · "&Setup!B11&" "&Setup!C11&" · "&Setup!B13&" "&Setup!C13&" · "&Setup!B15&" "&Setup!C15&" (full list on Setup)" -> 0
C4: =IF(MONTH(DATE(CalYear,1,1))=1,CHOOSE(WEEKDAY(DATE(CalYear,1,1)),"S","M","T","W","T","F","S"),"") -> 0 | D4: =IF(MONTH(DATE(CalYear,1,2))=1,CHOOSE(WEEKDAY(DATE(CalYear,1,2)),"S","M","T","W","T","F","S"),"") -> 0 | E4: =IF(MONTH(DATE(CalYear,1,3))=1,CHOOSE(WEEKDAY(DATE(CalYear,1,3)),"S","M","T","W","T","F","S"),"") -> 0 | F4: =IF(MONTH(DATE(CalYear,1,4))=1,CHOOSE(WEEKDAY(DATE(CalYear,1,4)),"S","M","T","W","T","F","S"),"") -> 0 | G4: =IF(MONTH(DATE(CalYear,1,5))=1,CHOOSE(WEEKDAY(DATE(CalYear,1,5)),"S","M","T","W","T","F","S"),"") -> 0 | H4: =IF(MONTH(DATE(CalYear,1,6))=1,CHOOSE(WEEKDAY(DATE(CalYear,1,6)),"S","M","T","W","T","F","S"),"") -> 0 | I4: =IF(MONTH(DATE(CalYear,1,7))=1,CHOOSE(WEEKDAY(DATE(CalYear,1,7)),"S","M","T","W","T","F","S"),"") -> 0 | J4: =IF(MONTH(DATE(CalYear,1,8))=1,CHOOSE(WEEKDAY(DATE(CalYear,1,8)),"S","M","T","W","T","F","S"),"") -> 0 | K4: =IF(MONTH(DATE(CalYear,1,9))=1,CHOOSE(WEEKDAY(DATE(CalYear,1,9)),"S","M","T","W","T","F","S"),"") -> 0 | L4: =IF(MONTH(DATE(CalYear,1,10))=1,CHOOSE(WEEKDAY(DATE(CalYear,1,10)),"S","M","T","W","T","F","S"),"") -> 0 | M4: =IF(MONTH(DATE(CalYear,1,11))=1,CHOOSE(WEEKDAY(DATE(CalYear,1,11)),"S","M","T","W","T","F","S"),"") -> 0 | N4: =IF(MONTH(DATE(CalYear,1,12))=1,CHOOSE(WEEKDAY(DATE(CalYear,1,12)),"S","M","T","W","T","F","S"),"") -> 0 | O4: =IF(MONTH(DATE(CalYear,1,13))=1,CHOOSE(WEEKDAY(DATE(CalYear,1,13)),"S","M","T","W","T","F","S"),"") -> 0 | P4: =IF(MONTH(DATE(CalYear,1,14))=1,CHOOSE(WEEKDAY(DATE(CalYear,1,14)),"S","M","T","W","T","F","S"),"") -> 0 | Q4: =IF(MONTH(DATE(CalYear,1,15))=1,CHOOSE(WEEKDAY(DATE(CalYear,1,15)),"S","M","T","W","T","F","S"),"") -> 0 | R4: =IF(MONTH(DATE(CalYear,1,16))=1,CHOOSE(WEEKDAY(DATE(CalYear,1,16)),"S","M","T","W","T","F","S"),"") -> 0 | S4: =IF(MONTH(DATE(CalYear,1,17))=1,CHOOSE(WEEKDAY(DATE(CalYear,1,17)),"S","M","T","W","T","F","S"),"") -> 0 | T4: =IF(MONTH(DATE(CalYear,1,18))=1,CHOOSE(WEEKDAY(DATE(CalYear,1,18)),"S","M","T","W","T","F","S"),"") -> 0 | U4: =IF(MONTH(DATE(CalYear,1,19))=1,CHOOSE(WEEKDAY(DATE(CalYear,1,19)),"S","M","T","W","T","F","S"),"") -> 0 | V4: =IF(MONTH(DATE(CalYear,1,20))=1,CHOOSE(WEEKDAY(DATE(CalYear,1,20)),"S","M","T","W","T","F","S"),"") -> 0 | W4: =IF(MONTH(DATE(CalYear,1,21))=1,CHOOSE(WEEKDAY(DATE(CalYear,1,21)),"S","M","T","W","T","F","S"),"") -> 0 | X4: =IF(MONTH(DATE(CalYear,1,22))=1,CHOOSE(WEEKDAY(DATE(CalYear,1,22)),"S","M","T","W","T","F","S"),"") -> 0 | Y4: =IF(MONTH(DATE(CalYear,1,23))=1,CHOOSE(WEEKDAY(DATE(CalYear,1,23)),"S","M","T","W","T","F","S"),"") -> 0 | Z4: =IF(MONTH(DATE(CalYear,1,24))=1,CHOOSE(WEEKDAY(DATE(CalYear,1,24)),"S","M","T","W","T","F","S"),"") -> 0 | AA4: =IF(MONTH(DATE(CalYear,1,25))=1,CHOOSE(WEEKDAY(DATE(CalYear,1,25)),"S","M","T","W","T","F","S"),"") -> 0 | AB4: =IF(MONTH(DATE(CalYear,1,26))=1,CHOOSE(WEEKDAY(DATE(CalYear,1,26)),"S","M","T","W","T","F","S"),"") -> 0 | AC4: =IF(MONTH(DATE(CalYear,1,27))=1,CHOOSE(WEEKDAY(DATE(CalYear,1,27)),"S","M","T","W","T","F","S"),"") -> 0 | AD4: =IF(MONTH(DATE(CalYear,1,28))=1,CHOOSE(WEEKDAY(DATE(CalYear,1,28)),"S","M","T","W","T","F","S"),"") -> 0 | AE4: =IF(MONTH(DATE(CalYear,1,29))=1,CHOOSE(WEEKDAY(DATE(CalYear,1,29)),"S","M","T","W","T","F","S"),"") -> 0 | AF4: =IF(MONTH(DATE(CalYear,1,30))=1,CHOOSE(WEEKDAY(DATE(CalYear,1,30)),"S","M","T","W","T","F","S"),"") -> 0 | AG4: =IF(MONTH(DATE(CalYear,1,31))=1,CHOOSE(WEEKDAY(DATE(CalYear,1,31)),"S","M","T","W","T","F","S"),"") -> 0 | AI4: VAC | AJ4: SICK | AK4: PERS | AL4: OTHER | AM4: TOTAL
B5: EMPLOYEE | C5: =IF(MONTH(DATE(CalYear,1,1))=1,1,"") -> 0 | D5: =IF(MONTH(DATE(CalYear,1,2))=1,2,"") -> 0 | E5: =IF(MONTH(DATE(CalYear,1,3))=1,3,"") -> 0 | F5: =IF(MONTH(DATE(CalYear,1,4))=1,4,"") -> 0 | G5: =IF(MONTH(DATE(CalYear,1,5))=1,5,"") -> 0 | H5: =IF(MONTH(DATE(CalYear,1,6))=1,6,"") -> 0 | I5: =IF(MONTH(DATE(CalYear,1,7))=1,7,"") -> 0 | J5: =IF(MONTH(DATE(CalYear,1,8))=1,8,"") -> 0 | K5: =IF(MONTH(DATE(CalYear,1,9))=1,9,"") -> 0 | L5: =IF(MONTH(DATE(CalYear,1,10))=1,10,"") -> 0 | M5: =IF(MONTH(DATE(CalYear,1,11))=1,11,"") -> 0 | N5: =IF(MONTH(DATE(CalYear,1,12))=1,12,"") -> 0 | O5: =IF(MONTH(DATE(CalYear,1,13))=1,13,"") -> 0 | P5: =IF(MONTH(DATE(CalYear,1,14))=1,14,"") -> 0 | Q5: =IF(MONTH(DATE(CalYear,1,15))=1,15,"") -> 0 | R5: =IF(MONTH(DATE(CalYear,1,16))=1,16,"") -> 0 | S5: =IF(MONTH(DATE(CalYear,1,17))=1,17,"") -> 0 | T5: =IF(MONTH(DATE(CalYear,1,18))=1,18,"") -> 0 | U5: =IF(MONTH(DATE(CalYear,1,19))=1,19,"") -> 0 | V5: =IF(MONTH(DATE(CalYear,1,20))=1,20,"") -> 0 | W5: =IF(MONTH(DATE(CalYear,1,21))=1,21,"") -> 0 | X5: =IF(MONTH(DATE(CalYear,1,22))=1,22,"") -> 0 | Y5: =IF(MONTH(DATE(CalYear,1,23))=1,23,"") -> 0 | Z5: =IF(MONTH(DATE(CalYear,1,24))=1,24,"") -> 0 | AA5: =IF(MONTH(DATE(CalYear,1,25))=1,25,"") -> 0 | AB5: =IF(MONTH(DATE(CalYear,1,26))=1,26,"") -> 0 | AC5: =IF(MONTH(DATE(CalYear,1,27))=1,27,"") -> 0 | AD5: =IF(MONTH(DATE(CalYear,1,28))=1,28,"") -> 0 | AE5: =IF(MONTH(DATE(CalYear,1,29))=1,29,"") -> 0 | AF5: =IF(MONTH(DATE(CalYear,1,30))=1,30,"") -> 0 | AG5: =IF(MONTH(DATE(CalYear,1,31))=1,31,"") -> 0
B6: =IF(Summary!B6="","",Summary!B6) -> 0 | F6: V | G6: V | H6: V | I6: V | J6: V | AC6: T | AI6: =SUMPRODUCT(COUNTIF(C6:AG6,Codes)*(Codes<>"")*(CodeBucket="Vacation")*CodeDays) -> 0 | AJ6: =SUMPRODUCT(COUNTIF(C6:AG6,Codes)*(Codes<>"")*(CodeBucket="Sick")*CodeDays) -> 0 | AK6: =SUMPRODUCT(COUNTIF(C6:AG6,Codes)*(Codes<>"")*(CodeBucket="Personal")*CodeDays) -> 0 | AL6: =SUMPRODUCT(COUNTIF(C6:AG6,Codes)*(Codes<>"")*(CodeBucket="Other")*CodeDays) -> 0 | AM6: =SUM(AI6:AL6) -> 0
B7: =IF(Summary!B7="","",Summary!B7) -> 0 | O7: S | P7: HS | AI7: =SUMPRODUCT(COUNTIF(C7:AG7,Codes)*(Codes<>"")*(CodeBucket="Vacation")*CodeDays) -> 0 | AJ7: =SUMPRODUCT(COUNTIF(C7:AG7,Codes)*(Codes<>"")*(CodeBucket="Sick")*CodeDays) -> 0 | AK7: =SUMPRODUCT(COUNTIF(C7:AG7,Codes)*(Codes<>"")*(CodeBucket="Personal")*CodeDays) -> 0 | AL7: =SUMPRODUCT(COUNTIF(C7:AG7,Codes)*(Codes<>"")*(CodeBucket="Other")*CodeDays) -> 0 | AM7: =SUM(AI7:AL7) -> 0
B8: =IF(Summary!B8="","",Summary!B8) -> 0 | X8: P | AE8: HV | AI8: =SUMPRODUCT(COUNTIF(C8:AG8,Codes)*(Codes<>"")*(CodeBucket="Vacation")*CodeDays) -> 0 | AJ8: =SUMPRODUCT(COUNTIF(C8:AG8,Codes)*(Codes<>"")*(CodeBucket="Sick")*CodeDays) -> 0 | AK8: =SUMPRODUCT(COUNTIF(C8:AG8,Codes)*(Codes<>"")*(CodeBucket="Personal")*CodeDays) -> 0 | AL8: =SUMPRODUCT(COUNTIF(C8:AG8,Codes)*(Codes<>"")*(CodeBucket="Other")*CodeDays) -> 0 | AM8: =SUM(AI8:AL8) -> 0
B9: =IF(Summary!B9="","",Summary!B9) -> 0 | AI9: =SUMPRODUCT(COUNTIF(C9:AG9,Codes)*(Codes<>"")*(CodeBucket="Vacation")*CodeDays) -> 0 | AJ9: =SUMPRODUCT(COUNTIF(C9:AG9,Codes)*(Codes<>"")*(CodeBucket="Sick")*CodeDays) -> 0 | AK9: =SUMPRODUCT(COUNTIF(C9:AG9,Codes)*(Codes<>"")*(CodeBucket="Personal")*CodeDays) -> 0 | AL9: =SUMPRODUCT(COUNTIF(C9:AG9,Codes)*(Codes<>"")*(CodeBucket="Other")*CodeDays) -> 0 | AM9: =SUM(AI9:AL9) -> 0
B10: =IF(Summary!B10="","",Summary!B10) -> 0 | AI10: =SUMPRODUCT(COUNTIF(C10:AG10,Codes)*(Codes<>"")*(CodeBucket="Vacation")*CodeDays) -> 0 | AJ10: =SUMPRODUCT(COUNTIF(C10:AG10,Codes)*(Codes<>"")*(CodeBucket="Sick")*CodeDays) -> 0 | AK10: =SUMPRODUCT(COUNTIF(C10:AG10,Codes)*(Codes<>"")*(CodeBucket="Personal")*CodeDays) -> 0 | AL10: =SUMPRODUCT(COUNTIF(C10:AG10,Codes)*(Codes<>"")*(CodeBucket="Other")*CodeDays) -> 0 | AM10: =SUM(AI10:AL10) -> 0
B11: =IF(Summary!B11="","",Summary!B11) -> 0 | AI11: =SUMPRODUCT(COUNTIF(C11:AG11,Codes)*(Codes<>"")*(CodeBucket="Vacation")*CodeDays) -> 0 | AJ11: =SUMPRODUCT(COUNTIF(C11:AG11,Codes)*(Codes<>"")*(CodeBucket="Sick")*CodeDays) -> 0 | AK11: =SUMPRODUCT(COUNTIF(C11:AG11,Codes)*(Codes<>"")*(CodeBucket="Personal")*CodeDays) -> 0 | AL11: =SUMPRODUCT(COUNTIF(C11:AG11,Codes)*(Codes<>"")*(CodeBucket="Other")*CodeDays) -> 0 | AM11: =SUM(AI11:AL11) -> 0
B12: =IF(Summary!B12="","",Summary!B12) -> 0 | AI12: =SUMPRODUCT(COUNTIF(C12:AG12,Codes)*(Codes<>"")*(CodeBucket="Vacation")*CodeDays) -> 0 | AJ12: =SUMPRODUCT(COUNTIF(C12:AG12,Codes)*(Codes<>"")*(CodeBucket="Sick")*CodeDays) -> 0 | AK12: =SUMPRODUCT(COUNTIF(C12:AG12,Codes)*(Codes<>"")*(CodeBucket="Personal")*CodeDays) -> 0 | AL12: =SUMPRODUCT(COUNTIF(C12:AG12,Codes)*(Codes<>"")*(CodeBucket="Other")*CodeDays) -> 0 | AM12: =SUM(AI12:AL12) -> 0
B13: =IF(Summary!B13="","",Summary!B13) -> 0 | AI13: =SUMPRODUCT(COUNTIF(C13:AG13,Codes)*(Codes<>"")*(CodeBucket="Vacation")*CodeDays) -> 0 | AJ13: =SUMPRODUCT(COUNTIF(C13:AG13,Codes)*(Codes<>"")*(CodeBucket="Sick")*CodeDays) -> 0 | AK13: =SUMPRODUCT(COUNTIF(C13:AG13,Codes)*(Codes<>"")*(CodeBucket="Personal")*CodeDays) -> 0 | AL13: =SUMPRODUCT(COUNTIF(C13:AG13,Codes)*(Codes<>"")*(CodeBucket="Other")*CodeDays) -> 0 | AM13: =SUM(AI13:AL13) -> 0
B14: =IF(Summary!B14="","",Summary!B14) -> 0 | AI14: =SUMPRODUCT(COUNTIF(C14:AG14,Codes)*(Codes<>"")*(CodeBucket="Vacation")*CodeDays) -> 0 | AJ14: =SUMPRODUCT(COUNTIF(C14:AG14,Codes)*(Codes<>"")*(CodeBucket="Sick")*CodeDays) -> 0 | AK14: =SUMPRODUCT(COUNTIF(C14:AG14,Codes)*(Codes<>"")*(CodeBucket="Personal")*CodeDays) -> 0 | AL14: =SUMPRODUCT(COUNTIF(C14:AG14,Codes)*(Codes<>"")*(CodeBucket="Other")*CodeDays) -> 0 | AM14: =SUM(AI14:AL14) -> 0
B15: =IF(Summary!B15="","",Summary!B15) -> 0 | AI15: =SUMPRODUCT(COUNTIF(C15:AG15,Codes)*(Codes<>"")*(CodeBucket="Vacation")*CodeDays) -> 0 | AJ15: =SUMPRODUCT(COUNTIF(C15:AG15,Codes)*(Codes<>"")*(CodeBucket="Sick")*CodeDays) -> 0 | AK15: =SUMPRODUCT(COUNTIF(C15:AG15,Codes)*(Codes<>"")*(CodeBucket="Personal")*CodeDays) -> 0 | AL15: =SUMPRODUCT(COUNTIF(C15:AG15,Codes)*(Codes<>"")*(CodeBucket="Other")*CodeDays) -> 0 | AM15: =SUM(AI15:AL15) -> 0
B16: =IF(Summary!B16="","",Summary!B16) -> 0 | AI16: =SUMPRODUCT(COUNTIF(C16:AG16,Codes)*(Codes<>"")*(CodeBucket="Vacation")*CodeDays) -> 0 | AJ16: =SUMPRODUCT(COUNTIF(C16:AG16,Codes)*(Codes<>"")*(CodeBucket="Sick")*CodeDays) -> 0 | AK16: =SUMPRODUCT(COUNTIF(C16:AG16,Codes)*(Codes<>"")*(CodeBucket="Personal")*CodeDays) -> 0 | AL16: =SUMPRODUCT(COUNTIF(C16:AG16,Codes)*(Codes<>"")*(CodeBucket="Other")*CodeDays) -> 0 | AM16: =SUM(AI16:AL16) -> 0
B17: =IF(Summary!B17="","",Summary!B17) -> 0 | AI17: =SUMPRODUCT(COUNTIF(C17:AG17,Codes)*(Codes<>"")*(CodeBucket="Vacation")*CodeDays) -> 0 | AJ17: =SUMPRODUCT(COUNTIF(C17:AG17,Codes)*(Codes<>"")*(CodeBucket="Sick")*CodeDays) -> 0 | AK17: =SUMPRODUCT(COUNTIF(C17:AG17,Codes)*(Codes<>"")*(CodeBucket="Personal")*CodeDays) -> 0 | AL17: =SUMPRODUCT(COUNTIF(C17:AG17,Codes)*(Codes<>"")*(CodeBucket="Other")*CodeDays) -> 0 | AM17: =SUM(AI17:AL17) -> 0
B18: =IF(Summary!B18="","",Summary!B18) -> 0 | AI18: =SUMPRODUCT(COUNTIF(C18:AG18,Codes)*(Codes<>"")*(CodeBucket="Vacation")*CodeDays) -> 0 | AJ18: =SUMPRODUCT(COUNTIF(C18:AG18,Codes)*(Codes<>"")*(CodeBucket="Sick")*CodeDays) -> 0 | AK18: =SUMPRODUCT(COUNTIF(C18:AG18,Codes)*(Codes<>"")*(CodeBucket="Personal")*CodeDays) -> 0 | AL18: =SUMPRODUCT(COUNTIF(C18:AG18,Codes)*(Codes<>"")*(CodeBucket="Other")*CodeDays) -> 0 | AM18: =SUM(AI18:AL18) -> 0
B19: =IF(Summary!B19="","",Summary!B19) -> 0 | AI19: =SUMPRODUCT(COUNTIF(C19:AG19,Codes)*(Codes<>"")*(CodeBucket="Vacation")*CodeDays) -> 0 | AJ19: =SUMPRODUCT(COUNTIF(C19:AG19,Codes)*(Codes<>"")*(CodeBucket="Sick")*CodeDays) -> 0 | AK19: =SUMPRODUCT(COUNTIF(C19:AG19,Codes)*(Codes<>"")*(CodeBucket="Personal")*CodeDays) -> 0 | AL19: =SUMPRODUCT(COUNTIF(C19:AG19,Codes)*(Codes<>"")*(CodeBucket="Other")*CodeDays) -> 0 | AM19: =SUM(AI19:AL19) -> 0
B20: =IF(Summary!B20="","",Summary!B20) -> 0 | AI20: =SUMPRODUCT(COUNTIF(C20:AG20,Codes)*(Codes<>"")*(CodeBucket="Vacation")*CodeDays) -> 0 | AJ20: =SUMPRODUCT(COUNTIF(C20:AG20,Codes)*(Codes<>"")*(CodeBucket="Sick")*CodeDays) -> 0 | AK20: =SUMPRODUCT(COUNTIF(C20:AG20,Codes)*(Codes<>"")*(CodeBucket="Personal")*CodeDays) -> 0 | AL20: =SUMPRODUCT(COUNTIF(C20:AG20,Codes)*(Codes<>"")*(CodeBucket="Other")*CodeDays) -> 0 | AM20: =SUM(AI20:AL20) -> 0
... B30: =IF(Summary!B30="","",Summary!B30) -> 0 | AI30: =SUMPRODUCT(COUNTIF(C30:AG30,Codes)*(Codes<>"")*(CodeBucket="Vacation")*CodeDays) -> 0 | AJ30: =SUMPRODUCT(COUNTIF(C30:AG30,Codes)*(Codes<>"")*(CodeBucket="Sick")*CodeDays) -> 0 | AK30: =SUMPRODUCT(COUNTIF(C30:AG30,Codes)*(Codes<>"")*(CodeBucket="Personal")*CodeDays) -> 0 | AL30: =SUMPRODUCT(COUNTIF(C30:AG30,Codes)*(Codes<>"")*(CodeBucket="Other")*CodeDays) -> 0 | AM30: =SUM(AI30:AL30) -> 0
B31: Out today | C31: =IF(COUNTA(C6:C30)=0,"",COUNTA(C6:C30)) -> 0 | D31: =IF(COUNTA(D6:D30)=0,"",COUNTA(D6:D30)) -> 0 | E31: =IF(COUNTA(E6:E30)=0,"",COUNTA(E6:E30)) -> 0 | F31: =IF(COUNTA(F6:F30)=0,"",COUNTA(F6:F30)) -> 0 | G31: =IF(COUNTA(G6:G30)=0,"",COUNTA(G6:G30)) -> 0 | H31: =IF(COUNTA(H6:H30)=0,"",COUNTA(H6:H30)) -> 0 | I31: =IF(COUNTA(I6:I30)=0,"",COUNTA(I6:I30)) -> 0 | J31: =IF(COUNTA(J6:J30)=0,"",COUNTA(J6:J30)) -> 0 | ... AG31: =IF(COUNTA(AG6:AG30)=0,"",COUNTA(AG6:AG30)) -> 0
B33: Blue columns = holidays (Holidays tab) · niftyshelf.com

Sheet Feb
B2: February | J2: =CalYear -> 0 | P2: ="Codes: "&Setup!B9&" "&Setup!C9&" · "&Setup!B10&" "&Setup!C10&" · "&Setup!B11&" "&Setup!C11&" · "&Setup!B13&" "&Setup!C13&" · "&Setup!B15&" "&Setup!C15&" (full list on Setup)" -> 0
C4: =IF(MONTH(DATE(CalYear,2,1))=2,CHOOSE(WEEKDAY(DATE(CalYear,2,1)),"S","M","T","W","T","F","S"),"") -> 0 | D4: =IF(MONTH(DATE(CalYear,2,2))=2,CHOOSE(WEEKDAY(DATE(CalYear,2,2)),"S","M","T","W","T","F","S"),"") -> 0 | E4: =IF(MONTH(DATE(CalYear,2,3))=2,CHOOSE(WEEKDAY(DATE(CalYear,2,3)),"S","M","T","W","T","F","S"),"") -> 0 | F4: =IF(MONTH(DATE(CalYear,2,4))=2,CHOOSE(WEEKDAY(DATE(CalYear,2,4)),"S","M","T","W","T","F","S"),"") -> 0 | G4: =IF(MONTH(DATE(CalYear,2,5))=2,CHOOSE(WEEKDAY(DATE(CalYear,2,5)),"S","M","T","W","T","F","S"),"") -> 0 | H4: =IF(MONTH(DATE(CalYear,2,6))=2,CHOOSE(WEEKDAY(DATE(CalYear,2,6)),"S","M","T","W","T","F","S"),"") -> 0 | I4: =IF(MONTH(DATE(CalYear,2,7))=2,CHOOSE(WEEKDAY(DATE(CalYear,2,7)),"S","M","T","W","T","F","S"),"") -> 0 | J4: =IF(MONTH(DATE(CalYear,2,8))=2,CHOOSE(WEEKDAY(DATE(CalYear,2,8)),"S","M","T","W","T","F","S"),"") -> 0 | K4: =IF(MONTH(DATE(CalYear,2,9))=2,CHOOSE(WEEKDAY(DATE(CalYear,2,9)),"S","M","T","W","T","F","S"),"") -> 0 | L4: =IF(MONTH(DATE(CalYear,2,10))=2,CHOOSE(WEEKDAY(DATE(CalYear,2,10)),"S","M","T","W","T","F","S"),"") -> 0 | M4: =IF(MONTH(DATE(CalYear,2,11))=2,CHOOSE(WEEKDAY(DATE(CalYear,2,11)),"S","M","T","W","T","F","S"),"") -> 0 | N4: =IF(MONTH(DATE(CalYear,2,12))=2,CHOOSE(WEEKDAY(DATE(CalYear,2,12)),"S","M","T","W","T","F","S"),"") -> 0 | O4: =IF(MONTH(DATE(CalYear,2,13))=2,CHOOSE(WEEKDAY(DATE(CalYear,2,13)),"S","M","T","W","T","F","S"),"") -> 0 | P4: =IF(MONTH(DATE(CalYear,2,14))=2,CHOOSE(WEEKDAY(DATE(CalYear,2,14)),"S","M","T","W","T","F","S"),"") -> 0 | Q4: =IF(MONTH(DATE(CalYear,2,15))=2,CHOOSE(WEEKDAY(DATE(CalYear,2,15)),"S","M","T","W","T","F","S"),"") -> 0 | R4: =IF(MONTH(DATE(CalYear,2,16))=2,CHOOSE(WEEKDAY(DATE(CalYear,2,16)),"S","M","T","W","T","F","S"),"") -> 0 | S4: =IF(MONTH(DATE(CalYear,2,17))=2,CHOOSE(WEEKDAY(DATE(CalYear,2,17)),"S","M","T","W","T","F","S"),"") -> 0 | T4: =IF(MONTH(DATE(CalYear,2,18))=2,CHOOSE(WEEKDAY(DATE(CalYear,2,18)),"S","M","T","W","T","F","S"),"") -> 0 | U4: =IF(MONTH(DATE(CalYear,2,19))=2,CHOOSE(WEEKDAY(DATE(CalYear,2,19)),"S","M","T","W","T","F","S"),"") -> 0 | V4: =IF(MONTH(DATE(CalYear,2,20))=2,CHOOSE(WEEKDAY(DATE(CalYear,2,20)),"S","M","T","W","T","F","S"),"") -> 0 | W4: =IF(MONTH(DATE(CalYear,2,21))=2,CHOOSE(WEEKDAY(DATE(CalYear,2,21)),"S","M","T","W","T","F","S"),"") -> 0 | X4: =IF(MONTH(DATE(CalYear,2,22))=2,CHOOSE(WEEKDAY(DATE(CalYear,2,22)),"S","M","T","W","T","F","S"),"") -> 0 | Y4: =IF(MONTH(DATE(CalYear,2,23))=2,CHOOSE(WEEKDAY(DATE(CalYear,2,23)),"S","M","T","W","T","F","S"),"") -> 0 | Z4: =IF(MONTH(DATE(CalYear,2,24))=2,CHOOSE(WEEKDAY(DATE(CalYear,2,24)),"S","M","T","W","T","F","S"),"") -> 0 | AA4: =IF(MONTH(DATE(CalYear,2,25))=2,CHOOSE(WEEKDAY(DATE(CalYear,2,25)),"S","M","T","W","T","F","S"),"") -> 0 | AB4: =IF(MONTH(DATE(CalYear,2,26))=2,CHOOSE(WEEKDAY(DATE(CalYear,2,26)),"S","M","T","W","T","F","S"),"") -> 0 | AC4: =IF(MONTH(DATE(CalYear,2,27))=2,CHOOSE(WEEKDAY(DATE(CalYear,2,27)),"S","M","T","W","T","F","S"),"") -> 0 | AD4: =IF(MONTH(DATE(CalYear,2,28))=2,CHOOSE(WEEKDAY(DATE(CalYear,2,28)),"S","M","T","W","T","F","S"),"") -> 0 | AE4: =IF(MONTH(DATE(CalYear,2,29))=2,CHOOSE(WEEKDAY(DATE(CalYear,2,29)),"S","M","T","W","T","F","S"),"") -> 0 | AF4: =IF(MONTH(DATE(CalYear,2,30))=2,CHOOSE(WEEKDAY(DATE(CalYear,2,30)),"S","M","T","W","T","F","S"),"") -> 0 | AG4: =IF(MONTH(DATE(CalYear,2,31))=2,CHOOSE(WEEKDAY(DATE(CalYear,2,31)),"S","M","T","W","T","F","S"),"") -> 0 | AI4: VAC | AJ4: SICK | AK4: PERS | AL4: OTHER | AM4: TOTAL
B5: EMPLOYEE | C5: =IF(MONTH(DATE(CalYear,2,1))=2,1,"") -> 0 | D5: =IF(MONTH(DATE(CalYear,2,2))=2,2,"") -> 0 | E5: =IF(MONTH(DATE(CalYear,2,3))=2,3,"") -> 0 | F5: =IF(MONTH(DATE(CalYear,2,4))=2,4,"") -> 0 | G5: =IF(MONTH(DATE(CalYear,2,5))=2,5,"") -> 0 | H5: =IF(MONTH(DATE(CalYear,2,6))=2,6,"") -> 0 | I5: =IF(MONTH(DATE(CalYear,2,7))=2,7,"") -> 0 | J5: =IF(MONTH(DATE(CalYear,2,8))=2,8,"") -> 0 | K5: =IF(MONTH(DATE(CalYear,2,9))=2,9,"") -> 0 | L5: =IF(MONTH(DATE(CalYear,2,10))=2,10,"") -> 0 | M5: =IF(MONTH(DATE(CalYear,2,11))=2,11,"") -> 0 | N5: =IF(MONTH(DATE(CalYear,2,12))=2,12,"") -> 0 | O5: =IF(MONTH(DATE(CalYear,2,13))=2,13,"") -> 0 | P5: =IF(MONTH(DATE(CalYear,2,14))=2,14,"") -> 0 | Q5: =IF(MONTH(DATE(CalYear,2,15))=2,15,"") -> 0 | R5: =IF(MONTH(DATE(CalYear,2,16))=2,16,"") -> 0 | S5: =IF(MONTH(DATE(CalYear,2,17))=2,17,"") -> 0 | T5: =IF(MONTH(DATE(CalYear,2,18))=2,18,"") -> 0 | U5: =IF(MONTH(DATE(CalYear,2,19))=2,19,"") -> 0 | V5: =IF(MONTH(DATE(CalYear,2,20))=2,20,"") -> 0 | W5: =IF(MONTH(DATE(CalYear,2,21))=2,21,"") -> 0 | X5: =IF(MONTH(DATE(CalYear,2,22))=2,22,"") -> 0 | Y5: =IF(MONTH(DATE(CalYear,2,23))=2,23,"") -> 0 | Z5: =IF(MONTH(DATE(CalYear,2,24))=2,24,"") -> 0 | AA5: =IF(MONTH(DATE(CalYear,2,25))=2,25,"") -> 0 | AB5: =IF(MONTH(DATE(CalYear,2,26))=2,26,"") -> 0 | AC5: =IF(MONTH(DATE(CalYear,2,27))=2,27,"") -> 0 | AD5: =IF(MONTH(DATE(CalYear,2,28))=2,28,"") -> 0 | AE5: =IF(MONTH(DATE(CalYear,2,29))=2,29,"") -> 0 | AF5: =IF(MONTH(DATE(CalYear,2,30))=2,30,"") -> 0 | AG5: =IF(MONTH(DATE(CalYear,2,31))=2,31,"") -> 0
B6: =IF(Summary!B6="","",Summary!B6) -> 0 | AI6: =SUMPRODUCT(COUNTIF(C6:AG6,Codes)*(Codes<>"")*(CodeBucket="Vacation")*CodeDays) -> 0 | AJ6: =SUMPRODUCT(COUNTIF(C6:AG6,Codes)*(Codes<>"")*(CodeBucket="Sick")*CodeDays) -> 0 | AK6: =SUMPRODUCT(COUNTIF(C6:AG6,Codes)*(Codes<>"")*(CodeBucket="Personal")*CodeDays) -> 0 | AL6: =SUMPRODUCT(COUNTIF(C6:AG6,Codes)*(Codes<>"")*(CodeBucket="Other")*CodeDays) -> 0 | AM6: =SUM(AI6:AL6) -> 0
B7: =IF(Summary!B7="","",Summary!B7) -> 0 | R7: V | S7: V | T7: V | U7: V | AI7: =SUMPRODUCT(COUNTIF(C7:AG7,Codes)*(Codes<>"")*(CodeBucket="Vacation")*CodeDays) -> 0 | AJ7: =SUMPRODUCT(COUNTIF(C7:AG7,Codes)*(Codes<>"")*(CodeBucket="Sick")*CodeDays) -> 0 | AK7: =SUMPRODUCT(COUNTIF(C7:AG7,Codes)*(Codes<>"")*(CodeBucket="Personal")*CodeDays) -> 0 | AL7: =SUMPRODUCT(COUNTIF(C7:AG7,Codes)*(Codes<>"")*(CodeBucket="Other")*CodeDays) -> 0 | AM7: =SUM(AI7:AL7) -> 0
B8: =IF(Summary!B8="","",Summary!B8) -> 0 | AB8: S | AI8: =SUMPRODUCT(COUNTIF(C8:AG8,Codes)*(Codes<>"")*(CodeBucket="Vacation")*CodeDays) -> 0 | AJ8: =SUMPRODUCT(COUNTIF(C8:AG8,Codes)*(Codes<>"")*(CodeBucket="Sick")*CodeDays) -> 0 | AK8: =SUMPRODUCT(COUNTIF(C8:AG8,Codes)*(Codes<>"")*(CodeBucket="Personal")*CodeDays) -> 0 | AL8: =SUMPRODUCT(COUNTIF(C8:AG8,Codes)*(Codes<>"")*(CodeBucket="Other")*CodeDays) -> 0 | AM8: =SUM(AI8:AL8) -> 0
B9: =IF(Summary!B9="","",Summary!B9) -> 0 | AI9: =SUMPRODUCT(COUNTIF(C9:AG9,Codes)*(Codes<>"")*(CodeBucket="Vacation")*CodeDays) -> 0 | AJ9: =SUMPRODUCT(COUNTIF(C9:AG9,Codes)*(Codes<>"")*(CodeBucket="Sick")*CodeDays) -> 0 | AK9: =SUMPRODUCT(COUNTIF(C9:AG9,Codes)*(Codes<>"")*(CodeBucket="Personal")*CodeDays) -> 0 | AL9: =SUMPRODUCT(COUNTIF(C9:AG9,Codes)*(Codes<>"")*(CodeBucket="Other")*CodeDays) -> 0 | AM9: =SUM(AI9:AL9) -> 0
B10: =IF(Summary!B10="","",Summary!B10) -> 0 | AI10: =SUMPRODUCT(COUNTIF(C10:AG10,Codes)*(Codes<>"")*(CodeBucket="Vacation")*CodeDays) -> 0 | AJ10: =SUMPRODUCT(COUNTIF(C10:AG10,Codes)*(Codes<>"")*(CodeBucket="Sick")*CodeDays) -> 0 | AK10: =SUMPRODUCT(COUNTIF(C10:AG10,Codes)*(Codes<>"")*(CodeBucket="Personal")*CodeDays) -> 0 | AL10: =SUMPRODUCT(COUNTIF(C10:AG10,Codes)*(Codes<>"")*(CodeBucket="Other")*CodeDays) -> 0 | AM10: =SUM(AI10:AL10) -> 0
B11: =IF(Summary!B11="","",Summary!B11) -> 0 | AI11: =SUMPRODUCT(COUNTIF(C11:AG11,Codes)*(Codes<>"")*(CodeBucket="Vacation")*CodeDays) -> 0 | AJ11: =SUMPRODUCT(COUNTIF(C11:AG11,Codes)*(Codes<>"")*(CodeBucket="Sick")*CodeDays) -> 0 | AK11: =SUMPRODUCT(COUNTIF(C11:AG11,Codes)*(Codes<>"")*(CodeBucket="Personal")*CodeDays) -> 0 | AL11: =SUMPRODUCT(COUNTIF(C11:AG11,Codes)*(Codes<>"")*(CodeBucket="Other")*CodeDays) -> 0 | AM11: =SUM(AI11:AL11) -> 0
B12: =IF(Summary!B12="","",Summary!B12) -> 0 | AI12: =SUMPRODUCT(COUNTIF(C12:AG12,Codes)*(Codes<>"")*(CodeBucket="Vacation")*CodeDays) -> 0 | AJ12: =SUMPRODUCT(COUNTIF(C12:AG12,Codes)*(Codes<>"")*(CodeBucket="Sick")*CodeDays) -> 0 | AK12: =SUMPRODUCT(COUNTIF(C12:AG12,Codes)*(Codes<>"")*(CodeBucket="Personal")*CodeDays) -> 0 | AL12: =SUMPRODUCT(COUNTIF(C12:AG12,Codes)*(Codes<>"")*(CodeBucket="Other")*CodeDays) -> 0 | AM12: =SUM(AI12:AL12) -> 0
B13: =IF(Summary!B13="","",Summary!B13) -> 0 | AI13: =SUMPRODUCT(COUNTIF(C13:AG13,Codes)*(Codes<>"")*(CodeBucket="Vacation")*CodeDays) -> 0 | AJ13: =SUMPRODUCT(COUNTIF(C13:AG13,Codes)*(Codes<>"")*(CodeBucket="Sick")*CodeDays) -> 0 | AK13: =SUMPRODUCT(COUNTIF(C13:AG13,Codes)*(Codes<>"")*(CodeBucket="Personal")*CodeDays) -> 0 | AL13: =SUMPRODUCT(COUNTIF(C13:AG13,Codes)*(Codes<>"")*(CodeBucket="Other")*CodeDays) -> 0 | AM13: =SUM(AI13:AL13) -> 0
B14: =IF(Summary!B14="","",Summary!B14) -> 0 | AI14: =SUMPRODUCT(COUNTIF(C14:AG14,Codes)*(Codes<>"")*(CodeBucket="Vacation")*CodeDays) -> 0 | AJ14: =SUMPRODUCT(COUNTIF(C14:AG14,Codes)*(Codes<>"")*(CodeBucket="Sick")*CodeDays) -> 0 | AK14: =SUMPRODUCT(COUNTIF(C14:AG14,Codes)*(Codes<>"")*(CodeBucket="Personal")*CodeDays) -> 0 | AL14: =SUMPRODUCT(COUNTIF(C14:AG14,Codes)*(Codes<>"")*(CodeBucket="Other")*CodeDays) -> 0 | AM14: =SUM(AI14:AL14) -> 0
B15: =IF(Summary!B15="","",Summary!B15) -> 0 | AI15: =SUMPRODUCT(COUNTIF(C15:AG15,Codes)*(Codes<>"")*(CodeBucket="Vacation")*CodeDays) -> 0 | AJ15: =SUMPRODUCT(COUNTIF(C15:AG15,Codes)*(Codes<>"")*(CodeBucket="Sick")*CodeDays) -> 0 | AK15: =SUMPRODUCT(COUNTIF(C15:AG15,Codes)*(Codes<>"")*(CodeBucket="Personal")*CodeDays) -> 0 | AL15: =SUMPRODUCT(COUNTIF(C15:AG15,Codes)*(Codes<>"")*(CodeBucket="Other")*CodeDays) -> 0 | AM15: =SUM(AI15:AL15) -> 0
B16: =IF(Summary!B16="","",Summary!B16) -> 0 | AI16: =SUMPRODUCT(COUNTIF(C16:AG16,Codes)*(Codes<>"")*(CodeBucket="Vacation")*CodeDays) -> 0 | AJ16: =SUMPRODUCT(COUNTIF(C16:AG16,Codes)*(Codes<>"")*(CodeBucket="Sick")*CodeDays) -> 0 | AK16: =SUMPRODUCT(COUNTIF(C16:AG16,Codes)*(Codes<>"")*(CodeBucket="Personal")*CodeDays) -> 0 | AL16: =SUMPRODUCT(COUNTIF(C16:AG16,Codes)*(Codes<>"")*(CodeBucket="Other")*CodeDays) -> 0 | AM16: =SUM(AI16:AL16) -> 0
B17: =IF(Summary!B17="","",Summary!B17) -> 0 | AI17: =SUMPRODUCT(COUNTIF(C17:AG17,Codes)*(Codes<>"")*(CodeBucket="Vacation")*CodeDays) -> 0 | AJ17: =SUMPRODUCT(COUNTIF(C17:AG17,Codes)*(Codes<>"")*(CodeBucket="Sick")*CodeDays) -> 0 | AK17: =SUMPRODUCT(COUNTIF(C17:AG17,Codes)*(Codes<>"")*(CodeBucket="Personal")*CodeDays) -> 0 | AL17: =SUMPRODUCT(COUNTIF(C17:AG17,Codes)*(Codes<>"")*(CodeBucket="Other")*CodeDays) -> 0 | AM17: =SUM(AI17:AL17) -> 0
B18: =IF(Summary!B18="","",Summary!B18) -> 0 | AI18: =SUMPRODUCT(COUNTIF(C18:AG18,Codes)*(Codes<>"")*(CodeBucket="Vacation")*CodeDays) -> 0 | AJ18: =SUMPRODUCT(COUNTIF(C18:AG18,Codes)*(Codes<>"")*(CodeBucket="Sick")*CodeDays) -> 0 | AK18: =SUMPRODUCT(COUNTIF(C18:AG18,Codes)*(Codes<>"")*(CodeBucket="Personal")*CodeDays) -> 0 | AL18: =SUMPRODUCT(COUNTIF(C18:AG18,Codes)*(Codes<>"")*(CodeBucket="Other")*CodeDays) -> 0 | AM18: =SUM(AI18:AL18) -> 0
B19: =IF(Summary!B19="","",Summary!B19) -> 0 | AI19: =SUMPRODUCT(COUNTIF(C19:AG19,Codes)*(Codes<>"")*(CodeBucket="Vacation")*CodeDays) -> 0 | AJ19: =SUMPRODUCT(COUNTIF(C19:AG19,Codes)*(Codes<>"")*(CodeBucket="Sick")*CodeDays) -> 0 | AK19: =SUMPRODUCT(COUNTIF(C19:AG19,Codes)*(Codes<>"")*(CodeBucket="Personal")*CodeDays) -> 0 | AL19: =SUMPRODUCT(COUNTIF(C19:AG19,Codes)*(Codes<>"")*(CodeBucket="Other")*CodeDays) -> 0 | AM19: =SUM(AI19:AL19) -> 0
B20: =IF(Summary!B20="","",Summary!B20) -> 0 | AI20: =SUMPRODUCT(COUNTIF(C20:AG20,Codes)*(Codes<>"")*(CodeBucket="Vacation")*CodeDays) -> 0 | AJ20: =SUMPRODUCT(COUNTIF(C20:AG20,Codes)*(Codes<>"")*(CodeBucket="Sick")*CodeDays) -> 0 | AK20: =SUMPRODUCT(COUNTIF(C20:AG20,Codes)*(Codes<>"")*(CodeBucket="Personal")*CodeDays) -> 0 | AL20: =SUMPRODUCT(COUNTIF(C20:AG20,Codes)*(Codes<>"")*(CodeBucket="Other")*CodeDays) -> 0 | AM20: =SUM(AI20:AL20) -> 0
... B30: =IF(Summary!B30="","",Summary!B30) -> 0 | AI30: =SUMPRODUCT(COUNTIF(C30:AG30,Codes)*(Codes<>"")*(CodeBucket="Vacation")*CodeDays) -> 0 | AJ30: =SUMPRODUCT(COUNTIF(C30:AG30,Codes)*(Codes<>"")*(CodeBucket="Sick")*CodeDays) -> 0 | AK30: =SUMPRODUCT(COUNTIF(C30:AG30,Codes)*(Codes<>"")*(CodeBucket="Personal")*CodeDays) -> 0 | AL30: =SUMPRODUCT(COUNTIF(C30:AG30,Codes)*(Codes<>"")*(CodeBucket="Other")*CodeDays) -> 0 | AM30: =SUM(AI30:AL30) -> 0
B31: Out today | C31: =IF(COUNTA(C6:C30)=0,"",COUNTA(C6:C30)) -> 0 | D31: =IF(COUNTA(D6:D30)=0,"",COUNTA(D6:D30)) -> 0 | E31: =IF(COUNTA(E6:E30)=0,"",COUNTA(E6:E30)) -> 0 | F31: =IF(COUNTA(F6:F30)=0,"",COUNTA(F6:F30)) -> 0 | G31: =IF(COUNTA(G6:G30)=0,"",COUNTA(G6:G30)) -> 0 | H31: =IF(COUNTA(H6:H30)=0,"",COUNTA(H6:H30)) -> 0 | I31: =IF(COUNTA(I6:I30)=0,"",COUNTA(I6:I30)) -> 0 | J31: =IF(COUNTA(J6:J30)=0,"",COUNTA(J6:J30)) -> 0 | ... AG31: =IF(COUNTA(AG6:AG30)=0,"",COUNTA(AG6:AG30)) -> 0
B33: Blue columns = holidays (Holidays tab) · niftyshelf.com

Sheet Mar
B2: March | J2: =CalYear -> 0 | P2: ="Codes: "&Setup!B9&" "&Setup!C9&" · "&Setup!B10&" "&Setup!C10&" · "&Setup!B11&" "&Setup!C11&" · "&Setup!B13&" "&Setup!C13&" · "&Setup!B15&" "&Setup!C15&" (full list on Setup)" -> 0
C4: =IF(MONTH(DATE(CalYear,3,1))=3,CHOOSE(WEEKDAY(DATE(CalYear,3,1)),"S","M","T","W","T","F","S"),"") -> 0 | D4: =IF(MONTH(DATE(CalYear,3,2))=3,CHOOSE(WEEKDAY(DATE(CalYear,3,2)),"S","M","T","W","T","F","S"),"") -> 0 | E4: =IF(MONTH(DATE(CalYear,3,3))=3,CHOOSE(WEEKDAY(DATE(CalYear,3,3)),"S","M","T","W","T","F","S"),"") -> 0 | F4: =IF(MONTH(DATE(CalYear,3,4))=3,CHOOSE(WEEKDAY(DATE(CalYear,3,4)),"S","M","T","W","T","F","S"),"") -> 0 | G4: =IF(MONTH(DATE(CalYear,3,5))=3,CHOOSE(WEEKDAY(DATE(CalYear,3,5)),"S","M","T","W","T","F","S"),"") -> 0 | H4: =IF(MONTH(DATE(CalYear,3,6))=3,CHOOSE(WEEKDAY(DATE(CalYear,3,6)),"S","M","T","W","T","F","S"),"") -> 0 | I4: =IF(MONTH(DATE(CalYear,3,7))=3,CHOOSE(WEEKDAY(DATE(CalYear,3,7)),"S","M","T","W","T","F","S"),"") -> 0 | J4: =IF(MONTH(DATE(CalYear,3,8))=3,CHOOSE(WEEKDAY(DATE(CalYear,3,8)),"S","M","T","W","T","F","S"),"") -> 0 | K4: =IF(MONTH(DATE(CalYear,3,9))=3,CHOOSE(WEEKDAY(DATE(CalYear,3,9)),"S","M","T","W","T","F","S"),"") -> 0 | L4: =IF(MONTH(DATE(CalYear,3,10))=3,CHOOSE(WEEKDAY(DATE(CalYear,3,10)),"S","M","T","W","T","F","S"),"") -> 0 | M4: =IF(MONTH(DATE(CalYear,3,11))=3,CHOOSE(WEEKDAY(DATE(CalYear,3,11)),"S","M","T","W","T","F","S"),"") -> 0 | N4: =IF(MONTH(DATE(CalYear,3,12))=3,CHOOSE(WEEKDAY(DATE(CalYear,3,12)),"S","M","T","W","T","F","S"),"") -> 0 | O4: =IF(MONTH(DATE(CalYear,3,13))=3,CHOOSE(WEEKDAY(DATE(CalYear,3,13)),"S","M","T","W","T","F","S"),"") -> 0 | P4: =IF(MONTH(DATE(CalYear,3,14))=3,CHOOSE(WEEKDAY(DATE(CalYear,3,14)),"S","M","T","W","T","F","S"),"") -> 0 | Q4: =IF(MONTH(DATE(CalYear,3,15))=3,CHOOSE(WEEKDAY(DATE(CalYear,3,15)),"S","M","T","W","T","F","S"),"") -> 0 | R4: =IF(MONTH(DATE(CalYear,3,16))=3,CHOOSE(WEEKDAY(DATE(CalYear,3,16)),"S","M","T","W","T","F","S"),"") -> 0 | S4: =IF(MONTH(DATE(CalYear,3,17))=3,CHOOSE(WEEKDAY(DATE(CalYear,3,17)),"S","M","T","W","T","F","S"),"") -> 0 | T4: =IF(MONTH(DATE(CalYear,3,18))=3,CHOOSE(WEEKDAY(DATE(CalYear,3,18)),"S","M","T","W","T","F","S"),"") -> 0 | U4: =IF(MONTH(DATE(CalYear,3,19))=3,CHOOSE(WEEKDAY(DATE(CalYear,3,19)),"S","M","T","W","T","F","S"),"") -> 0 | V4: =IF(MONTH(DATE(CalYear,3,20))=3,CHOOSE(WEEKDAY(DATE(CalYear,3,20)),"S","M","T","W","T","F","S"),"") -> 0 | W4: =IF(MONTH(DATE(CalYear,3,21))=3,CHOOSE(WEEKDAY(DATE(CalYear,3,21)),"S","M","T","W","T","F","S"),"") -> 0 | X4: =IF(MONTH(DATE(CalYear,3,22))=3,CHOOSE(WEEKDAY(DATE(CalYear,3,22)),"S","M","T","W","T","F","S"),"") -> 0 | Y4: =IF(MONTH(DATE(CalYear,3,23))=3,CHOOSE(WEEKDAY(DATE(CalYear,3,23)),"S","M","T","W","T","F","S"),"") -> 0 | Z4: =IF(MONTH(DATE(CalYear,3,24))=3,CHOOSE(WEEKDAY(DATE(CalYear,3,24)),"S","M","T","W","T","F","S"),"") -> 0 | AA4: =IF(MONTH(DATE(CalYear,3,25))=3,CHOOSE(WEEKDAY(DATE(CalYear,3,25)),"S","M","T","W","T","F","S"),"") -> 0 | AB4: =IF(MONTH(DATE(CalYear,3,26))=3,CHOOSE(WEEKDAY(DATE(CalYear,3,26)),"S","M","T","W","T","F","S"),"") -> 0 | AC4: =IF(MONTH(DATE(CalYear,3,27))=3,CHOOSE(WEEKDAY(DATE(CalYear,3,27)),"S","M","T","W","T","F","S"),"") -> 0 | AD4: =IF(MONTH(DATE(CalYear,3,28))=3,CHOOSE(WEEKDAY(DATE(CalYear,3,28)),"S","M","T","W","T","F","S"),"") -> 0 | AE4: =IF(MONTH(DATE(CalYear,3,29))=3,CHOOSE(WEEKDAY(DATE(CalYear,3,29)),"S","M","T","W","T","F","S"),"") -> 0 | AF4: =IF(MONTH(DATE(CalYear,3,30))=3,CHOOSE(WEEKDAY(DATE(CalYear,3,30)),"S","M","T","W","T","F","S"),"") -> 0 | AG4: =IF(MONTH(DATE(CalYear,3,31))=3,CHOOSE(WEEKDAY(DATE(CalYear,3,31)),"S","M","T","W","T","F","S"),"") -> 0 | AI4: VAC | AJ4: SICK | AK4: PERS | AL4: OTHER | AM4: TOTAL
B5: EMPLOYEE | C5: =IF(MONTH(DATE(CalYear,3,1))=3,1,"") -> 0 | D5: =IF(MONTH(DATE(CalYear,3,2))=3,2,"") -> 0 | E5: =IF(MONTH(DATE(CalYear,3,3))=3,3,"") -> 0 | F5: =IF(MONTH(DATE(CalYear,3,4))=3,4,"") -> 0 | G5: =IF(MONTH(DATE(CalYear,3,5))=3,5,"") -> 0 | H5: =IF(MONTH(DATE(CalYear,3,6))=3,6,"") -> 0 | I5: =IF(MONTH(DATE(CalYear,3,7))=3,7,"") -> 0 | J5: =IF(MONTH(DATE(CalYear,3,8))=3,8,"") -> 0 | K5: =IF(MONTH(DATE(CalYear,3,9))=3,9,"") -> 0 | L5: =IF(MONTH(DATE(CalYear,3,10))=3,10,"") -> 0 | M5: =IF(MONTH(DATE(CalYear,3,11))=3,11,"") -> 0 | N5: =IF(MONTH(DATE(CalYear,3,12))=3,12,"") -> 0 | O5: =IF(MONTH(DATE(CalYear,3,13))=3,13,"") -> 0 | P5: =IF(MONTH(DATE(CalYear,3,14))=3,14,"") -> 0 | Q5: =IF(MONTH(DATE(CalYear,3,15))=3,15,"") -> 0 | R5: =IF(MONTH(DATE(CalYear,3,16))=3,16,"") -> 0 | S5: =IF(MONTH(DATE(CalYear,3,17))=3,17,"") -> 0 | T5: =IF(MONTH(DATE(CalYear,3,18))=3,18,"") -> 0 | U5: =IF(MONTH(DATE(CalYear,3,19))=3,19,"") -> 0 | V5: =IF(MONTH(DATE(CalYear,3,20))=3,20,"") -> 0 | W5: =IF(MONTH(DATE(CalYear,3,21))=3,21,"") -> 0 | X5: =IF(MONTH(DATE(CalYear,3,22))=3,22,"") -> 0 | Y5: =IF(MONTH(DATE(CalYear,3,23))=3,23,"") -> 0 | Z5: =IF(MONTH(DATE(CalYear,3,24))=3,24,"") -> 0 | AA5: =IF(MONTH(DATE(CalYear,3,25))=3,25,"") -> 0 | AB5: =IF(MONTH(DATE(CalYear,3,26))=3,26,"") -> 0 | AC5: =IF(MONTH(DATE(CalYear,3,27))=3,27,"") -> 0 | AD5: =IF(MONTH(DATE(CalYear,3,28))=3,28,"") -> 0 | AE5: =IF(MONTH(DATE(CalYear,3,29))=3,29,"") -> 0 | AF5: =IF(MONTH(DATE(CalYear,3,30))=3,30,"") -> 0 | AG5: =IF(MONTH(DATE(CalYear,3,31))=3,31,"") -> 0
B6: =IF(Summary!B6="","",Summary!B6) -> 0 | AI6: =SUMPRODUCT(COUNTIF(C6:AG6,Codes)*(Codes<>"")*(CodeBucket="Vacation")*CodeDays) -> 0 | AJ6: =SUMPRODUCT(COUNTIF(C6:AG6,Codes)*(Codes<>"")*(CodeBucket="Sick")*CodeDays) -> 0 | AK6: =SUMPRODUCT(COUNTIF(C6:AG6,Codes)*(Codes<>"")*(CodeBucket="Personal")*CodeDays) -> 0 | AL6: =SUMPRODUCT(COUNTIF(C6:AG6,Codes)*(Codes<>"")*(CodeBucket="Other")*CodeDays) -> 0 | AM6: =SUM(AI6:AL6) -> 0
B7: =IF(Summary!B7="","",Summary!B7) -> 0 | AI7: =SUMPRODUCT(COUNTIF(C7:AG7,Codes)*(Codes<>"")*(CodeBucket="Vacation")*CodeDays) -> 0 | AJ7: =SUMPRODUCT(COUNTIF(C7:AG7,Codes)*(Codes<>"")*(CodeBucket="Sick")*CodeDays) -> 0 | AK7: =SUMPRODUCT(COUNTIF(C7:AG7,Codes)*(Codes<>"")*(CodeBucket="Personal")*CodeDays) -> 0 | AL7: =SUMPRODUCT(COUNTIF(C7:AG7,Codes)*(Codes<>"")*(CodeBucket="Other")*CodeDays) -> 0 | AM7: =SUM(AI7:AL7) -> 0
B8: =IF(Summary!B8="","",Summary!B8) -> 0 | AI8: =SUMPRODUCT(COUNTIF(C8:AG8,Codes)*(Codes<>"")*(CodeBucket="Vacation")*CodeDays) -> 0 | AJ8: =SUMPRODUCT(COUNTIF(C8:AG8,Codes)*(Codes<>"")*(CodeBucket="Sick")*CodeDays) -> 0 | AK8: =SUMPRODUCT(COUNTIF(C8:AG8,Codes)*(Codes<>"")*(CodeBucket="Personal")*CodeDays) -> 0 | AL8: =SUMPRODUCT(COUNTIF(C8:AG8,Codes)*(Codes<>"")*(CodeBucket="Other")*CodeDays) -> 0 | AM8: =SUM(AI8:AL8) -> 0
B9: =IF(Summary!B9="","",Summary!B9) -> 0 | AI9: =SUMPRODUCT(COUNTIF(C9:AG9,Codes)*(Codes<>"")*(CodeBucket="Vacation")*CodeDays) -> 0 | AJ9: =SUMPRODUCT(COUNTIF(C9:AG9,Codes)*(Codes<>"")*(CodeBucket="Sick")*CodeDays) -> 0 | AK9: =SUMPRODUCT(COUNTIF(C9:AG9,Codes)*(Codes<>"")*(CodeBucket="Personal")*CodeDays) -> 0 | AL9: =SUMPRODUCT(COUNTIF(C9:AG9,Codes)*(Codes<>"")*(CodeBucket="Other")*CodeDays) -> 0 | AM9: =SUM(AI9:AL9) -> 0
B10: =IF(Summary!B10="","",Summary!B10) -> 0 | AI10: =SUMPRODUCT(COUNTIF(C10:AG10,Codes)*(Codes<>"")*(CodeBucket="Vacation")*CodeDays) -> 0 | AJ10: =SUMPRODUCT(COUNTIF(C10:AG10,Codes)*(Codes<>"")*(CodeBucket="Sick")*CodeDays) -> 0 | AK10: =SUMPRODUCT(COUNTIF(C10:AG10,Codes)*(Codes<>"")*(CodeBucket="Personal")*CodeDays) -> 0 | AL10: =SUMPRODUCT(COUNTIF(C10:AG10,Codes)*(Codes<>"")*(CodeBucket="Other")*CodeDays) -> 0 | AM10: =SUM(AI10:AL10) -> 0
B11: =IF(Summary!B11="","",Summary!B11) -> 0 | AI11: =SUMPRODUCT(COUNTIF(C11:AG11,Codes)*(Codes<>"")*(CodeBucket="Vacation")*CodeDays) -> 0 | AJ11: =SUMPRODUCT(COUNTIF(C11:AG11,Codes)*(Codes<>"")*(CodeBucket="Sick")*CodeDays) -> 0 | AK11: =SUMPRODUCT(COUNTIF(C11:AG11,Codes)*(Codes<>"")*(CodeBucket="Personal")*CodeDays) -> 0 | AL11: =SUMPRODUCT(COUNTIF(C11:AG11,Codes)*(Codes<>"")*(CodeBucket="Other")*CodeDays) -> 0 | AM11: =SUM(AI11:AL11) -> 0
B12: =IF(Summary!B12="","",Summary!B12) -> 0 | AI12: =SUMPRODUCT(COUNTIF(C12:AG12,Codes)*(Codes<>"")*(CodeBucket="Vacation")*CodeDays) -> 0 | AJ12: =SUMPRODUCT(COUNTIF(C12:AG12,Codes)*(Codes<>"")*(CodeBucket="Sick")*CodeDays) -> 0 | AK12: =SUMPRODUCT(COUNTIF(C12:AG12,Codes)*(Codes<>"")*(CodeBucket="Personal")*CodeDays) -> 0 | AL12: =SUMPRODUCT(COUNTIF(C12:AG12,Codes)*(Codes<>"")*(CodeBucket="Other")*CodeDays) -> 0 | AM12: =SUM(AI12:AL12) -> 0
B13: =IF(Summary!B13="","",Summary!B13) -> 0 | AI13: =SUMPRODUCT(COUNTIF(C13:AG13,Codes)*(Codes<>"")*(CodeBucket="Vacation")*CodeDays) -> 0 | AJ13: =SUMPRODUCT(COUNTIF(C13:AG13,Codes)*(Codes<>"")*(CodeBucket="Sick")*CodeDays) -> 0 | AK13: =SUMPRODUCT(COUNTIF(C13:AG13,Codes)*(Codes<>"")*(CodeBucket="Personal")*CodeDays) -> 0 | AL13: =SUMPRODUCT(COUNTIF(C13:AG13,Codes)*(Codes<>"")*(CodeBucket="Other")*CodeDays) -> 0 | AM13: =SUM(AI13:AL13) -> 0
B14: =IF(Summary!B14="","",Summary!B14) -> 0 | AI14: =SUMPRODUCT(COUNTIF(C14:AG14,Codes)*(Codes<>"")*(CodeBucket="Vacation")*CodeDays) -> 0 | AJ14: =SUMPRODUCT(COUNTIF(C14:AG14,Codes)*(Codes<>"")*(CodeBucket="Sick")*CodeDays) -> 0 | AK14: =SUMPRODUCT(COUNTIF(C14:AG14,Codes)*(Codes<>"")*(CodeBucket="Personal")*CodeDays) -> 0 | AL14: =SUMPRODUCT(COUNTIF(C14:AG14,Codes)*(Codes<>"")*(CodeBucket="Other")*CodeDays) -> 0 | AM14: =SUM(AI14:AL14) -> 0
B15: =IF(Summary!B15="","",Summary!B15) -> 0 | AI15: =SUMPRODUCT(COUNTIF(C15:AG15,Codes)*(Codes<>"")*(CodeBucket="Vacation")*CodeDays) -> 0 | AJ15: =SUMPRODUCT(COUNTIF(C15:AG15,Codes)*(Codes<>"")*(CodeBucket="Sick")*CodeDays) -> 0 | AK15: =SUMPRODUCT(COUNTIF(C15:AG15,Codes)*(Codes<>"")*(CodeBucket="Personal")*CodeDays) -> 0 | AL15: =SUMPRODUCT(COUNTIF(C15:AG15,Codes)*(Codes<>"")*(CodeBucket="Other")*CodeDays) -> 0 | AM15: =SUM(AI15:AL15) -> 0
B16: =IF(Summary!B16="","",Summary!B16) -> 0 | AI16: =SUMPRODUCT(COUNTIF(C16:AG16,Codes)*(Codes<>"")*(CodeBucket="Vacation")*CodeDays) -> 0 | AJ16: =SUMPRODUCT(COUNTIF(C16:AG16,Codes)*(Codes<>"")*(CodeBucket="Sick")*CodeDays) -> 0 | AK16: =SUMPRODUCT(COUNTIF(C16:AG16,Codes)*(Codes<>"")*(CodeBucket="Personal")*CodeDays) -> 0 | AL16: =SUMPRODUCT(COUNTIF(C16:AG16,Codes)*(Codes<>"")*(CodeBucket="Other")*CodeDays) -> 0 | AM16: =SUM(AI16:AL16) -> 0
B17: =IF(Summary!B17="","",Summary!B17) -> 0 | AI17: =SUMPRODUCT(COUNTIF(C17:AG17,Codes)*(Codes<>"")*(CodeBucket="Vacation")*CodeDays) -> 0 | AJ17: =SUMPRODUCT(COUNTIF(C17:AG17,Codes)*(Codes<>"")*(CodeBucket="Sick")*CodeDays) -> 0 | AK17: =SUMPRODUCT(COUNTIF(C17:AG17,Codes)*(Codes<>"")*(CodeBucket="Personal")*CodeDays) -> 0 | AL17: =SUMPRODUCT(COUNTIF(C17:AG17,Codes)*(Codes<>"")*(CodeBucket="Other")*CodeDays) -> 0 | AM17: =SUM(AI17:AL17) -> 0
... B30: =IF(Summary!B30="","",Summary!B30) -> 0 | AI30: =SUMPRODUCT(COUNTIF(C30:AG30,Codes)*(Codes<>"")*(CodeBucket="Vacation")*CodeDays) -> 0 | AJ30: =SUMPRODUCT(COUNTIF(C30:AG30,Codes)*(Codes<>"")*(CodeBucket="Sick")*CodeDays) -> 0 | AK30: =SUMPRODUCT(COUNTIF(C30:AG30,Codes)*(Codes<>"")*(CodeBucket="Personal")*CodeDays) -> 0 | AL30: =SUMPRODUCT(COUNTIF(C30:AG30,Codes)*(Codes<>"")*(CodeBucket="Other")*CodeDays) -> 0 | AM30: =SUM(AI30:AL30) -> 0
B31: Out today | C31: =IF(COUNTA(C6:C30)=0,"",COUNTA(C6:C30)) -> 0 | D31: =IF(COUNTA(D6:D30)=0,"",COUNTA(D6:D30)) -> 0 | E31: =IF(COUNTA(E6:E30)=0,"",COUNTA(E6:E30)) -> 0 | F31: =IF(COUNTA(F6:F30)=0,"",COUNTA(F6:F30)) -> 0 | G31: =IF(COUNTA(G6:G30)=0,"",COUNTA(G6:G30)) -> 0 | H31: =IF(COUNTA(H6:H30)=0,"",COUNTA(H6:H30)) -> 0 | I31: =IF(COUNTA(I6:I30)=0,"",COUNTA(I6:I30)) -> 0 | J31: =IF(COUNTA(J6:J30)=0,"",COUNTA(J6:J30)) -> 0 | ... AG31: =IF(COUNTA(AG6:AG30)=0,"",COUNTA(AG6:AG30)) -> 0
B33: Blue columns = holidays (Holidays tab) · niftyshelf.com

Sheet Apr
B2: April | J2: =CalYear -> 0 | P2: ="Codes: "&Setup!B9&" "&Setup!C9&" · "&Setup!B10&" "&Setup!C10&" · "&Setup!B11&" "&Setup!C11&" · "&Setup!B13&" "&Setup!C13&" · "&Setup!B15&" "&Setup!C15&" (full list on Setup)" -> 0
C4: =IF(MONTH(DATE(CalYear,4,1))=4,CHOOSE(WEEKDAY(DATE(CalYear,4,1)),"S","M","T","W","T","F","S"),"") -> 0 | D4: =IF(MONTH(DATE(CalYear,4,2))=4,CHOOSE(WEEKDAY(DATE(CalYear,4,2)),"S","M","T","W","T","F","S"),"") -> 0 | E4: =IF(MONTH(DATE(CalYear,4,3))=4,CHOOSE(WEEKDAY(DATE(CalYear,4,3)),"S","M","T","W","T","F","S"),"") -> 0 | F4: =IF(MONTH(DATE(CalYear,4,4))=4,CHOOSE(WEEKDAY(DATE(CalYear,4,4)),"S","M","T","W","T","F","S"),"") -> 0 | G4: =IF(MONTH(DATE(CalYear,4,5))=4,CHOOSE(WEEKDAY(DATE(CalYear,4,5)),"S","M","T","W","T","F","S"),"") -> 0 | H4: =IF(MONTH(DATE(CalYear,4,6))=4,CHOOSE(WEEKDAY(DATE(CalYear,4,6)),"S","M","T","W","T","F","S"),"") -> 0 | I4: =IF(MONTH(DATE(CalYear,4,7))=4,CHOOSE(WEEKDAY(DATE(CalYear,4,7)),"S","M","T","W","T","F","S"),"") -> 0 | J4: =IF(MONTH(DATE(CalYear,4,8))=4,CHOOSE(WEEKDAY(DATE(CalYear,4,8)),"S","M","T","W","T","F","S"),"") -> 0 | K4: =IF(MONTH(DATE(CalYear,4,9))=4,CHOOSE(WEEKDAY(DATE(CalYear,4,9)),"S","M","T","W","T","F","S"),"") -> 0 | L4: =IF(MONTH(DATE(CalYear,4,10))=4,CHOOSE(WEEKDAY(DATE(CalYear,4,10)),"S","M","T","W","T","F","S"),"") -> 0 | M4: =IF(MONTH(DATE(CalYear,4,11))=4,CHOOSE(WEEKDAY(DATE(CalYear,4,11)),"S","M","T","W","T","F","S"),"") -> 0 | N4: =IF(MONTH(DATE(CalYear,4,12))=4,CHOOSE(WEEKDAY(DATE(CalYear,4,12)),"S","M","T","W","T","F","S"),"") -> 0 | O4: =IF(MONTH(DATE(CalYear,4,13))=4,CHOOSE(WEEKDAY(DATE(CalYear,4,13)),"S","M","T","W","T","F","S"),"") -> 0 | P4: =IF(MONTH(DATE(CalYear,4,14))=4,CHOOSE(WEEKDAY(DATE(CalYear,4,14)),"S","M","T","W","T","F","S"),"") -> 0 | Q4: =IF(MONTH(DATE(CalYear,4,15))=4,CHOOSE(WEEKDAY(DATE(CalYear,4,15)),"S","M","T","W","T","F","S"),"") -> 0 | R4: =IF(MONTH(DATE(CalYear,4,16))=4,CHOOSE(WEEKDAY(DATE(CalYear,4,16)),"S","M","T","W","T","F","S"),"") -> 0 | S4: =IF(MONTH(DATE(CalYear,4,17))=4,CHOOSE(WEEKDAY(DATE(CalYear,4,17)),"S","M","T","W","T","F","S"),"") -> 0 | T4: =IF(MONTH(DATE(CalYear,4,18))=4,CHOOSE(WEEKDAY(DATE(CalYear,4,18)),"S","M","T","W","T","F","S"),"") -> 0 | U4: =IF(MONTH(DATE(CalYear,4,19))=4,CHOOSE(WEEKDAY(DATE(CalYear,4,19)),"S","M","T","W","T","F","S"),"") -> 0 | V4: =IF(MONTH(DATE(CalYear,4,20))=4,CHOOSE(WEEKDAY(DATE(CalYear,4,20)),"S","M","T","W","T","F","S"),"") -> 0 | W4: =IF(MONTH(DATE(CalYear,4,21))=4,CHOOSE(WEEKDAY(DATE(CalYear,4,21)),"S","M","T","W","T","F","S"),"") -> 0 | X4: =IF(MONTH(DATE(CalYear,4,22))=4,CHOOSE(WEEKDAY(DATE(CalYear,4,22)),"S","M","T","W","T","F","S"),"") -> 0 | Y4: =IF(MONTH(DATE(CalYear,4,23))=4,CHOOSE(WEEKDAY(DATE(CalYear,4,23)),"S","M","T","W","T","F","S"),"") -> 0 | Z4: =IF(MONTH(DATE(CalYear,4,24))=4,CHOOSE(WEEKDAY(DATE(CalYear,4,24)),"S","M","T","W","T","F","S"),"") -> 0 | AA4: =IF(MONTH(DATE(CalYear,4,25))=4,CHOOSE(WEEKDAY(DATE(CalYear,4,25)),"S","M","T","W","T","F","S"),"") -> 0 | AB4: =IF(MONTH(DATE(CalYear,4,26))=4,CHOOSE(WEEKDAY(DATE(CalYear,4,26)),"S","M","T","W","T","F","S"),"") -> 0 | AC4: =IF(MONTH(DATE(CalYear,4,27))=4,CHOOSE(WEEKDAY(DATE(CalYear,4,27)),"S","M","T","W","T","F","S"),"") -> 0 | AD4: =IF(MONTH(DATE(CalYear,4,28))=4,CHOOSE(WEEKDAY(DATE(CalYear,4,28)),"S","M","T","W","T","F","S"),"") -> 0 | AE4: =IF(MONTH(DATE(CalYear,4,29))=4,CHOOSE(WEEKDAY(DATE(CalYear,4,29)),"S","M","T","W","T","F","S"),"") -> 0 | AF4: =IF(MONTH(DATE(CalYear,4,30))=4,CHOOSE(WEEKDAY(DATE(CalYear,4,30)),"S","M","T","W","T","F","S"),"") -> 0 | AG4: =IF(MONTH(DATE(CalYear,4,31))=4,CHOOSE(WEEKDAY(DATE(CalYear,4,31)),"S","M","T","W","T","F","S"),"") -> 0 | AI4: VAC | AJ4: SICK | AK4: PERS | AL4: OTHER | AM4: TOTAL
B5: EMPLOYEE | C5: =IF(MONTH(DATE(CalYear,4,1))=4,1,"") -> 0 | D5: =IF(MONTH(DATE(CalYear,4,2))=4,2,"") -> 0 | E5: =IF(MONTH(DATE(CalYear,4,3))=4,3,"") -> 0 | F5: =IF(MONTH(DATE(CalYear,4,4))=4,4,"") -> 0 | G5: =IF(MONTH(DATE(CalYear,4,5))=4,5,"") -> 0 | H5: =IF(MONTH(DATE(CalYear,4,6))=4,6,"") -> 0 | I5: =IF(MONTH(DATE(CalYear,4,7))=4,7,"") -> 0 | J5: =IF(MONTH(DATE(CalYear,4,8))=4,8,"") -> 0 | K5: =IF(MONTH(DATE(CalYear,4,9))=4,9,"") -> 0 | L5: =IF(MONTH(DATE(CalYear,4,10))=4,10,"") -> 0 | M5: =IF(MONTH(DATE(CalYear,4,11))=4,11,"") -> 0 | N5: =IF(MONTH(DATE(CalYear,4,12))=4,12,"") -> 0 | O5: =IF(MONTH(DATE(CalYear,4,13))=4,13,"") -> 0 | P5: =IF(MONTH(DATE(CalYear,4,14))=4,14,"") -> 0 | Q5: =IF(MONTH(DATE(CalYear,4,15))=4,15,"") -> 0 | R5: =IF(MONTH(DATE(CalYear,4,16))=4,16,"") -> 0 | S5: =IF(MONTH(DATE(CalYear,4,17))=4,17,"") -> 0 | T5: =IF(MONTH(DATE(CalYear,4,18))=4,18,"") -> 0 | U5: =IF(MONTH(DATE(CalYear,4,19))=4,19,"") -> 0 | V5: =IF(MONTH(DATE(CalYear,4,20))=4,20,"") -> 0 | W5: =IF(MONTH(DATE(CalYear,4,21))=4,21,"") -> 0 | X5: =IF(MONTH(DATE(CalYear,4,22))=4,22,"") -> 0 | Y5: =IF(MONTH(DATE(CalYear,4,23))=4,23,"") -> 0 | Z5: =IF(MONTH(DATE(CalYear,4,24))=4,24,"") -> 0 | AA5: =IF(MONTH(DATE(CalYear,4,25))=4,25,"") -> 0 | AB5: =IF(MONTH(DATE(CalYear,4,26))=4,26,"") -> 0 | AC5: =IF(MONTH(DATE(CalYear,4,27))=4,27,"") -> 0 | AD5: =IF(MONTH(DATE(CalYear,4,28))=4,28,"") -> 0 | AE5: =IF(MONTH(DATE(CalYear,4,29))=4,29,"") -> 0 | AF5: =IF(MONTH(DATE(CalYear,4,30))=4,30,"") -> 0 | AG5: =IF(MONTH(DATE(CalYear,4,31))=4,31,"") -> 0
B6: =IF(Summary!B6="","",Summary!B6) -> 0 | AI6: =SUMPRODUCT(COUNTIF(C6:AG6,Codes)*(Codes<>"")*(CodeBucket="Vacation")*CodeDays) -> 0 | AJ6: =SUMPRODUCT(COUNTIF(C6:AG6,Codes)*(Codes<>"")*(CodeBucket="Sick")*CodeDays) -> 0 | AK6: =SUMPRODUCT(COUNTIF(C6:AG6,Codes)*(Codes<>"")*(CodeBucket="Personal")*CodeDays) -> 0 | AL6: =SUMPRODUCT(COUNTIF(C6:AG6,Codes)*(Codes<>"")*(CodeBucket="Other")*CodeDays) -> 0 | AM6: =SUM(AI6:AL6) -> 0
B7: =IF(Summary!B7="","",Summary!B7) -> 0 | AI7: =SUMPRODUCT(COUNTIF(C7:AG7,Codes)*(Codes<>"")*(CodeBucket="Vacation")*CodeDays) -> 0 | AJ7: =SUMPRODUCT(COUNTIF(C7:AG7,Codes)*(Codes<>"")*(CodeBucket="Sick")*CodeDays) -> 0 | AK7: =SUMPRODUCT(COUNTIF(C7:AG7,Codes)*(Codes<>"")*(CodeBucket="Personal")*CodeDays) -> 0 | AL7: =SUMPRODUCT(COUNTIF(C7:AG7,Codes)*(Codes<>"")*(CodeBucket="Other")*CodeDays) -> 0 | AM7: =SUM(AI7:AL7) -> 0
B8: =IF(Summary!B8="","",Summary!B8) -> 0 | AI8: =SUMPRODUCT(COUNTIF(C8:AG8,Codes)*(Codes<>"")*(CodeBucket="Vacation")*CodeDays) -> 0 | AJ8: =SUMPRODUCT(COUNTIF(C8:AG8,Codes)*(Codes<>"")*(CodeBucket="Sick")*CodeDays) -> 0 | AK8: =SUMPRODUCT(COUNTIF(C8:AG8,Codes)*(Codes<>"")*(CodeBucket="Personal")*CodeDays) -> 0 | AL8: =SUMPRODUCT(COUNTIF(C8:AG8,Codes)*(Codes<>"")*(CodeBucket="Other")*CodeDays) -> 0 | AM8: =SUM(AI8:AL8) -> 0
B9: =IF(Summary!B9="","",Summary!B9) -> 0 | AI9: =SUMPRODUCT(COUNTIF(C9:AG9,Codes)*(Codes<>"")*(CodeBucket="Vacation")*CodeDays) -> 0 | AJ9: =SUMPRODUCT(COUNTIF(C9:AG9,Codes)*(Codes<>"")*(CodeBucket="Sick")*CodeDays) -> 0 | AK9: =SUMPRODUCT(COUNTIF(C9:AG9,Codes)*(Codes<>"")*(CodeBucket="Personal")*CodeDays) -> 0 | AL9: =SUMPRODUCT(COUNTIF(C9:AG9,Codes)*(Codes<>"")*(CodeBucket="Other")*CodeDays) -> 0 | AM9: =SUM(AI9:AL9) -> 0
B10: =IF(Summary!B10="","",Summary!B10) -> 0 | AI10: =SUMPRODUCT(COUNTIF(C10:AG10,Codes)*(Codes<>"")*(CodeBucket="Vacation")*CodeDays) -> 0 | AJ10: =SUMPRODUCT(COUNTIF(C10:AG10,Codes)*(Codes<>"")*(CodeBucket="Sick")*CodeDays) -> 0 | AK10: =SUMPRODUCT(COUNTIF(C10:AG10,Codes)*(Codes<>"")*(CodeBucket="Personal")*CodeDays) -> 0 | AL10: =SUMPRODUCT(COUNTIF(C10:AG10,Codes)*(Codes<>"")*(CodeBucket="Other")*CodeDays) -> 0 | AM10: =SUM(AI10:AL10) -> 0
B11: =IF(Summary!B11="","",Summary!B11) -> 0 | AI11: =SUMPRODUCT(COUNTIF(C11:AG11,Codes)*(Codes<>"")*(CodeBucket="Vacation")*CodeDays) -> 0 | AJ11: =SUMPRODUCT(COUNTIF(C11:AG11,Codes)*(Codes<>"")*(CodeBucket="Sick")*CodeDays) -> 0 | AK11: =SUMPRODUCT(COUNTIF(C11:AG11,Codes)*(Codes<>"")*(CodeBucket="Personal")*CodeDays) -> 0 | AL11: =SUMPRODUCT(COUNTIF(C11:AG11,Codes)*(Codes<>"")*(CodeBucket="Other")*CodeDays) -> 0 | AM11: =SUM(AI11:AL11) -> 0
B12: =IF(Summary!B12="","",Summary!B12) -> 0 | AI12: =SUMPRODUCT(COUNTIF(C12:AG12,Codes)*(Codes<>"")*(CodeBucket="Vacation")*CodeDays) -> 0 | AJ12: =SUMPRODUCT(COUNTIF(C12:AG12,Codes)*(Codes<>"")*(CodeBucket="Sick")*CodeDays) -> 0 | AK12: =SUMPRODUCT(COUNTIF(C12:AG12,Codes)*(Codes<>"")*(CodeBucket="Personal")*CodeDays) -> 0 | AL12: =SUMPRODUCT(COUNTIF(C12:AG12,Codes)*(Codes<>"")*(CodeBucket="Other")*CodeDays) -> 0 | AM12: =SUM(AI12:AL12) -> 0
B13: =IF(Summary!B13="","",Summary!B13) -> 0 | AI13: =SUMPRODUCT(COUNTIF(C13:AG13,Codes)*(Codes<>"")*(CodeBucket="Vacation")*CodeDays) -> 0 | AJ13: =SUMPRODUCT(COUNTIF(C13:AG13,Codes)*(Codes<>"")*(CodeBucket="Sick")*CodeDays) -> 0 | AK13: =SUMPRODUCT(COUNTIF(C13:AG13,Codes)*(Codes<>"")*(CodeBucket="Personal")*CodeDays) -> 0 | AL13: =SUMPRODUCT(COUNTIF(C13:AG13,Codes)*(Codes<>"")*(CodeBucket="Other")*CodeDays) -> 0 | AM13: =SUM(AI13:AL13) -> 0
B14: =IF(Summary!B14="","",Summary!B14) -> 0 | AI14: =SUMPRODUCT(COUNTIF(C14:AG14,Codes)*(Codes<>"")*(CodeBucket="Vacation")*CodeDays) -> 0 | AJ14: =SUMPRODUCT(COUNTIF(C14:AG14,Codes)*(Codes<>"")*(CodeBucket="Sick")*CodeDays) -> 0 | AK14: =SUMPRODUCT(COUNTIF(C14:AG14,Codes)*(Codes<>"")*(CodeBucket="Personal")*CodeDays) -> 0 | AL14: =SUMPRODUCT(COUNTIF(C14:AG14,Codes)*(Codes<>"")*(CodeBucket="Other")*CodeDays) -> 0 | AM14: =SUM(AI14:AL14) -> 0
