Workbook
Name CalYear: Year!$B$2
Name WeekStart: Year!$AC$2

Sheet Year
B2: 2027 | Z2: Week starts | AC2: Sunday
B3: Year at a glance | Z3: ■ Holiday ■ Observance / your dates
B5: January | J5: February | R5: March | Z5: April
B6: =IF(WeekStart="Monday",CHOOSE(1,"M","T","W","T","F","S","S"),CHOOSE(1,"S","M","T","W","T","F","S")) -> 0 | C6: =IF(WeekStart="Monday",CHOOSE(2,"M","T","W","T","F","S","S"),CHOOSE(2,"S","M","T","W","T","F","S")) -> 0 | D6: =IF(WeekStart="Monday",CHOOSE(3,"M","T","W","T","F","S","S"),CHOOSE(3,"S","M","T","W","T","F","S")) -> 0 | E6: =IF(WeekStart="Monday",CHOOSE(4,"M","T","W","T","F","S","S"),CHOOSE(4,"S","M","T","W","T","F","S")) -> 0 | F6: =IF(WeekStart="Monday",CHOOSE(5,"M","T","W","T","F","S","S"),CHOOSE(5,"S","M","T","W","T","F","S")) -> 0 | G6: =IF(WeekStart="Monday",CHOOSE(6,"M","T","W","T","F","S","S"),CHOOSE(6,"S","M","T","W","T","F","S")) -> 0 | H6: =IF(WeekStart="Monday",CHOOSE(7,"M","T","W","T","F","S","S"),CHOOSE(7,"S","M","T","W","T","F","S")) -> 0 | J6: =IF(WeekStart="Monday",CHOOSE(1,"M","T","W","T","F","S","S"),CHOOSE(1,"S","M","T","W","T","F","S")) -> 0 | K6: =IF(WeekStart="Monday",CHOOSE(2,"M","T","W","T","F","S","S"),CHOOSE(2,"S","M","T","W","T","F","S")) -> 0 | L6: =IF(WeekStart="Monday",CHOOSE(3,"M","T","W","T","F","S","S"),CHOOSE(3,"S","M","T","W","T","F","S")) -> 0 | M6: =IF(WeekStart="Monday",CHOOSE(4,"M","T","W","T","F","S","S"),CHOOSE(4,"S","M","T","W","T","F","S")) -> 0 | N6: =IF(WeekStart="Monday",CHOOSE(5,"M","T","W","T","F","S","S"),CHOOSE(5,"S","M","T","W","T","F","S")) -> 0 | O6: =IF(WeekStart="Monday",CHOOSE(6,"M","T","W","T","F","S","S"),CHOOSE(6,"S","M","T","W","T","F","S")) -> 0 | P6: =IF(WeekStart="Monday",CHOOSE(7,"M","T","W","T","F","S","S"),CHOOSE(7,"S","M","T","W","T","F","S")) -> 0 | R6: =IF(WeekStart="Monday",CHOOSE(1,"M","T","W","T","F","S","S"),CHOOSE(1,"S","M","T","W","T","F","S")) -> 0 | S6: =IF(WeekStart="Monday",CHOOSE(2,"M","T","W","T","F","S","S"),CHOOSE(2,"S","M","T","W","T","F","S")) -> 0 | T6: =IF(WeekStart="Monday",CHOOSE(3,"M","T","W","T","F","S","S"),CHOOSE(3,"S","M","T","W","T","F","S")) -> 0 | U6: =IF(WeekStart="Monday",CHOOSE(4,"M","T","W","T","F","S","S"),CHOOSE(4,"S","M","T","W","T","F","S")) -> 0 | V6: =IF(WeekStart="Monday",CHOOSE(5,"M","T","W","T","F","S","S"),CHOOSE(5,"S","M","T","W","T","F","S")) -> 0 | W6: =IF(WeekStart="Monday",CHOOSE(6,"M","T","W","T","F","S","S"),CHOOSE(6,"S","M","T","W","T","F","S")) -> 0 | X6: =IF(WeekStart="Monday",CHOOSE(7,"M","T","W","T","F","S","S"),CHOOSE(7,"S","M","T","W","T","F","S")) -> 0 | Z6: =IF(WeekStart="Monday",CHOOSE(1,"M","T","W","T","F","S","S"),CHOOSE(1,"S","M","T","W","T","F","S")) -> 0 | AA6: =IF(WeekStart="Monday",CHOOSE(2,"M","T","W","T","F","S","S"),CHOOSE(2,"S","M","T","W","T","F","S")) -> 0 | AB6: =IF(WeekStart="Monday",CHOOSE(3,"M","T","W","T","F","S","S"),CHOOSE(3,"S","M","T","W","T","F","S")) -> 0 | AC6: =IF(WeekStart="Monday",CHOOSE(4,"M","T","W","T","F","S","S"),CHOOSE(4,"S","M","T","W","T","F","S")) -> 0 | AD6: =IF(WeekStart="Monday",CHOOSE(5,"M","T","W","T","F","S","S"),CHOOSE(5,"S","M","T","W","T","F","S")) -> 0 | AE6: =IF(WeekStart="Monday",CHOOSE(6,"M","T","W","T","F","S","S"),CHOOSE(6,"S","M","T","W","T","F","S")) -> 0 | AF6: =IF(WeekStart="Monday",CHOOSE(7,"M","T","W","T","F","S","S"),CHOOSE(7,"S","M","T","W","T","F","S")) -> 0
B7: =IF(MONTH(DATE(CalYear,1,1)-WEEKDAY(DATE(CalYear,1,1),IF(WeekStart="Monday",2,1))+1+0)=1,DATE(CalYear,1,1)-WEEKDAY(DATE(CalYear,1,1),IF(WeekStart="Monday",2,1))+1+0,"") -> 0 | C7: =IF(MONTH(DATE(CalYear,1,1)-WEEKDAY(DATE(CalYear,1,1),IF(WeekStart="Monday",2,1))+1+1)=1,DATE(CalYear,1,1)-WEEKDAY(DATE(CalYear,1,1),IF(WeekStart="Monday",2,1))+1+1,"") -> 0 | D7: =IF(MONTH(DATE(CalYear,1,1)-WEEKDAY(DATE(CalYear,1,1),IF(WeekStart="Monday",2,1))+1+2)=1,DATE(CalYear,1,1)-WEEKDAY(DATE(CalYear,1,1),IF(WeekStart="Monday",2,1))+1+2,"") -> 0 | E7: =IF(MONTH(DATE(CalYear,1,1)-WEEKDAY(DATE(CalYear,1,1),IF(WeekStart="Monday",2,1))+1+3)=1,DATE(CalYear,1,1)-WEEKDAY(DATE(CalYear,1,1),IF(WeekStart="Monday",2,1))+1+3,"") -> 0 | F7: =IF(MONTH(DATE(CalYear,1,1)-WEEKDAY(DATE(CalYear,1,1),IF(WeekStart="Monday",2,1))+1+4)=1,DATE(CalYear,1,1)-WEEKDAY(DATE(CalYear,1,1),IF(WeekStart="Monday",2,1))+1+4,"") -> 0 | G7: =IF(MONTH(DATE(CalYear,1,1)-WEEKDAY(DATE(CalYear,1,1),IF(WeekStart="Monday",2,1))+1+5)=1,DATE(CalYear,1,1)-WEEKDAY(DATE(CalYear,1,1),IF(WeekStart="Monday",2,1))+1+5,"") -> 0 | H7: =IF(MONTH(DATE(CalYear,1,1)-WEEKDAY(DATE(CalYear,1,1),IF(WeekStart="Monday",2,1))+1+6)=1,DATE(CalYear,1,1)-WEEKDAY(DATE(CalYear,1,1),IF(WeekStart="Monday",2,1))+1+6,"") -> 0 | J7: =IF(MONTH(DATE(CalYear,2,1)-WEEKDAY(DATE(CalYear,2,1),IF(WeekStart="Monday",2,1))+1+0)=2,DATE(CalYear,2,1)-WEEKDAY(DATE(CalYear,2,1),IF(WeekStart="Monday",2,1))+1+0,"") -> 0 | K7: =IF(MONTH(DATE(CalYear,2,1)-WEEKDAY(DATE(CalYear,2,1),IF(WeekStart="Monday",2,1))+1+1)=2,DATE(CalYear,2,1)-WEEKDAY(DATE(CalYear,2,1),IF(WeekStart="Monday",2,1))+1+1,"") -> 0 | L7: =IF(MONTH(DATE(CalYear,2,1)-WEEKDAY(DATE(CalYear,2,1),IF(WeekStart="Monday",2,1))+1+2)=2,DATE(CalYear,2,1)-WEEKDAY(DATE(CalYear,2,1),IF(WeekStart="Monday",2,1))+1+2,"") -> 0 | M7: =IF(MONTH(DATE(CalYear,2,1)-WEEKDAY(DATE(CalYear,2,1),IF(WeekStart="Monday",2,1))+1+3)=2,DATE(CalYear,2,1)-WEEKDAY(DATE(CalYear,2,1),IF(WeekStart="Monday",2,1))+1+3,"") -> 0 | N7: =IF(MONTH(DATE(CalYear,2,1)-WEEKDAY(DATE(CalYear,2,1),IF(WeekStart="Monday",2,1))+1+4)=2,DATE(CalYear,2,1)-WEEKDAY(DATE(CalYear,2,1),IF(WeekStart="Monday",2,1))+1+4,"") -> 0 | O7: =IF(MONTH(DATE(CalYear,2,1)-WEEKDAY(DATE(CalYear,2,1),IF(WeekStart="Monday",2,1))+1+5)=2,DATE(CalYear,2,1)-WEEKDAY(DATE(CalYear,2,1),IF(WeekStart="Monday",2,1))+1+5,"") -> 0 | P7: =IF(MONTH(DATE(CalYear,2,1)-WEEKDAY(DATE(CalYear,2,1),IF(WeekStart="Monday",2,1))+1+6)=2,DATE(CalYear,2,1)-WEEKDAY(DATE(CalYear,2,1),IF(WeekStart="Monday",2,1))+1+6,"") -> 0 | R7: =IF(MONTH(DATE(CalYear,3,1)-WEEKDAY(DATE(CalYear,3,1),IF(WeekStart="Monday",2,1))+1+0)=3,DATE(CalYear,3,1)-WEEKDAY(DATE(CalYear,3,1),IF(WeekStart="Monday",2,1))+1+0,"") -> 0 | S7: =IF(MONTH(DATE(CalYear,3,1)-WEEKDAY(DATE(CalYear,3,1),IF(WeekStart="Monday",2,1))+1+1)=3,DATE(CalYear,3,1)-WEEKDAY(DATE(CalYear,3,1),IF(WeekStart="Monday",2,1))+1+1,"") -> 0 | T7: =IF(MONTH(DATE(CalYear,3,1)-WEEKDAY(DATE(CalYear,3,1),IF(WeekStart="Monday",2,1))+1+2)=3,DATE(CalYear,3,1)-WEEKDAY(DATE(CalYear,3,1),IF(WeekStart="Monday",2,1))+1+2,"") -> 0 | U7: =IF(MONTH(DATE(CalYear,3,1)-WEEKDAY(DATE(CalYear,3,1),IF(WeekStart="Monday",2,1))+1+3)=3,DATE(CalYear,3,1)-WEEKDAY(DATE(CalYear,3,1),IF(WeekStart="Monday",2,1))+1+3,"") -> 0 | V7: =IF(MONTH(DATE(CalYear,3,1)-WEEKDAY(DATE(CalYear,3,1),IF(WeekStart="Monday",2,1))+1+4)=3,DATE(CalYear,3,1)-WEEKDAY(DATE(CalYear,3,1),IF(WeekStart="Monday",2,1))+1+4,"") -> 0 | W7: =IF(MONTH(DATE(CalYear,3,1)-WEEKDAY(DATE(CalYear,3,1),IF(WeekStart="Monday",2,1))+1+5)=3,DATE(CalYear,3,1)-WEEKDAY(DATE(CalYear,3,1),IF(WeekStart="Monday",2,1))+1+5,"") -> 0 | X7: =IF(MONTH(DATE(CalYear,3,1)-WEEKDAY(DATE(CalYear,3,1),IF(WeekStart="Monday",2,1))+1+6)=3,DATE(CalYear,3,1)-WEEKDAY(DATE(CalYear,3,1),IF(WeekStart="Monday",2,1))+1+6,"") -> 0 | Z7: =IF(MONTH(DATE(CalYear,4,1)-WEEKDAY(DATE(CalYear,4,1),IF(WeekStart="Monday",2,1))+1+0)=4,DATE(CalYear,4,1)-WEEKDAY(DATE(CalYear,4,1),IF(WeekStart="Monday",2,1))+1+0,"") -> 0 | AA7: =IF(MONTH(DATE(CalYear,4,1)-WEEKDAY(DATE(CalYear,4,1),IF(WeekStart="Monday",2,1))+1+1)=4,DATE(CalYear,4,1)-WEEKDAY(DATE(CalYear,4,1),IF(WeekStart="Monday",2,1))+1+1,"") -> 0 | AB7: =IF(MONTH(DATE(CalYear,4,1)-WEEKDAY(DATE(CalYear,4,1),IF(WeekStart="Monday",2,1))+1+2)=4,DATE(CalYear,4,1)-WEEKDAY(DATE(CalYear,4,1),IF(WeekStart="Monday",2,1))+1+2,"") -> 0 | AC7: =IF(MONTH(DATE(CalYear,4,1)-WEEKDAY(DATE(CalYear,4,1),IF(WeekStart="Monday",2,1))+1+3)=4,DATE(CalYear,4,1)-WEEKDAY(DATE(CalYear,4,1),IF(WeekStart="Monday",2,1))+1+3,"") -> 0 | AD7: =IF(MONTH(DATE(CalYear,4,1)-WEEKDAY(DATE(CalYear,4,1),IF(WeekStart="Monday",2,1))+1+4)=4,DATE(CalYear,4,1)-WEEKDAY(DATE(CalYear,4,1),IF(WeekStart="Monday",2,1))+1+4,"") -> 0 | AE7: =IF(MONTH(DATE(CalYear,4,1)-WEEKDAY(DATE(CalYear,4,1),IF(WeekStart="Monday",2,1))+1+5)=4,DATE(CalYear,4,1)-WEEKDAY(DATE(CalYear,4,1),IF(WeekStart="Monday",2,1))+1+5,"") -> 0 | AF7: =IF(MONTH(DATE(CalYear,4,1)-WEEKDAY(DATE(CalYear,4,1),IF(WeekStart="Monday",2,1))+1+6)=4,DATE(CalYear,4,1)-WEEKDAY(DATE(CalYear,4,1),IF(WeekStart="Monday",2,1))+1+6,"") -> 0
B8: =IF(MONTH(DATE(CalYear,1,1)-WEEKDAY(DATE(CalYear,1,1),IF(WeekStart="Monday",2,1))+1+7)=1,DATE(CalYear,1,1)-WEEKDAY(DATE(CalYear,1,1),IF(WeekStart="Monday",2,1))+1+7,"") -> 0 | C8: =IF(MONTH(DATE(CalYear,1,1)-WEEKDAY(DATE(CalYear,1,1),IF(WeekStart="Monday",2,1))+1+8)=1,DATE(CalYear,1,1)-WEEKDAY(DATE(CalYear,1,1),IF(WeekStart="Monday",2,1))+1+8,"") -> 0 | D8: =IF(MONTH(DATE(CalYear,1,1)-WEEKDAY(DATE(CalYear,1,1),IF(WeekStart="Monday",2,1))+1+9)=1,DATE(CalYear,1,1)-WEEKDAY(DATE(CalYear,1,1),IF(WeekStart="Monday",2,1))+1+9,"") -> 0 | E8: =IF(MONTH(DATE(CalYear,1,1)-WEEKDAY(DATE(CalYear,1,1),IF(WeekStart="Monday",2,1))+1+10)=1,DATE(CalYear,1,1)-WEEKDAY(DATE(CalYear,1,1),IF(WeekStart="Monday",2,1))+1+10,"") -> 0 | F8: =IF(MONTH(DATE(CalYear,1,1)-WEEKDAY(DATE(CalYear,1,1),IF(WeekStart="Monday",2,1))+1+11)=1,DATE(CalYear,1,1)-WEEKDAY(DATE(CalYear,1,1),IF(WeekStart="Monday",2,1))+1+11,"") -> 0 | G8: =IF(MONTH(DATE(CalYear,1,1)-WEEKDAY(DATE(CalYear,1,1),IF(WeekStart="Monday",2,1))+1+12)=1,DATE(CalYear,1,1)-WEEKDAY(DATE(CalYear,1,1),IF(WeekStart="Monday",2,1))+1+12,"") -> 0 | H8: =IF(MONTH(DATE(CalYear,1,1)-WEEKDAY(DATE(CalYear,1,1),IF(WeekStart="Monday",2,1))+1+13)=1,DATE(CalYear,1,1)-WEEKDAY(DATE(CalYear,1,1),IF(WeekStart="Monday",2,1))+1+13,"") -> 0 | J8: =IF(MONTH(DATE(CalYear,2,1)-WEEKDAY(DATE(CalYear,2,1),IF(WeekStart="Monday",2,1))+1+7)=2,DATE(CalYear,2,1)-WEEKDAY(DATE(CalYear,2,1),IF(WeekStart="Monday",2,1))+1+7,"") -> 0 | K8: =IF(MONTH(DATE(CalYear,2,1)-WEEKDAY(DATE(CalYear,2,1),IF(WeekStart="Monday",2,1))+1+8)=2,DATE(CalYear,2,1)-WEEKDAY(DATE(CalYear,2,1),IF(WeekStart="Monday",2,1))+1+8,"") -> 0 | L8: =IF(MONTH(DATE(CalYear,2,1)-WEEKDAY(DATE(CalYear,2,1),IF(WeekStart="Monday",2,1))+1+9)=2,DATE(CalYear,2,1)-WEEKDAY(DATE(CalYear,2,1),IF(WeekStart="Monday",2,1))+1+9,"") -> 0 | M8: =IF(MONTH(DATE(CalYear,2,1)-WEEKDAY(DATE(CalYear,2,1),IF(WeekStart="Monday",2,1))+1+10)=2,DATE(CalYear,2,1)-WEEKDAY(DATE(CalYear,2,1),IF(WeekStart="Monday",2,1))+1+10,"") -> 0 | N8: =IF(MONTH(DATE(CalYear,2,1)-WEEKDAY(DATE(CalYear,2,1),IF(WeekStart="Monday",2,1))+1+11)=2,DATE(CalYear,2,1)-WEEKDAY(DATE(CalYear,2,1),IF(WeekStart="Monday",2,1))+1+11,"") -> 0 | O8: =IF(MONTH(DATE(CalYear,2,1)-WEEKDAY(DATE(CalYear,2,1),IF(WeekStart="Monday",2,1))+1+12)=2,DATE(CalYear,2,1)-WEEKDAY(DATE(CalYear,2,1),IF(WeekStart="Monday",2,1))+1+12,"") -> 0 | P8: =IF(MONTH(DATE(CalYear,2,1)-WEEKDAY(DATE(CalYear,2,1),IF(WeekStart="Monday",2,1))+1+13)=2,DATE(CalYear,2,1)-WEEKDAY(DATE(CalYear,2,1),IF(WeekStart="Monday",2,1))+1+13,"") -> 0 | R8: =IF(MONTH(DATE(CalYear,3,1)-WEEKDAY(DATE(CalYear,3,1),IF(WeekStart="Monday",2,1))+1+7)=3,DATE(CalYear,3,1)-WEEKDAY(DATE(CalYear,3,1),IF(WeekStart="Monday",2,1))+1+7,"") -> 0 | S8: =IF(MONTH(DATE(CalYear,3,1)-WEEKDAY(DATE(CalYear,3,1),IF(WeekStart="Monday",2,1))+1+8)=3,DATE(CalYear,3,1)-WEEKDAY(DATE(CalYear,3,1),IF(WeekStart="Monday",2,1))+1+8,"") -> 0 | T8: =IF(MONTH(DATE(CalYear,3,1)-WEEKDAY(DATE(CalYear,3,1),IF(WeekStart="Monday",2,1))+1+9)=3,DATE(CalYear,3,1)-WEEKDAY(DATE(CalYear,3,1),IF(WeekStart="Monday",2,1))+1+9,"") -> 0 | U8: =IF(MONTH(DATE(CalYear,3,1)-WEEKDAY(DATE(CalYear,3,1),IF(WeekStart="Monday",2,1))+1+10)=3,DATE(CalYear,3,1)-WEEKDAY(DATE(CalYear,3,1),IF(WeekStart="Monday",2,1))+1+10,"") -> 0 | V8: =IF(MONTH(DATE(CalYear,3,1)-WEEKDAY(DATE(CalYear,3,1),IF(WeekStart="Monday",2,1))+1+11)=3,DATE(CalYear,3,1)-WEEKDAY(DATE(CalYear,3,1),IF(WeekStart="Monday",2,1))+1+11,"") -> 0 | W8: =IF(MONTH(DATE(CalYear,3,1)-WEEKDAY(DATE(CalYear,3,1),IF(WeekStart="Monday",2,1))+1+12)=3,DATE(CalYear,3,1)-WEEKDAY(DATE(CalYear,3,1),IF(WeekStart="Monday",2,1))+1+12,"") -> 0 | X8: =IF(MONTH(DATE(CalYear,3,1)-WEEKDAY(DATE(CalYear,3,1),IF(WeekStart="Monday",2,1))+1+13)=3,DATE(CalYear,3,1)-WEEKDAY(DATE(CalYear,3,1),IF(WeekStart="Monday",2,1))+1+13,"") -> 0 | Z8: =IF(MONTH(DATE(CalYear,4,1)-WEEKDAY(DATE(CalYear,4,1),IF(WeekStart="Monday",2,1))+1+7)=4,DATE(CalYear,4,1)-WEEKDAY(DATE(CalYear,4,1),IF(WeekStart="Monday",2,1))+1+7,"") -> 0 | AA8: =IF(MONTH(DATE(CalYear,4,1)-WEEKDAY(DATE(CalYear,4,1),IF(WeekStart="Monday",2,1))+1+8)=4,DATE(CalYear,4,1)-WEEKDAY(DATE(CalYear,4,1),IF(WeekStart="Monday",2,1))+1+8,"") -> 0 | AB8: =IF(MONTH(DATE(CalYear,4,1)-WEEKDAY(DATE(CalYear,4,1),IF(WeekStart="Monday",2,1))+1+9)=4,DATE(CalYear,4,1)-WEEKDAY(DATE(CalYear,4,1),IF(WeekStart="Monday",2,1))+1+9,"") -> 0 | AC8: =IF(MONTH(DATE(CalYear,4,1)-WEEKDAY(DATE(CalYear,4,1),IF(WeekStart="Monday",2,1))+1+10)=4,DATE(CalYear,4,1)-WEEKDAY(DATE(CalYear,4,1),IF(WeekStart="Monday",2,1))+1+10,"") -> 0 | AD8: =IF(MONTH(DATE(CalYear,4,1)-WEEKDAY(DATE(CalYear,4,1),IF(WeekStart="Monday",2,1))+1+11)=4,DATE(CalYear,4,1)-WEEKDAY(DATE(CalYear,4,1),IF(WeekStart="Monday",2,1))+1+11,"") -> 0 | AE8: =IF(MONTH(DATE(CalYear,4,1)-WEEKDAY(DATE(CalYear,4,1),IF(WeekStart="Monday",2,1))+1+12)=4,DATE(CalYear,4,1)-WEEKDAY(DATE(CalYear,4,1),IF(WeekStart="Monday",2,1))+1+12,"") -> 0 | AF8: =IF(MONTH(DATE(CalYear,4,1)-WEEKDAY(DATE(CalYear,4,1),IF(WeekStart="Monday",2,1))+1+13)=4,DATE(CalYear,4,1)-WEEKDAY(DATE(CalYear,4,1),IF(WeekStart="Monday",2,1))+1+13,"") -> 0
B9: =IF(MONTH(DATE(CalYear,1,1)-WEEKDAY(DATE(CalYear,1,1),IF(WeekStart="Monday",2,1))+1+14)=1,DATE(CalYear,1,1)-WEEKDAY(DATE(CalYear,1,1),IF(WeekStart="Monday",2,1))+1+14,"") -> 0 | C9: =IF(MONTH(DATE(CalYear,1,1)-WEEKDAY(DATE(CalYear,1,1),IF(WeekStart="Monday",2,1))+1+15)=1,DATE(CalYear,1,1)-WEEKDAY(DATE(CalYear,1,1),IF(WeekStart="Monday",2,1))+1+15,"") -> 0 | D9: =IF(MONTH(DATE(CalYear,1,1)-WEEKDAY(DATE(CalYear,1,1),IF(WeekStart="Monday",2,1))+1+16)=1,DATE(CalYear,1,1)-WEEKDAY(DATE(CalYear,1,1),IF(WeekStart="Monday",2,1))+1+16,"") -> 0 | E9: =IF(MONTH(DATE(CalYear,1,1)-WEEKDAY(DATE(CalYear,1,1),IF(WeekStart="Monday",2,1))+1+17)=1,DATE(CalYear,1,1)-WEEKDAY(DATE(CalYear,1,1),IF(WeekStart="Monday",2,1))+1+17,"") -> 0 | F9: =IF(MONTH(DATE(CalYear,1,1)-WEEKDAY(DATE(CalYear,1,1),IF(WeekStart="Monday",2,1))+1+18)=1,DATE(CalYear,1,1)-WEEKDAY(DATE(CalYear,1,1),IF(WeekStart="Monday",2,1))+1+18,"") -> 0 | G9: =IF(MONTH(DATE(CalYear,1,1)-WEEKDAY(DATE(CalYear,1,1),IF(WeekStart="Monday",2,1))+1+19)=1,DATE(CalYear,1,1)-WEEKDAY(DATE(CalYear,1,1),IF(WeekStart="Monday",2,1))+1+19,"") -> 0 | H9: =IF(MONTH(DATE(CalYear,1,1)-WEEKDAY(DATE(CalYear,1,1),IF(WeekStart="Monday",2,1))+1+20)=1,DATE(CalYear,1,1)-WEEKDAY(DATE(CalYear,1,1),IF(WeekStart="Monday",2,1))+1+20,"") -> 0 | J9: =IF(MONTH(DATE(CalYear,2,1)-WEEKDAY(DATE(CalYear,2,1),IF(WeekStart="Monday",2,1))+1+14)=2,DATE(CalYear,2,1)-WEEKDAY(DATE(CalYear,2,1),IF(WeekStart="Monday",2,1))+1+14,"") -> 0 | K9: =IF(MONTH(DATE(CalYear,2,1)-WEEKDAY(DATE(CalYear,2,1),IF(WeekStart="Monday",2,1))+1+15)=2,DATE(CalYear,2,1)-WEEKDAY(DATE(CalYear,2,1),IF(WeekStart="Monday",2,1))+1+15,"") -> 0 | L9: =IF(MONTH(DATE(CalYear,2,1)-WEEKDAY(DATE(CalYear,2,1),IF(WeekStart="Monday",2,1))+1+16)=2,DATE(CalYear,2,1)-WEEKDAY(DATE(CalYear,2,1),IF(WeekStart="Monday",2,1))+1+16,"") -> 0 | M9: =IF(MONTH(DATE(CalYear,2,1)-WEEKDAY(DATE(CalYear,2,1),IF(WeekStart="Monday",2,1))+1+17)=2,DATE(CalYear,2,1)-WEEKDAY(DATE(CalYear,2,1),IF(WeekStart="Monday",2,1))+1+17,"") -> 0 | N9: =IF(MONTH(DATE(CalYear,2,1)-WEEKDAY(DATE(CalYear,2,1),IF(WeekStart="Monday",2,1))+1+18)=2,DATE(CalYear,2,1)-WEEKDAY(DATE(CalYear,2,1),IF(WeekStart="Monday",2,1))+1+18,"") -> 0 | O9: =IF(MONTH(DATE(CalYear,2,1)-WEEKDAY(DATE(CalYear,2,1),IF(WeekStart="Monday",2,1))+1+19)=2,DATE(CalYear,2,1)-WEEKDAY(DATE(CalYear,2,1),IF(WeekStart="Monday",2,1))+1+19,"") -> 0 | P9: =IF(MONTH(DATE(CalYear,2,1)-WEEKDAY(DATE(CalYear,2,1),IF(WeekStart="Monday",2,1))+1+20)=2,DATE(CalYear,2,1)-WEEKDAY(DATE(CalYear,2,1),IF(WeekStart="Monday",2,1))+1+20,"") -> 0 | R9: =IF(MONTH(DATE(CalYear,3,1)-WEEKDAY(DATE(CalYear,3,1),IF(WeekStart="Monday",2,1))+1+14)=3,DATE(CalYear,3,1)-WEEKDAY(DATE(CalYear,3,1),IF(WeekStart="Monday",2,1))+1+14,"") -> 0 | S9: =IF(MONTH(DATE(CalYear,3,1)-WEEKDAY(DATE(CalYear,3,1),IF(WeekStart="Monday",2,1))+1+15)=3,DATE(CalYear,3,1)-WEEKDAY(DATE(CalYear,3,1),IF(WeekStart="Monday",2,1))+1+15,"") -> 0 | T9: =IF(MONTH(DATE(CalYear,3,1)-WEEKDAY(DATE(CalYear,3,1),IF(WeekStart="Monday",2,1))+1+16)=3,DATE(CalYear,3,1)-WEEKDAY(DATE(CalYear,3,1),IF(WeekStart="Monday",2,1))+1+16,"") -> 0 | U9: =IF(MONTH(DATE(CalYear,3,1)-WEEKDAY(DATE(CalYear,3,1),IF(WeekStart="Monday",2,1))+1+17)=3,DATE(CalYear,3,1)-WEEKDAY(DATE(CalYear,3,1),IF(WeekStart="Monday",2,1))+1+17,"") -> 0 | V9: =IF(MONTH(DATE(CalYear,3,1)-WEEKDAY(DATE(CalYear,3,1),IF(WeekStart="Monday",2,1))+1+18)=3,DATE(CalYear,3,1)-WEEKDAY(DATE(CalYear,3,1),IF(WeekStart="Monday",2,1))+1+18,"") -> 0 | W9: =IF(MONTH(DATE(CalYear,3,1)-WEEKDAY(DATE(CalYear,3,1),IF(WeekStart="Monday",2,1))+1+19)=3,DATE(CalYear,3,1)-WEEKDAY(DATE(CalYear,3,1),IF(WeekStart="Monday",2,1))+1+19,"") -> 0 | X9: =IF(MONTH(DATE(CalYear,3,1)-WEEKDAY(DATE(CalYear,3,1),IF(WeekStart="Monday",2,1))+1+20)=3,DATE(CalYear,3,1)-WEEKDAY(DATE(CalYear,3,1),IF(WeekStart="Monday",2,1))+1+20,"") -> 0 | Z9: =IF(MONTH(DATE(CalYear,4,1)-WEEKDAY(DATE(CalYear,4,1),IF(WeekStart="Monday",2,1))+1+14)=4,DATE(CalYear,4,1)-WEEKDAY(DATE(CalYear,4,1),IF(WeekStart="Monday",2,1))+1+14,"") -> 0 | AA9: =IF(MONTH(DATE(CalYear,4,1)-WEEKDAY(DATE(CalYear,4,1),IF(WeekStart="Monday",2,1))+1+15)=4,DATE(CalYear,4,1)-WEEKDAY(DATE(CalYear,4,1),IF(WeekStart="Monday",2,1))+1+15,"") -> 0 | AB9: =IF(MONTH(DATE(CalYear,4,1)-WEEKDAY(DATE(CalYear,4,1),IF(WeekStart="Monday",2,1))+1+16)=4,DATE(CalYear,4,1)-WEEKDAY(DATE(CalYear,4,1),IF(WeekStart="Monday",2,1))+1+16,"") -> 0 | AC9: =IF(MONTH(DATE(CalYear,4,1)-WEEKDAY(DATE(CalYear,4,1),IF(WeekStart="Monday",2,1))+1+17)=4,DATE(CalYear,4,1)-WEEKDAY(DATE(CalYear,4,1),IF(WeekStart="Monday",2,1))+1+17,"") -> 0 | AD9: =IF(MONTH(DATE(CalYear,4,1)-WEEKDAY(DATE(CalYear,4,1),IF(WeekStart="Monday",2,1))+1+18)=4,DATE(CalYear,4,1)-WEEKDAY(DATE(CalYear,4,1),IF(WeekStart="Monday",2,1))+1+18,"") -> 0 | AE9: =IF(MONTH(DATE(CalYear,4,1)-WEEKDAY(DATE(CalYear,4,1),IF(WeekStart="Monday",2,1))+1+19)=4,DATE(CalYear,4,1)-WEEKDAY(DATE(CalYear,4,1),IF(WeekStart="Monday",2,1))+1+19,"") -> 0 | AF9: =IF(MONTH(DATE(CalYear,4,1)-WEEKDAY(DATE(CalYear,4,1),IF(WeekStart="Monday",2,1))+1+20)=4,DATE(CalYear,4,1)-WEEKDAY(DATE(CalYear,4,1),IF(WeekStart="Monday",2,1))+1+20,"") -> 0
B10: =IF(MONTH(DATE(CalYear,1,1)-WEEKDAY(DATE(CalYear,1,1),IF(WeekStart="Monday",2,1))+1+21)=1,DATE(CalYear,1,1)-WEEKDAY(DATE(CalYear,1,1),IF(WeekStart="Monday",2,1))+1+21,"") -> 0 | C10: =IF(MONTH(DATE(CalYear,1,1)-WEEKDAY(DATE(CalYear,1,1),IF(WeekStart="Monday",2,1))+1+22)=1,DATE(CalYear,1,1)-WEEKDAY(DATE(CalYear,1,1),IF(WeekStart="Monday",2,1))+1+22,"") -> 0 | D10: =IF(MONTH(DATE(CalYear,1,1)-WEEKDAY(DATE(CalYear,1,1),IF(WeekStart="Monday",2,1))+1+23)=1,DATE(CalYear,1,1)-WEEKDAY(DATE(CalYear,1,1),IF(WeekStart="Monday",2,1))+1+23,"") -> 0 | E10: =IF(MONTH(DATE(CalYear,1,1)-WEEKDAY(DATE(CalYear,1,1),IF(WeekStart="Monday",2,1))+1+24)=1,DATE(CalYear,1,1)-WEEKDAY(DATE(CalYear,1,1),IF(WeekStart="Monday",2,1))+1+24,"") -> 0 | F10: =IF(MONTH(DATE(CalYear,1,1)-WEEKDAY(DATE(CalYear,1,1),IF(WeekStart="Monday",2,1))+1+25)=1,DATE(CalYear,1,1)-WEEKDAY(DATE(CalYear,1,1),IF(WeekStart="Monday",2,1))+1+25,"") -> 0 | G10: =IF(MONTH(DATE(CalYear,1,1)-WEEKDAY(DATE(CalYear,1,1),IF(WeekStart="Monday",2,1))+1+26)=1,DATE(CalYear,1,1)-WEEKDAY(DATE(CalYear,1,1),IF(WeekStart="Monday",2,1))+1+26,"") -> 0 | H10: =IF(MONTH(DATE(CalYear,1,1)-WEEKDAY(DATE(CalYear,1,1),IF(WeekStart="Monday",2,1))+1+27)=1,DATE(CalYear,1,1)-WEEKDAY(DATE(CalYear,1,1),IF(WeekStart="Monday",2,1))+1+27,"") -> 0 | J10: =IF(MONTH(DATE(CalYear,2,1)-WEEKDAY(DATE(CalYear,2,1),IF(WeekStart="Monday",2,1))+1+21)=2,DATE(CalYear,2,1)-WEEKDAY(DATE(CalYear,2,1),IF(WeekStart="Monday",2,1))+1+21,"") -> 0 | K10: =IF(MONTH(DATE(CalYear,2,1)-WEEKDAY(DATE(CalYear,2,1),IF(WeekStart="Monday",2,1))+1+22)=2,DATE(CalYear,2,1)-WEEKDAY(DATE(CalYear,2,1),IF(WeekStart="Monday",2,1))+1+22,"") -> 0 | L10: =IF(MONTH(DATE(CalYear,2,1)-WEEKDAY(DATE(CalYear,2,1),IF(WeekStart="Monday",2,1))+1+23)=2,DATE(CalYear,2,1)-WEEKDAY(DATE(CalYear,2,1),IF(WeekStart="Monday",2,1))+1+23,"") -> 0 | M10: =IF(MONTH(DATE(CalYear,2,1)-WEEKDAY(DATE(CalYear,2,1),IF(WeekStart="Monday",2,1))+1+24)=2,DATE(CalYear,2,1)-WEEKDAY(DATE(CalYear,2,1),IF(WeekStart="Monday",2,1))+1+24,"") -> 0 | N10: =IF(MONTH(DATE(CalYear,2,1)-WEEKDAY(DATE(CalYear,2,1),IF(WeekStart="Monday",2,1))+1+25)=2,DATE(CalYear,2,1)-WEEKDAY(DATE(CalYear,2,1),IF(WeekStart="Monday",2,1))+1+25,"") -> 0 | O10: =IF(MONTH(DATE(CalYear,2,1)-WEEKDAY(DATE(CalYear,2,1),IF(WeekStart="Monday",2,1))+1+26)=2,DATE(CalYear,2,1)-WEEKDAY(DATE(CalYear,2,1),IF(WeekStart="Monday",2,1))+1+26,"") -> 0 | P10: =IF(MONTH(DATE(CalYear,2,1)-WEEKDAY(DATE(CalYear,2,1),IF(WeekStart="Monday",2,1))+1+27)=2,DATE(CalYear,2,1)-WEEKDAY(DATE(CalYear,2,1),IF(WeekStart="Monday",2,1))+1+27,"") -> 0 | R10: =IF(MONTH(DATE(CalYear,3,1)-WEEKDAY(DATE(CalYear,3,1),IF(WeekStart="Monday",2,1))+1+21)=3,DATE(CalYear,3,1)-WEEKDAY(DATE(CalYear,3,1),IF(WeekStart="Monday",2,1))+1+21,"") -> 0 | S10: =IF(MONTH(DATE(CalYear,3,1)-WEEKDAY(DATE(CalYear,3,1),IF(WeekStart="Monday",2,1))+1+22)=3,DATE(CalYear,3,1)-WEEKDAY(DATE(CalYear,3,1),IF(WeekStart="Monday",2,1))+1+22,"") -> 0 | T10: =IF(MONTH(DATE(CalYear,3,1)-WEEKDAY(DATE(CalYear,3,1),IF(WeekStart="Monday",2,1))+1+23)=3,DATE(CalYear,3,1)-WEEKDAY(DATE(CalYear,3,1),IF(WeekStart="Monday",2,1))+1+23,"") -> 0 | U10: =IF(MONTH(DATE(CalYear,3,1)-WEEKDAY(DATE(CalYear,3,1),IF(WeekStart="Monday",2,1))+1+24)=3,DATE(CalYear,3,1)-WEEKDAY(DATE(CalYear,3,1),IF(WeekStart="Monday",2,1))+1+24,"") -> 0 | V10: =IF(MONTH(DATE(CalYear,3,1)-WEEKDAY(DATE(CalYear,3,1),IF(WeekStart="Monday",2,1))+1+25)=3,DATE(CalYear,3,1)-WEEKDAY(DATE(CalYear,3,1),IF(WeekStart="Monday",2,1))+1+25,"") -> 0 | W10: =IF(MONTH(DATE(CalYear,3,1)-WEEKDAY(DATE(CalYear,3,1),IF(WeekStart="Monday",2,1))+1+26)=3,DATE(CalYear,3,1)-WEEKDAY(DATE(CalYear,3,1),IF(WeekStart="Monday",2,1))+1+26,"") -> 0 | X10: =IF(MONTH(DATE(CalYear,3,1)-WEEKDAY(DATE(CalYear,3,1),IF(WeekStart="Monday",2,1))+1+27)=3,DATE(CalYear,3,1)-WEEKDAY(DATE(CalYear,3,1),IF(WeekStart="Monday",2,1))+1+27,"") -> 0 | Z10: =IF(MONTH(DATE(CalYear,4,1)-WEEKDAY(DATE(CalYear,4,1),IF(WeekStart="Monday",2,1))+1+21)=4,DATE(CalYear,4,1)-WEEKDAY(DATE(CalYear,4,1),IF(WeekStart="Monday",2,1))+1+21,"") -> 0 | AA10: =IF(MONTH(DATE(CalYear,4,1)-WEEKDAY(DATE(CalYear,4,1),IF(WeekStart="Monday",2,1))+1+22)=4,DATE(CalYear,4,1)-WEEKDAY(DATE(CalYear,4,1),IF(WeekStart="Monday",2,1))+1+22,"") -> 0 | AB10: =IF(MONTH(DATE(CalYear,4,1)-WEEKDAY(DATE(CalYear,4,1),IF(WeekStart="Monday",2,1))+1+23)=4,DATE(CalYear,4,1)-WEEKDAY(DATE(CalYear,4,1),IF(WeekStart="Monday",2,1))+1+23,"") -> 0 | AC10: =IF(MONTH(DATE(CalYear,4,1)-WEEKDAY(DATE(CalYear,4,1),IF(WeekStart="Monday",2,1))+1+24)=4,DATE(CalYear,4,1)-WEEKDAY(DATE(CalYear,4,1),IF(WeekStart="Monday",2,1))+1+24,"") -> 0 | AD10: =IF(MONTH(DATE(CalYear,4,1)-WEEKDAY(DATE(CalYear,4,1),IF(WeekStart="Monday",2,1))+1+25)=4,DATE(CalYear,4,1)-WEEKDAY(DATE(CalYear,4,1),IF(WeekStart="Monday",2,1))+1+25,"") -> 0 | AE10: =IF(MONTH(DATE(CalYear,4,1)-WEEKDAY(DATE(CalYear,4,1),IF(WeekStart="Monday",2,1))+1+26)=4,DATE(CalYear,4,1)-WEEKDAY(DATE(CalYear,4,1),IF(WeekStart="Monday",2,1))+1+26,"") -> 0 | AF10: =IF(MONTH(DATE(CalYear,4,1)-WEEKDAY(DATE(CalYear,4,1),IF(WeekStart="Monday",2,1))+1+27)=4,DATE(CalYear,4,1)-WEEKDAY(DATE(CalYear,4,1),IF(WeekStart="Monday",2,1))+1+27,"") -> 0
B11: =IF(MONTH(DATE(CalYear,1,1)-WEEKDAY(DATE(CalYear,1,1),IF(WeekStart="Monday",2,1))+1+28)=1,DATE(CalYear,1,1)-WEEKDAY(DATE(CalYear,1,1),IF(WeekStart="Monday",2,1))+1+28,"") -> 0 | C11: =IF(MONTH(DATE(CalYear,1,1)-WEEKDAY(DATE(CalYear,1,1),IF(WeekStart="Monday",2,1))+1+29)=1,DATE(CalYear,1,1)-WEEKDAY(DATE(CalYear,1,1),IF(WeekStart="Monday",2,1))+1+29,"") -> 0 | D11: =IF(MONTH(DATE(CalYear,1,1)-WEEKDAY(DATE(CalYear,1,1),IF(WeekStart="Monday",2,1))+1+30)=1,DATE(CalYear,1,1)-WEEKDAY(DATE(CalYear,1,1),IF(WeekStart="Monday",2,1))+1+30,"") -> 0 | E11: =IF(MONTH(DATE(CalYear,1,1)-WEEKDAY(DATE(CalYear,1,1),IF(WeekStart="Monday",2,1))+1+31)=1,DATE(CalYear,1,1)-WEEKDAY(DATE(CalYear,1,1),IF(WeekStart="Monday",2,1))+1+31,"") -> 0 | F11: =IF(MONTH(DATE(CalYear,1,1)-WEEKDAY(DATE(CalYear,1,1),IF(WeekStart="Monday",2,1))+1+32)=1,DATE(CalYear,1,1)-WEEKDAY(DATE(CalYear,1,1),IF(WeekStart="Monday",2,1))+1+32,"") -> 0 | G11: =IF(MONTH(DATE(CalYear,1,1)-WEEKDAY(DATE(CalYear,1,1),IF(WeekStart="Monday",2,1))+1+33)=1,DATE(CalYear,1,1)-WEEKDAY(DATE(CalYear,1,1),IF(WeekStart="Monday",2,1))+1+33,"") -> 0 | H11: =IF(MONTH(DATE(CalYear,1,1)-WEEKDAY(DATE(CalYear,1,1),IF(WeekStart="Monday",2,1))+1+34)=1,DATE(CalYear,1,1)-WEEKDAY(DATE(CalYear,1,1),IF(WeekStart="Monday",2,1))+1+34,"") -> 0 | J11: =IF(MONTH(DATE(CalYear,2,1)-WEEKDAY(DATE(CalYear,2,1),IF(WeekStart="Monday",2,1))+1+28)=2,DATE(CalYear,2,1)-WEEKDAY(DATE(CalYear,2,1),IF(WeekStart="Monday",2,1))+1+28,"") -> 0 | K11: =IF(MONTH(DATE(CalYear,2,1)-WEEKDAY(DATE(CalYear,2,1),IF(WeekStart="Monday",2,1))+1+29)=2,DATE(CalYear,2,1)-WEEKDAY(DATE(CalYear,2,1),IF(WeekStart="Monday",2,1))+1+29,"") -> 0 | L11: =IF(MONTH(DATE(CalYear,2,1)-WEEKDAY(DATE(CalYear,2,1),IF(WeekStart="Monday",2,1))+1+30)=2,DATE(CalYear,2,1)-WEEKDAY(DATE(CalYear,2,1),IF(WeekStart="Monday",2,1))+1+30,"") -> 0 | M11: =IF(MONTH(DATE(CalYear,2,1)-WEEKDAY(DATE(CalYear,2,1),IF(WeekStart="Monday",2,1))+1+31)=2,DATE(CalYear,2,1)-WEEKDAY(DATE(CalYear,2,1),IF(WeekStart="Monday",2,1))+1+31,"") -> 0 | N11: =IF(MONTH(DATE(CalYear,2,1)-WEEKDAY(DATE(CalYear,2,1),IF(WeekStart="Monday",2,1))+1+32)=2,DATE(CalYear,2,1)-WEEKDAY(DATE(CalYear,2,1),IF(WeekStart="Monday",2,1))+1+32,"") -> 0 | O11: =IF(MONTH(DATE(CalYear,2,1)-WEEKDAY(DATE(CalYear,2,1),IF(WeekStart="Monday",2,1))+1+33)=2,DATE(CalYear,2,1)-WEEKDAY(DATE(CalYear,2,1),IF(WeekStart="Monday",2,1))+1+33,"") -> 0 | P11: =IF(MONTH(DATE(CalYear,2,1)-WEEKDAY(DATE(CalYear,2,1),IF(WeekStart="Monday",2,1))+1+34)=2,DATE(CalYear,2,1)-WEEKDAY(DATE(CalYear,2,1),IF(WeekStart="Monday",2,1))+1+34,"") -> 0 | R11: =IF(MONTH(DATE(CalYear,3,1)-WEEKDAY(DATE(CalYear,3,1),IF(WeekStart="Monday",2,1))+1+28)=3,DATE(CalYear,3,1)-WEEKDAY(DATE(CalYear,3,1),IF(WeekStart="Monday",2,1))+1+28,"") -> 0 | S11: =IF(MONTH(DATE(CalYear,3,1)-WEEKDAY(DATE(CalYear,3,1),IF(WeekStart="Monday",2,1))+1+29)=3,DATE(CalYear,3,1)-WEEKDAY(DATE(CalYear,3,1),IF(WeekStart="Monday",2,1))+1+29,"") -> 0 | T11: =IF(MONTH(DATE(CalYear,3,1)-WEEKDAY(DATE(CalYear,3,1),IF(WeekStart="Monday",2,1))+1+30)=3,DATE(CalYear,3,1)-WEEKDAY(DATE(CalYear,3,1),IF(WeekStart="Monday",2,1))+1+30,"") -> 0 | U11: =IF(MONTH(DATE(CalYear,3,1)-WEEKDAY(DATE(CalYear,3,1),IF(WeekStart="Monday",2,1))+1+31)=3,DATE(CalYear,3,1)-WEEKDAY(DATE(CalYear,3,1),IF(WeekStart="Monday",2,1))+1+31,"") -> 0 | V11: =IF(MONTH(DATE(CalYear,3,1)-WEEKDAY(DATE(CalYear,3,1),IF(WeekStart="Monday",2,1))+1+32)=3,DATE(CalYear,3,1)-WEEKDAY(DATE(CalYear,3,1),IF(WeekStart="Monday",2,1))+1+32,"") -> 0 | W11: =IF(MONTH(DATE(CalYear,3,1)-WEEKDAY(DATE(CalYear,3,1),IF(WeekStart="Monday",2,1))+1+33)=3,DATE(CalYear,3,1)-WEEKDAY(DATE(CalYear,3,1),IF(WeekStart="Monday",2,1))+1+33,"") -> 0 | X11: =IF(MONTH(DATE(CalYear,3,1)-WEEKDAY(DATE(CalYear,3,1),IF(WeekStart="Monday",2,1))+1+34)=3,DATE(CalYear,3,1)-WEEKDAY(DATE(CalYear,3,1),IF(WeekStart="Monday",2,1))+1+34,"") -> 0 | Z11: =IF(MONTH(DATE(CalYear,4,1)-WEEKDAY(DATE(CalYear,4,1),IF(WeekStart="Monday",2,1))+1+28)=4,DATE(CalYear,4,1)-WEEKDAY(DATE(CalYear,4,1),IF(WeekStart="Monday",2,1))+1+28,"") -> 0 | AA11: =IF(MONTH(DATE(CalYear,4,1)-WEEKDAY(DATE(CalYear,4,1),IF(WeekStart="Monday",2,1))+1+29)=4,DATE(CalYear,4,1)-WEEKDAY(DATE(CalYear,4,1),IF(WeekStart="Monday",2,1))+1+29,"") -> 0 | AB11: =IF(MONTH(DATE(CalYear,4,1)-WEEKDAY(DATE(CalYear,4,1),IF(WeekStart="Monday",2,1))+1+30)=4,DATE(CalYear,4,1)-WEEKDAY(DATE(CalYear,4,1),IF(WeekStart="Monday",2,1))+1+30,"") -> 0 | AC11: =IF(MONTH(DATE(CalYear,4,1)-WEEKDAY(DATE(CalYear,4,1),IF(WeekStart="Monday",2,1))+1+31)=4,DATE(CalYear,4,1)-WEEKDAY(DATE(CalYear,4,1),IF(WeekStart="Monday",2,1))+1+31,"") -> 0 | AD11: =IF(MONTH(DATE(CalYear,4,1)-WEEKDAY(DATE(CalYear,4,1),IF(WeekStart="Monday",2,1))+1+32)=4,DATE(CalYear,4,1)-WEEKDAY(DATE(CalYear,4,1),IF(WeekStart="Monday",2,1))+1+32,"") -> 0 | AE11: =IF(MONTH(DATE(CalYear,4,1)-WEEKDAY(DATE(CalYear,4,1),IF(WeekStart="Monday",2,1))+1+33)=4,DATE(CalYear,4,1)-WEEKDAY(DATE(CalYear,4,1),IF(WeekStart="Monday",2,1))+1+33,"") -> 0 | AF11: =IF(MONTH(DATE(CalYear,4,1)-WEEKDAY(DATE(CalYear,4,1),IF(WeekStart="Monday",2,1))+1+34)=4,DATE(CalYear,4,1)-WEEKDAY(DATE(CalYear,4,1),IF(WeekStart="Monday",2,1))+1+34,"") -> 0
B12: =IF(MONTH(DATE(CalYear,1,1)-WEEKDAY(DATE(CalYear,1,1),IF(WeekStart="Monday",2,1))+1+35)=1,DATE(CalYear,1,1)-WEEKDAY(DATE(CalYear,1,1),IF(WeekStart="Monday",2,1))+1+35,"") -> 0 | C12: =IF(MONTH(DATE(CalYear,1,1)-WEEKDAY(DATE(CalYear,1,1),IF(WeekStart="Monday",2,1))+1+36)=1,DATE(CalYear,1,1)-WEEKDAY(DATE(CalYear,1,1),IF(WeekStart="Monday",2,1))+1+36,"") -> 0 | D12: =IF(MONTH(DATE(CalYear,1,1)-WEEKDAY(DATE(CalYear,1,1),IF(WeekStart="Monday",2,1))+1+37)=1,DATE(CalYear,1,1)-WEEKDAY(DATE(CalYear,1,1),IF(WeekStart="Monday",2,1))+1+37,"") -> 0 | E12: =IF(MONTH(DATE(CalYear,1,1)-WEEKDAY(DATE(CalYear,1,1),IF(WeekStart="Monday",2,1))+1+38)=1,DATE(CalYear,1,1)-WEEKDAY(DATE(CalYear,1,1),IF(WeekStart="Monday",2,1))+1+38,"") -> 0 | F12: =IF(MONTH(DATE(CalYear,1,1)-WEEKDAY(DATE(CalYear,1,1),IF(WeekStart="Monday",2,1))+1+39)=1,DATE(CalYear,1,1)-WEEKDAY(DATE(CalYear,1,1),IF(WeekStart="Monday",2,1))+1+39,"") -> 0 | G12: =IF(MONTH(DATE(CalYear,1,1)-WEEKDAY(DATE(CalYear,1,1),IF(WeekStart="Monday",2,1))+1+40)=1,DATE(CalYear,1,1)-WEEKDAY(DATE(CalYear,1,1),IF(WeekStart="Monday",2,1))+1+40,"") -> 0 | H12: =IF(MONTH(DATE(CalYear,1,1)-WEEKDAY(DATE(CalYear,1,1),IF(WeekStart="Monday",2,1))+1+41)=1,DATE(CalYear,1,1)-WEEKDAY(DATE(CalYear,1,1),IF(WeekStart="Monday",2,1))+1+41,"") -> 0 | J12: =IF(MONTH(DATE(CalYear,2,1)-WEEKDAY(DATE(CalYear,2,1),IF(WeekStart="Monday",2,1))+1+35)=2,DATE(CalYear,2,1)-WEEKDAY(DATE(CalYear,2,1),IF(WeekStart="Monday",2,1))+1+35,"") -> 0 | K12: =IF(MONTH(DATE(CalYear,2,1)-WEEKDAY(DATE(CalYear,2,1),IF(WeekStart="Monday",2,1))+1+36)=2,DATE(CalYear,2,1)-WEEKDAY(DATE(CalYear,2,1),IF(WeekStart="Monday",2,1))+1+36,"") -> 0 | L12: =IF(MONTH(DATE(CalYear,2,1)-WEEKDAY(DATE(CalYear,2,1),IF(WeekStart="Monday",2,1))+1+37)=2,DATE(CalYear,2,1)-WEEKDAY(DATE(CalYear,2,1),IF(WeekStart="Monday",2,1))+1+37,"") -> 0 | M12: =IF(MONTH(DATE(CalYear,2,1)-WEEKDAY(DATE(CalYear,2,1),IF(WeekStart="Monday",2,1))+1+38)=2,DATE(CalYear,2,1)-WEEKDAY(DATE(CalYear,2,1),IF(WeekStart="Monday",2,1))+1+38,"") -> 0 | N12: =IF(MONTH(DATE(CalYear,2,1)-WEEKDAY(DATE(CalYear,2,1),IF(WeekStart="Monday",2,1))+1+39)=2,DATE(CalYear,2,1)-WEEKDAY(DATE(CalYear,2,1),IF(WeekStart="Monday",2,1))+1+39,"") -> 0 | O12: =IF(MONTH(DATE(CalYear,2,1)-WEEKDAY(DATE(CalYear,2,1),IF(WeekStart="Monday",2,1))+1+40)=2,DATE(CalYear,2,1)-WEEKDAY(DATE(CalYear,2,1),IF(WeekStart="Monday",2,1))+1+40,"") -> 0 | P12: =IF(MONTH(DATE(CalYear,2,1)-WEEKDAY(DATE(CalYear,2,1),IF(WeekStart="Monday",2,1))+1+41)=2,DATE(CalYear,2,1)-WEEKDAY(DATE(CalYear,2,1),IF(WeekStart="Monday",2,1))+1+41,"") -> 0 | R12: =IF(MONTH(DATE(CalYear,3,1)-WEEKDAY(DATE(CalYear,3,1),IF(WeekStart="Monday",2,1))+1+35)=3,DATE(CalYear,3,1)-WEEKDAY(DATE(CalYear,3,1),IF(WeekStart="Monday",2,1))+1+35,"") -> 0 | S12: =IF(MONTH(DATE(CalYear,3,1)-WEEKDAY(DATE(CalYear,3,1),IF(WeekStart="Monday",2,1))+1+36)=3,DATE(CalYear,3,1)-WEEKDAY(DATE(CalYear,3,1),IF(WeekStart="Monday",2,1))+1+36,"") -> 0 | T12: =IF(MONTH(DATE(CalYear,3,1)-WEEKDAY(DATE(CalYear,3,1),IF(WeekStart="Monday",2,1))+1+37)=3,DATE(CalYear,3,1)-WEEKDAY(DATE(CalYear,3,1),IF(WeekStart="Monday",2,1))+1+37,"") -> 0 | U12: =IF(MONTH(DATE(CalYear,3,1)-WEEKDAY(DATE(CalYear,3,1),IF(WeekStart="Monday",2,1))+1+38)=3,DATE(CalYear,3,1)-WEEKDAY(DATE(CalYear,3,1),IF(WeekStart="Monday",2,1))+1+38,"") -> 0 | V12: =IF(MONTH(DATE(CalYear,3,1)-WEEKDAY(DATE(CalYear,3,1),IF(WeekStart="Monday",2,1))+1+39)=3,DATE(CalYear,3,1)-WEEKDAY(DATE(CalYear,3,1),IF(WeekStart="Monday",2,1))+1+39,"") -> 0 | W12: =IF(MONTH(DATE(CalYear,3,1)-WEEKDAY(DATE(CalYear,3,1),IF(WeekStart="Monday",2,1))+1+40)=3,DATE(CalYear,3,1)-WEEKDAY(DATE(CalYear,3,1),IF(WeekStart="Monday",2,1))+1+40,"") -> 0 | X12: =IF(MONTH(DATE(CalYear,3,1)-WEEKDAY(DATE(CalYear,3,1),IF(WeekStart="Monday",2,1))+1+41)=3,DATE(CalYear,3,1)-WEEKDAY(DATE(CalYear,3,1),IF(WeekStart="Monday",2,1))+1+41,"") -> 0 | Z12: =IF(MONTH(DATE(CalYear,4,1)-WEEKDAY(DATE(CalYear,4,1),IF(WeekStart="Monday",2,1))+1+35)=4,DATE(CalYear,4,1)-WEEKDAY(DATE(CalYear,4,1),IF(WeekStart="Monday",2,1))+1+35,"") -> 0 | AA12: =IF(MONTH(DATE(CalYear,4,1)-WEEKDAY(DATE(CalYear,4,1),IF(WeekStart="Monday",2,1))+1+36)=4,DATE(CalYear,4,1)-WEEKDAY(DATE(CalYear,4,1),IF(WeekStart="Monday",2,1))+1+36,"") -> 0 | AB12: =IF(MONTH(DATE(CalYear,4,1)-WEEKDAY(DATE(CalYear,4,1),IF(WeekStart="Monday",2,1))+1+37)=4,DATE(CalYear,4,1)-WEEKDAY(DATE(CalYear,4,1),IF(WeekStart="Monday",2,1))+1+37,"") -> 0 | AC12: =IF(MONTH(DATE(CalYear,4,1)-WEEKDAY(DATE(CalYear,4,1),IF(WeekStart="Monday",2,1))+1+38)=4,DATE(CalYear,4,1)-WEEKDAY(DATE(CalYear,4,1),IF(WeekStart="Monday",2,1))+1+38,"") -> 0 | AD12: =IF(MONTH(DATE(CalYear,4,1)-WEEKDAY(DATE(CalYear,4,1),IF(WeekStart="Monday",2,1))+1+39)=4,DATE(CalYear,4,1)-WEEKDAY(DATE(CalYear,4,1),IF(WeekStart="Monday",2,1))+1+39,"") -> 0 | AE12: =IF(MONTH(DATE(CalYear,4,1)-WEEKDAY(DATE(CalYear,4,1),IF(WeekStart="Monday",2,1))+1+40)=4,DATE(CalYear,4,1)-WEEKDAY(DATE(CalYear,4,1),IF(WeekStart="Monday",2,1))+1+40,"") -> 0 | AF12: =IF(MONTH(DATE(CalYear,4,1)-WEEKDAY(DATE(CalYear,4,1),IF(WeekStart="Monday",2,1))+1+41)=4,DATE(CalYear,4,1)-WEEKDAY(DATE(CalYear,4,1),IF(WeekStart="Monday",2,1))+1+41,"") -> 0
B15: May | J15: June | R15: July | Z15: August
B16: =IF(WeekStart="Monday",CHOOSE(1,"M","T","W","T","F","S","S"),CHOOSE(1,"S","M","T","W","T","F","S")) -> 0 | C16: =IF(WeekStart="Monday",CHOOSE(2,"M","T","W","T","F","S","S"),CHOOSE(2,"S","M","T","W","T","F","S")) -> 0 | D16: =IF(WeekStart="Monday",CHOOSE(3,"M","T","W","T","F","S","S"),CHOOSE(3,"S","M","T","W","T","F","S")) -> 0 | E16: =IF(WeekStart="Monday",CHOOSE(4,"M","T","W","T","F","S","S"),CHOOSE(4,"S","M","T","W","T","F","S")) -> 0 | F16: =IF(WeekStart="Monday",CHOOSE(5,"M","T","W","T","F","S","S"),CHOOSE(5,"S","M","T","W","T","F","S")) -> 0 | G16: =IF(WeekStart="Monday",CHOOSE(6,"M","T","W","T","F","S","S"),CHOOSE(6,"S","M","T","W","T","F","S")) -> 0 | H16: =IF(WeekStart="Monday",CHOOSE(7,"M","T","W","T","F","S","S"),CHOOSE(7,"S","M","T","W","T","F","S")) -> 0 | J16: =IF(WeekStart="Monday",CHOOSE(1,"M","T","W","T","F","S","S"),CHOOSE(1,"S","M","T","W","T","F","S")) -> 0 | K16: =IF(WeekStart="Monday",CHOOSE(2,"M","T","W","T","F","S","S"),CHOOSE(2,"S","M","T","W","T","F","S")) -> 0 | L16: =IF(WeekStart="Monday",CHOOSE(3,"M","T","W","T","F","S","S"),CHOOSE(3,"S","M","T","W","T","F","S")) -> 0 | M16: =IF(WeekStart="Monday",CHOOSE(4,"M","T","W","T","F","S","S"),CHOOSE(4,"S","M","T","W","T","F","S")) -> 0 | N16: =IF(WeekStart="Monday",CHOOSE(5,"M","T","W","T","F","S","S"),CHOOSE(5,"S","M","T","W","T","F","S")) -> 0 | O16: =IF(WeekStart="Monday",CHOOSE(6,"M","T","W","T","F","S","S"),CHOOSE(6,"S","M","T","W","T","F","S")) -> 0 | P16: =IF(WeekStart="Monday",CHOOSE(7,"M","T","W","T","F","S","S"),CHOOSE(7,"S","M","T","W","T","F","S")) -> 0 | R16: =IF(WeekStart="Monday",CHOOSE(1,"M","T","W","T","F","S","S"),CHOOSE(1,"S","M","T","W","T","F","S")) -> 0 | S16: =IF(WeekStart="Monday",CHOOSE(2,"M","T","W","T","F","S","S"),CHOOSE(2,"S","M","T","W","T","F","S")) -> 0 | T16: =IF(WeekStart="Monday",CHOOSE(3,"M","T","W","T","F","S","S"),CHOOSE(3,"S","M","T","W","T","F","S")) -> 0 | U16: =IF(WeekStart="Monday",CHOOSE(4,"M","T","W","T","F","S","S"),CHOOSE(4,"S","M","T","W","T","F","S")) -> 0 | V16: =IF(WeekStart="Monday",CHOOSE(5,"M","T","W","T","F","S","S"),CHOOSE(5,"S","M","T","W","T","F","S")) -> 0 | W16: =IF(WeekStart="Monday",CHOOSE(6,"M","T","W","T","F","S","S"),CHOOSE(6,"S","M","T","W","T","F","S")) -> 0 | X16: =IF(WeekStart="Monday",CHOOSE(7,"M","T","W","T","F","S","S"),CHOOSE(7,"S","M","T","W","T","F","S")) -> 0 | Z16: =IF(WeekStart="Monday",CHOOSE(1,"M","T","W","T","F","S","S"),CHOOSE(1,"S","M","T","W","T","F","S")) -> 0 | AA16: =IF(WeekStart="Monday",CHOOSE(2,"M","T","W","T","F","S","S"),CHOOSE(2,"S","M","T","W","T","F","S")) -> 0 | AB16: =IF(WeekStart="Monday",CHOOSE(3,"M","T","W","T","F","S","S"),CHOOSE(3,"S","M","T","W","T","F","S")) -> 0 | AC16: =IF(WeekStart="Monday",CHOOSE(4,"M","T","W","T","F","S","S"),CHOOSE(4,"S","M","T","W","T","F","S")) -> 0 | AD16: =IF(WeekStart="Monday",CHOOSE(5,"M","T","W","T","F","S","S"),CHOOSE(5,"S","M","T","W","T","F","S")) -> 0 | AE16: =IF(WeekStart="Monday",CHOOSE(6,"M","T","W","T","F","S","S"),CHOOSE(6,"S","M","T","W","T","F","S")) -> 0 | AF16: =IF(WeekStart="Monday",CHOOSE(7,"M","T","W","T","F","S","S"),CHOOSE(7,"S","M","T","W","T","F","S")) -> 0
B17: =IF(MONTH(DATE(CalYear,5,1)-WEEKDAY(DATE(CalYear,5,1),IF(WeekStart="Monday",2,1))+1+0)=5,DATE(CalYear,5,1)-WEEKDAY(DATE(CalYear,5,1),IF(WeekStart="Monday",2,1))+1+0,"") -> 0 | C17: =IF(MONTH(DATE(CalYear,5,1)-WEEKDAY(DATE(CalYear,5,1),IF(WeekStart="Monday",2,1))+1+1)=5,DATE(CalYear,5,1)-WEEKDAY(DATE(CalYear,5,1),IF(WeekStart="Monday",2,1))+1+1,"") -> 0 | D17: =IF(MONTH(DATE(CalYear,5,1)-WEEKDAY(DATE(CalYear,5,1),IF(WeekStart="Monday",2,1))+1+2)=5,DATE(CalYear,5,1)-WEEKDAY(DATE(CalYear,5,1),IF(WeekStart="Monday",2,1))+1+2,"") -> 0 | E17: =IF(MONTH(DATE(CalYear,5,1)-WEEKDAY(DATE(CalYear,5,1),IF(WeekStart="Monday",2,1))+1+3)=5,DATE(CalYear,5,1)-WEEKDAY(DATE(CalYear,5,1),IF(WeekStart="Monday",2,1))+1+3,"") -> 0 | F17: =IF(MONTH(DATE(CalYear,5,1)-WEEKDAY(DATE(CalYear,5,1),IF(WeekStart="Monday",2,1))+1+4)=5,DATE(CalYear,5,1)-WEEKDAY(DATE(CalYear,5,1),IF(WeekStart="Monday",2,1))+1+4,"") -> 0 | G17: =IF(MONTH(DATE(CalYear,5,1)-WEEKDAY(DATE(CalYear,5,1),IF(WeekStart="Monday",2,1))+1+5)=5,DATE(CalYear,5,1)-WEEKDAY(DATE(CalYear,5,1),IF(WeekStart="Monday",2,1))+1+5,"") -> 0 | H17: =IF(MONTH(DATE(CalYear,5,1)-WEEKDAY(DATE(CalYear,5,1),IF(WeekStart="Monday",2,1))+1+6)=5,DATE(CalYear,5,1)-WEEKDAY(DATE(CalYear,5,1),IF(WeekStart="Monday",2,1))+1+6,"") -> 0 | J17: =IF(MONTH(DATE(CalYear,6,1)-WEEKDAY(DATE(CalYear,6,1),IF(WeekStart="Monday",2,1))+1+0)=6,DATE(CalYear,6,1)-WEEKDAY(DATE(CalYear,6,1),IF(WeekStart="Monday",2,1))+1+0,"") -> 0 | K17: =IF(MONTH(DATE(CalYear,6,1)-WEEKDAY(DATE(CalYear,6,1),IF(WeekStart="Monday",2,1))+1+1)=6,DATE(CalYear,6,1)-WEEKDAY(DATE(CalYear,6,1),IF(WeekStart="Monday",2,1))+1+1,"") -> 0 | L17: =IF(MONTH(DATE(CalYear,6,1)-WEEKDAY(DATE(CalYear,6,1),IF(WeekStart="Monday",2,1))+1+2)=6,DATE(CalYear,6,1)-WEEKDAY(DATE(CalYear,6,1),IF(WeekStart="Monday",2,1))+1+2,"") -> 0 | M17: =IF(MONTH(DATE(CalYear,6,1)-WEEKDAY(DATE(CalYear,6,1),IF(WeekStart="Monday",2,1))+1+3)=6,DATE(CalYear,6,1)-WEEKDAY(DATE(CalYear,6,1),IF(WeekStart="Monday",2,1))+1+3,"") -> 0 | N17: =IF(MONTH(DATE(CalYear,6,1)-WEEKDAY(DATE(CalYear,6,1),IF(WeekStart="Monday",2,1))+1+4)=6,DATE(CalYear,6,1)-WEEKDAY(DATE(CalYear,6,1),IF(WeekStart="Monday",2,1))+1+4,"") -> 0 | O17: =IF(MONTH(DATE(CalYear,6,1)-WEEKDAY(DATE(CalYear,6,1),IF(WeekStart="Monday",2,1))+1+5)=6,DATE(CalYear,6,1)-WEEKDAY(DATE(CalYear,6,1),IF(WeekStart="Monday",2,1))+1+5,"") -> 0 | P17: =IF(MONTH(DATE(CalYear,6,1)-WEEKDAY(DATE(CalYear,6,1),IF(WeekStart="Monday",2,1))+1+6)=6,DATE(CalYear,6,1)-WEEKDAY(DATE(CalYear,6,1),IF(WeekStart="Monday",2,1))+1+6,"") -> 0 | R17: =IF(MONTH(DATE(CalYear,7,1)-WEEKDAY(DATE(CalYear,7,1),IF(WeekStart="Monday",2,1))+1+0)=7,DATE(CalYear,7,1)-WEEKDAY(DATE(CalYear,7,1),IF(WeekStart="Monday",2,1))+1+0,"") -> 0 | S17: =IF(MONTH(DATE(CalYear,7,1)-WEEKDAY(DATE(CalYear,7,1),IF(WeekStart="Monday",2,1))+1+1)=7,DATE(CalYear,7,1)-WEEKDAY(DATE(CalYear,7,1),IF(WeekStart="Monday",2,1))+1+1,"") -> 0 | T17: =IF(MONTH(DATE(CalYear,7,1)-WEEKDAY(DATE(CalYear,7,1),IF(WeekStart="Monday",2,1))+1+2)=7,DATE(CalYear,7,1)-WEEKDAY(DATE(CalYear,7,1),IF(WeekStart="Monday",2,1))+1+2,"") -> 0 | U17: =IF(MONTH(DATE(CalYear,7,1)-WEEKDAY(DATE(CalYear,7,1),IF(WeekStart="Monday",2,1))+1+3)=7,DATE(CalYear,7,1)-WEEKDAY(DATE(CalYear,7,1),IF(WeekStart="Monday",2,1))+1+3,"") -> 0 | V17: =IF(MONTH(DATE(CalYear,7,1)-WEEKDAY(DATE(CalYear,7,1),IF(WeekStart="Monday",2,1))+1+4)=7,DATE(CalYear,7,1)-WEEKDAY(DATE(CalYear,7,1),IF(WeekStart="Monday",2,1))+1+4,"") -> 0 | W17: =IF(MONTH(DATE(CalYear,7,1)-WEEKDAY(DATE(CalYear,7,1),IF(WeekStart="Monday",2,1))+1+5)=7,DATE(CalYear,7,1)-WEEKDAY(DATE(CalYear,7,1),IF(WeekStart="Monday",2,1))+1+5,"") -> 0 | X17: =IF(MONTH(DATE(CalYear,7,1)-WEEKDAY(DATE(CalYear,7,1),IF(WeekStart="Monday",2,1))+1+6)=7,DATE(CalYear,7,1)-WEEKDAY(DATE(CalYear,7,1),IF(WeekStart="Monday",2,1))+1+6,"") -> 0 | Z17: =IF(MONTH(DATE(CalYear,8,1)-WEEKDAY(DATE(CalYear,8,1),IF(WeekStart="Monday",2,1))+1+0)=8,DATE(CalYear,8,1)-WEEKDAY(DATE(CalYear,8,1),IF(WeekStart="Monday",2,1))+1+0,"") -> 0 | AA17: =IF(MONTH(DATE(CalYear,8,1)-WEEKDAY(DATE(CalYear,8,1),IF(WeekStart="Monday",2,1))+1+1)=8,DATE(CalYear,8,1)-WEEKDAY(DATE(CalYear,8,1),IF(WeekStart="Monday",2,1))+1+1,"") -> 0 | AB17: =IF(MONTH(DATE(CalYear,8,1)-WEEKDAY(DATE(CalYear,8,1),IF(WeekStart="Monday",2,1))+1+2)=8,DATE(CalYear,8,1)-WEEKDAY(DATE(CalYear,8,1),IF(WeekStart="Monday",2,1))+1+2,"") -> 0 | AC17: =IF(MONTH(DATE(CalYear,8,1)-WEEKDAY(DATE(CalYear,8,1),IF(WeekStart="Monday",2,1))+1+3)=8,DATE(CalYear,8,1)-WEEKDAY(DATE(CalYear,8,1),IF(WeekStart="Monday",2,1))+1+3,"") -> 0 | AD17: =IF(MONTH(DATE(CalYear,8,1)-WEEKDAY(DATE(CalYear,8,1),IF(WeekStart="Monday",2,1))+1+4)=8,DATE(CalYear,8,1)-WEEKDAY(DATE(CalYear,8,1),IF(WeekStart="Monday",2,1))+1+4,"") -> 0 | AE17: =IF(MONTH(DATE(CalYear,8,1)-WEEKDAY(DATE(CalYear,8,1),IF(WeekStart="Monday",2,1))+1+5)=8,DATE(CalYear,8,1)-WEEKDAY(DATE(CalYear,8,1),IF(WeekStart="Monday",2,1))+1+5,"") -> 0 | AF17: =IF(MONTH(DATE(CalYear,8,1)-WEEKDAY(DATE(CalYear,8,1),IF(WeekStart="Monday",2,1))+1+6)=8,DATE(CalYear,8,1)-WEEKDAY(DATE(CalYear,8,1),IF(WeekStart="Monday",2,1))+1+6,"") -> 0
B18: =IF(MONTH(DATE(CalYear,5,1)-WEEKDAY(DATE(CalYear,5,1),IF(WeekStart="Monday",2,1))+1+7)=5,DATE(CalYear,5,1)-WEEKDAY(DATE(CalYear,5,1),IF(WeekStart="Monday",2,1))+1+7,"") -> 0 | C18: =IF(MONTH(DATE(CalYear,5,1)-WEEKDAY(DATE(CalYear,5,1),IF(WeekStart="Monday",2,1))+1+8)=5,DATE(CalYear,5,1)-WEEKDAY(DATE(CalYear,5,1),IF(WeekStart="Monday",2,1))+1+8,"") -> 0 | D18: =IF(MONTH(DATE(CalYear,5,1)-WEEKDAY(DATE(CalYear,5,1),IF(WeekStart="Monday",2,1))+1+9)=5,DATE(CalYear,5,1)-WEEKDAY(DATE(CalYear,5,1),IF(WeekStart="Monday",2,1))+1+9,"") -> 0 | E18: =IF(MONTH(DATE(CalYear,5,1)-WEEKDAY(DATE(CalYear,5,1),IF(WeekStart="Monday",2,1))+1+10)=5,DATE(CalYear,5,1)-WEEKDAY(DATE(CalYear,5,1),IF(WeekStart="Monday",2,1))+1+10,"") -> 0 | F18: =IF(MONTH(DATE(CalYear,5,1)-WEEKDAY(DATE(CalYear,5,1),IF(WeekStart="Monday",2,1))+1+11)=5,DATE(CalYear,5,1)-WEEKDAY(DATE(CalYear,5,1),IF(WeekStart="Monday",2,1))+1+11,"") -> 0 | G18: =IF(MONTH(DATE(CalYear,5,1)-WEEKDAY(DATE(CalYear,5,1),IF(WeekStart="Monday",2,1))+1+12)=5,DATE(CalYear,5,1)-WEEKDAY(DATE(CalYear,5,1),IF(WeekStart="Monday",2,1))+1+12,"") -> 0 | H18: =IF(MONTH(DATE(CalYear,5,1)-WEEKDAY(DATE(CalYear,5,1),IF(WeekStart="Monday",2,1))+1+13)=5,DATE(CalYear,5,1)-WEEKDAY(DATE(CalYear,5,1),IF(WeekStart="Monday",2,1))+1+13,"") -> 0 | J18: =IF(MONTH(DATE(CalYear,6,1)-WEEKDAY(DATE(CalYear,6,1),IF(WeekStart="Monday",2,1))+1+7)=6,DATE(CalYear,6,1)-WEEKDAY(DATE(CalYear,6,1),IF(WeekStart="Monday",2,1))+1+7,"") -> 0 | K18: =IF(MONTH(DATE(CalYear,6,1)-WEEKDAY(DATE(CalYear,6,1),IF(WeekStart="Monday",2,1))+1+8)=6,DATE(CalYear,6,1)-WEEKDAY(DATE(CalYear,6,1),IF(WeekStart="Monday",2,1))+1+8,"") -> 0 | L18: =IF(MONTH(DATE(CalYear,6,1)-WEEKDAY(DATE(CalYear,6,1),IF(WeekStart="Monday",2,1))+1+9)=6,DATE(CalYear,6,1)-WEEKDAY(DATE(CalYear,6,1),IF(WeekStart="Monday",2,1))+1+9,"") -> 0 | M18: =IF(MONTH(DATE(CalYear,6,1)-WEEKDAY(DATE(CalYear,6,1),IF(WeekStart="Monday",2,1))+1+10)=6,DATE(CalYear,6,1)-WEEKDAY(DATE(CalYear,6,1),IF(WeekStart="Monday",2,1))+1+10,"") -> 0 | N18: =IF(MONTH(DATE(CalYear,6,1)-WEEKDAY(DATE(CalYear,6,1),IF(WeekStart="Monday",2,1))+1+11)=6,DATE(CalYear,6,1)-WEEKDAY(DATE(CalYear,6,1),IF(WeekStart="Monday",2,1))+1+11,"") -> 0 | O18: =IF(MONTH(DATE(CalYear,6,1)-WEEKDAY(DATE(CalYear,6,1),IF(WeekStart="Monday",2,1))+1+12)=6,DATE(CalYear,6,1)-WEEKDAY(DATE(CalYear,6,1),IF(WeekStart="Monday",2,1))+1+12,"") -> 0 | P18: =IF(MONTH(DATE(CalYear,6,1)-WEEKDAY(DATE(CalYear,6,1),IF(WeekStart="Monday",2,1))+1+13)=6,DATE(CalYear,6,1)-WEEKDAY(DATE(CalYear,6,1),IF(WeekStart="Monday",2,1))+1+13,"") -> 0 | R18: =IF(MONTH(DATE(CalYear,7,1)-WEEKDAY(DATE(CalYear,7,1),IF(WeekStart="Monday",2,1))+1+7)=7,DATE(CalYear,7,1)-WEEKDAY(DATE(CalYear,7,1),IF(WeekStart="Monday",2,1))+1+7,"") -> 0 | S18: =IF(MONTH(DATE(CalYear,7,1)-WEEKDAY(DATE(CalYear,7,1),IF(WeekStart="Monday",2,1))+1+8)=7,DATE(CalYear,7,1)-WEEKDAY(DATE(CalYear,7,1),IF(WeekStart="Monday",2,1))+1+8,"") -> 0 | T18: =IF(MONTH(DATE(CalYear,7,1)-WEEKDAY(DATE(CalYear,7,1),IF(WeekStart="Monday",2,1))+1+9)=7,DATE(CalYear,7,1)-WEEKDAY(DATE(CalYear,7,1),IF(WeekStart="Monday",2,1))+1+9,"") -> 0 | U18: =IF(MONTH(DATE(CalYear,7,1)-WEEKDAY(DATE(CalYear,7,1),IF(WeekStart="Monday",2,1))+1+10)=7,DATE(CalYear,7,1)-WEEKDAY(DATE(CalYear,7,1),IF(WeekStart="Monday",2,1))+1+10,"") -> 0 | V18: =IF(MONTH(DATE(CalYear,7,1)-WEEKDAY(DATE(CalYear,7,1),IF(WeekStart="Monday",2,1))+1+11)=7,DATE(CalYear,7,1)-WEEKDAY(DATE(CalYear,7,1),IF(WeekStart="Monday",2,1))+1+11,"") -> 0 | W18: =IF(MONTH(DATE(CalYear,7,1)-WEEKDAY(DATE(CalYear,7,1),IF(WeekStart="Monday",2,1))+1+12)=7,DATE(CalYear,7,1)-WEEKDAY(DATE(CalYear,7,1),IF(WeekStart="Monday",2,1))+1+12,"") -> 0 | X18: =IF(MONTH(DATE(CalYear,7,1)-WEEKDAY(DATE(CalYear,7,1),IF(WeekStart="Monday",2,1))+1+13)=7,DATE(CalYear,7,1)-WEEKDAY(DATE(CalYear,7,1),IF(WeekStart="Monday",2,1))+1+13,"") -> 0 | Z18: =IF(MONTH(DATE(CalYear,8,1)-WEEKDAY(DATE(CalYear,8,1),IF(WeekStart="Monday",2,1))+1+7)=8,DATE(CalYear,8,1)-WEEKDAY(DATE(CalYear,8,1),IF(WeekStart="Monday",2,1))+1+7,"") -> 0 | AA18: =IF(MONTH(DATE(CalYear,8,1)-WEEKDAY(DATE(CalYear,8,1),IF(WeekStart="Monday",2,1))+1+8)=8,DATE(CalYear,8,1)-WEEKDAY(DATE(CalYear,8,1),IF(WeekStart="Monday",2,1))+1+8,"") -> 0 | AB18: =IF(MONTH(DATE(CalYear,8,1)-WEEKDAY(DATE(CalYear,8,1),IF(WeekStart="Monday",2,1))+1+9)=8,DATE(CalYear,8,1)-WEEKDAY(DATE(CalYear,8,1),IF(WeekStart="Monday",2,1))+1+9,"") -> 0 | AC18: =IF(MONTH(DATE(CalYear,8,1)-WEEKDAY(DATE(CalYear,8,1),IF(WeekStart="Monday",2,1))+1+10)=8,DATE(CalYear,8,1)-WEEKDAY(DATE(CalYear,8,1),IF(WeekStart="Monday",2,1))+1+10,"") -> 0 | AD18: =IF(MONTH(DATE(CalYear,8,1)-WEEKDAY(DATE(CalYear,8,1),IF(WeekStart="Monday",2,1))+1+11)=8,DATE(CalYear,8,1)-WEEKDAY(DATE(CalYear,8,1),IF(WeekStart="Monday",2,1))+1+11,"") -> 0 | AE18: =IF(MONTH(DATE(CalYear,8,1)-WEEKDAY(DATE(CalYear,8,1),IF(WeekStart="Monday",2,1))+1+12)=8,DATE(CalYear,8,1)-WEEKDAY(DATE(CalYear,8,1),IF(WeekStart="Monday",2,1))+1+12,"") -> 0 | AF18: =IF(MONTH(DATE(CalYear,8,1)-WEEKDAY(DATE(CalYear,8,1),IF(WeekStart="Monday",2,1))+1+13)=8,DATE(CalYear,8,1)-WEEKDAY(DATE(CalYear,8,1),IF(WeekStart="Monday",2,1))+1+13,"") -> 0
B19: =IF(MONTH(DATE(CalYear,5,1)-WEEKDAY(DATE(CalYear,5,1),IF(WeekStart="Monday",2,1))+1+14)=5,DATE(CalYear,5,1)-WEEKDAY(DATE(CalYear,5,1),IF(WeekStart="Monday",2,1))+1+14,"") -> 0 | C19: =IF(MONTH(DATE(CalYear,5,1)-WEEKDAY(DATE(CalYear,5,1),IF(WeekStart="Monday",2,1))+1+15)=5,DATE(CalYear,5,1)-WEEKDAY(DATE(CalYear,5,1),IF(WeekStart="Monday",2,1))+1+15,"") -> 0 | D19: =IF(MONTH(DATE(CalYear,5,1)-WEEKDAY(DATE(CalYear,5,1),IF(WeekStart="Monday",2,1))+1+16)=5,DATE(CalYear,5,1)-WEEKDAY(DATE(CalYear,5,1),IF(WeekStart="Monday",2,1))+1+16,"") -> 0 | E19: =IF(MONTH(DATE(CalYear,5,1)-WEEKDAY(DATE(CalYear,5,1),IF(WeekStart="Monday",2,1))+1+17)=5,DATE(CalYear,5,1)-WEEKDAY(DATE(CalYear,5,1),IF(WeekStart="Monday",2,1))+1+17,"") -> 0 | F19: =IF(MONTH(DATE(CalYear,5,1)-WEEKDAY(DATE(CalYear,5,1),IF(WeekStart="Monday",2,1))+1+18)=5,DATE(CalYear,5,1)-WEEKDAY(DATE(CalYear,5,1),IF(WeekStart="Monday",2,1))+1+18,"") -> 0 | G19: =IF(MONTH(DATE(CalYear,5,1)-WEEKDAY(DATE(CalYear,5,1),IF(WeekStart="Monday",2,1))+1+19)=5,DATE(CalYear,5,1)-WEEKDAY(DATE(CalYear,5,1),IF(WeekStart="Monday",2,1))+1+19,"") -> 0 | H19: =IF(MONTH(DATE(CalYear,5,1)-WEEKDAY(DATE(CalYear,5,1),IF(WeekStart="Monday",2,1))+1+20)=5,DATE(CalYear,5,1)-WEEKDAY(DATE(CalYear,5,1),IF(WeekStart="Monday",2,1))+1+20,"") -> 0 | J19: =IF(MONTH(DATE(CalYear,6,1)-WEEKDAY(DATE(CalYear,6,1),IF(WeekStart="Monday",2,1))+1+14)=6,DATE(CalYear,6,1)-WEEKDAY(DATE(CalYear,6,1),IF(WeekStart="Monday",2,1))+1+14,"") -> 0 | K19: =IF(MONTH(DATE(CalYear,6,1)-WEEKDAY(DATE(CalYear,6,1),IF(WeekStart="Monday",2,1))+1+15)=6,DATE(CalYear,6,1)-WEEKDAY(DATE(CalYear,6,1),IF(WeekStart="Monday",2,1))+1+15,"") -> 0 | L19: =IF(MONTH(DATE(CalYear,6,1)-WEEKDAY(DATE(CalYear,6,1),IF(WeekStart="Monday",2,1))+1+16)=6,DATE(CalYear,6,1)-WEEKDAY(DATE(CalYear,6,1),IF(WeekStart="Monday",2,1))+1+16,"") -> 0 | M19: =IF(MONTH(DATE(CalYear,6,1)-WEEKDAY(DATE(CalYear,6,1),IF(WeekStart="Monday",2,1))+1+17)=6,DATE(CalYear,6,1)-WEEKDAY(DATE(CalYear,6,1),IF(WeekStart="Monday",2,1))+1+17,"") -> 0 | N19: =IF(MONTH(DATE(CalYear,6,1)-WEEKDAY(DATE(CalYear,6,1),IF(WeekStart="Monday",2,1))+1+18)=6,DATE(CalYear,6,1)-WEEKDAY(DATE(CalYear,6,1),IF(WeekStart="Monday",2,1))+1+18,"") -> 0 | O19: =IF(MONTH(DATE(CalYear,6,1)-WEEKDAY(DATE(CalYear,6,1),IF(WeekStart="Monday",2,1))+1+19)=6,DATE(CalYear,6,1)-WEEKDAY(DATE(CalYear,6,1),IF(WeekStart="Monday",2,1))+1+19,"") -> 0 | P19: =IF(MONTH(DATE(CalYear,6,1)-WEEKDAY(DATE(CalYear,6,1),IF(WeekStart="Monday",2,1))+1+20)=6,DATE(CalYear,6,1)-WEEKDAY(DATE(CalYear,6,1),IF(WeekStart="Monday",2,1))+1+20,"") -> 0 | R19: =IF(MONTH(DATE(CalYear,7,1)-WEEKDAY(DATE(CalYear,7,1),IF(WeekStart="Monday",2,1))+1+14)=7,DATE(CalYear,7,1)-WEEKDAY(DATE(CalYear,7,1),IF(WeekStart="Monday",2,1))+1+14,"") -> 0 | S19: =IF(MONTH(DATE(CalYear,7,1)-WEEKDAY(DATE(CalYear,7,1),IF(WeekStart="Monday",2,1))+1+15)=7,DATE(CalYear,7,1)-WEEKDAY(DATE(CalYear,7,1),IF(WeekStart="Monday",2,1))+1+15,"") -> 0 | T19: =IF(MONTH(DATE(CalYear,7,1)-WEEKDAY(DATE(CalYear,7,1),IF(WeekStart="Monday",2,1))+1+16)=7,DATE(CalYear,7,1)-WEEKDAY(DATE(CalYear,7,1),IF(WeekStart="Monday",2,1))+1+16,"") -> 0 | U19: =IF(MONTH(DATE(CalYear,7,1)-WEEKDAY(DATE(CalYear,7,1),IF(WeekStart="Monday",2,1))+1+17)=7,DATE(CalYear,7,1)-WEEKDAY(DATE(CalYear,7,1),IF(WeekStart="Monday",2,1))+1+17,"") -> 0 | V19: =IF(MONTH(DATE(CalYear,7,1)-WEEKDAY(DATE(CalYear,7,1),IF(WeekStart="Monday",2,1))+1+18)=7,DATE(CalYear,7,1)-WEEKDAY(DATE(CalYear,7,1),IF(WeekStart="Monday",2,1))+1+18,"") -> 0 | W19: =IF(MONTH(DATE(CalYear,7,1)-WEEKDAY(DATE(CalYear,7,1),IF(WeekStart="Monday",2,1))+1+19)=7,DATE(CalYear,7,1)-WEEKDAY(DATE(CalYear,7,1),IF(WeekStart="Monday",2,1))+1+19,"") -> 0 | X19: =IF(MONTH(DATE(CalYear,7,1)-WEEKDAY(DATE(CalYear,7,1),IF(WeekStart="Monday",2,1))+1+20)=7,DATE(CalYear,7,1)-WEEKDAY(DATE(CalYear,7,1),IF(WeekStart="Monday",2,1))+1+20,"") -> 0 | Z19: =IF(MONTH(DATE(CalYear,8,1)-WEEKDAY(DATE(CalYear,8,1),IF(WeekStart="Monday",2,1))+1+14)=8,DATE(CalYear,8,1)-WEEKDAY(DATE(CalYear,8,1),IF(WeekStart="Monday",2,1))+1+14,"") -> 0 | AA19: =IF(MONTH(DATE(CalYear,8,1)-WEEKDAY(DATE(CalYear,8,1),IF(WeekStart="Monday",2,1))+1+15)=8,DATE(CalYear,8,1)-WEEKDAY(DATE(CalYear,8,1),IF(WeekStart="Monday",2,1))+1+15,"") -> 0 | AB19: =IF(MONTH(DATE(CalYear,8,1)-WEEKDAY(DATE(CalYear,8,1),IF(WeekStart="Monday",2,1))+1+16)=8,DATE(CalYear,8,1)-WEEKDAY(DATE(CalYear,8,1),IF(WeekStart="Monday",2,1))+1+16,"") -> 0 | AC19: =IF(MONTH(DATE(CalYear,8,1)-WEEKDAY(DATE(CalYear,8,1),IF(WeekStart="Monday",2,1))+1+17)=8,DATE(CalYear,8,1)-WEEKDAY(DATE(CalYear,8,1),IF(WeekStart="Monday",2,1))+1+17,"") -> 0 | AD19: =IF(MONTH(DATE(CalYear,8,1)-WEEKDAY(DATE(CalYear,8,1),IF(WeekStart="Monday",2,1))+1+18)=8,DATE(CalYear,8,1)-WEEKDAY(DATE(CalYear,8,1),IF(WeekStart="Monday",2,1))+1+18,"") -> 0 | AE19: =IF(MONTH(DATE(CalYear,8,1)-WEEKDAY(DATE(CalYear,8,1),IF(WeekStart="Monday",2,1))+1+19)=8,DATE(CalYear,8,1)-WEEKDAY(DATE(CalYear,8,1),IF(WeekStart="Monday",2,1))+1+19,"") -> 0 | AF19: =IF(MONTH(DATE(CalYear,8,1)-WEEKDAY(DATE(CalYear,8,1),IF(WeekStart="Monday",2,1))+1+20)=8,DATE(CalYear,8,1)-WEEKDAY(DATE(CalYear,8,1),IF(WeekStart="Monday",2,1))+1+20,"") -> 0
B20: =IF(MONTH(DATE(CalYear,5,1)-WEEKDAY(DATE(CalYear,5,1),IF(WeekStart="Monday",2,1))+1+21)=5,DATE(CalYear,5,1)-WEEKDAY(DATE(CalYear,5,1),IF(WeekStart="Monday",2,1))+1+21,"") -> 0 | C20: =IF(MONTH(DATE(CalYear,5,1)-WEEKDAY(DATE(CalYear,5,1),IF(WeekStart="Monday",2,1))+1+22)=5,DATE(CalYear,5,1)-WEEKDAY(DATE(CalYear,5,1),IF(WeekStart="Monday",2,1))+1+22,"") -> 0 | D20: =IF(MONTH(DATE(CalYear,5,1)-WEEKDAY(DATE(CalYear,5,1),IF(WeekStart="Monday",2,1))+1+23)=5,DATE(CalYear,5,1)-WEEKDAY(DATE(CalYear,5,1),IF(WeekStart="Monday",2,1))+1+23,"") -> 0 | E20: =IF(MONTH(DATE(CalYear,5,1)-WEEKDAY(DATE(CalYear,5,1),IF(WeekStart="Monday",2,1))+1+24)=5,DATE(CalYear,5,1)-WEEKDAY(DATE(CalYear,5,1),IF(WeekStart="Monday",2,1))+1+24,"") -> 0 | F20: =IF(MONTH(DATE(CalYear,5,1)-WEEKDAY(DATE(CalYear,5,1),IF(WeekStart="Monday",2,1))+1+25)=5,DATE(CalYear,5,1)-WEEKDAY(DATE(CalYear,5,1),IF(WeekStart="Monday",2,1))+1+25,"") -> 0 | G20: =IF(MONTH(DATE(CalYear,5,1)-WEEKDAY(DATE(CalYear,5,1),IF(WeekStart="Monday",2,1))+1+26)=5,DATE(CalYear,5,1)-WEEKDAY(DATE(CalYear,5,1),IF(WeekStart="Monday",2,1))+1+26,"") -> 0 | H20: =IF(MONTH(DATE(CalYear,5,1)-WEEKDAY(DATE(CalYear,5,1),IF(WeekStart="Monday",2,1))+1+27)=5,DATE(CalYear,5,1)-WEEKDAY(DATE(CalYear,5,1),IF(WeekStart="Monday",2,1))+1+27,"") -> 0 | J20: =IF(MONTH(DATE(CalYear,6,1)-WEEKDAY(DATE(CalYear,6,1),IF(WeekStart="Monday",2,1))+1+21)=6,DATE(CalYear,6,1)-WEEKDAY(DATE(CalYear,6,1),IF(WeekStart="Monday",2,1))+1+21,"") -> 0 | K20: =IF(MONTH(DATE(CalYear,6,1)-WEEKDAY(DATE(CalYear,6,1),IF(WeekStart="Monday",2,1))+1+22)=6,DATE(CalYear,6,1)-WEEKDAY(DATE(CalYear,6,1),IF(WeekStart="Monday",2,1))+1+22,"") -> 0 | L20: =IF(MONTH(DATE(CalYear,6,1)-WEEKDAY(DATE(CalYear,6,1),IF(WeekStart="Monday",2,1))+1+23)=6,DATE(CalYear,6,1)-WEEKDAY(DATE(CalYear,6,1),IF(WeekStart="Monday",2,1))+1+23,"") -> 0 | M20: =IF(MONTH(DATE(CalYear,6,1)-WEEKDAY(DATE(CalYear,6,1),IF(WeekStart="Monday",2,1))+1+24)=6,DATE(CalYear,6,1)-WEEKDAY(DATE(CalYear,6,1),IF(WeekStart="Monday",2,1))+1+24,"") -> 0 | N20: =IF(MONTH(DATE(CalYear,6,1)-WEEKDAY(DATE(CalYear,6,1),IF(WeekStart="Monday",2,1))+1+25)=6,DATE(CalYear,6,1)-WEEKDAY(DATE(CalYear,6,1),IF(WeekStart="Monday",2,1))+1+25,"") -> 0 | O20: =IF(MONTH(DATE(CalYear,6,1)-WEEKDAY(DATE(CalYear,6,1),IF(WeekStart="Monday",2,1))+1+26)=6,DATE(CalYear,6,1)-WEEKDAY(DATE(CalYear,6,1),IF(WeekStart="Monday",2,1))+1+26,"") -> 0 | P20: =IF(MONTH(DATE(CalYear,6,1)-WEEKDAY(DATE(CalYear,6,1),IF(WeekStart="Monday",2,1))+1+27)=6,DATE(CalYear,6,1)-WEEKDAY(DATE(CalYear,6,1),IF(WeekStart="Monday",2,1))+1+27,"") -> 0 | R20: =IF(MONTH(DATE(CalYear,7,1)-WEEKDAY(DATE(CalYear,7,1),IF(WeekStart="Monday",2,1))+1+21)=7,DATE(CalYear,7,1)-WEEKDAY(DATE(CalYear,7,1),IF(WeekStart="Monday",2,1))+1+21,"") -> 0 | S20: =IF(MONTH(DATE(CalYear,7,1)-WEEKDAY(DATE(CalYear,7,1),IF(WeekStart="Monday",2,1))+1+22)=7,DATE(CalYear,7,1)-WEEKDAY(DATE(CalYear,7,1),IF(WeekStart="Monday",2,1))+1+22,"") -> 0 | T20: =IF(MONTH(DATE(CalYear,7,1)-WEEKDAY(DATE(CalYear,7,1),IF(WeekStart="Monday",2,1))+1+23)=7,DATE(CalYear,7,1)-WEEKDAY(DATE(CalYear,7,1),IF(WeekStart="Monday",2,1))+1+23,"") -> 0 | U20: =IF(MONTH(DATE(CalYear,7,1)-WEEKDAY(DATE(CalYear,7,1),IF(WeekStart="Monday",2,1))+1+24)=7,DATE(CalYear,7,1)-WEEKDAY(DATE(CalYear,7,1),IF(WeekStart="Monday",2,1))+1+24,"") -> 0 | V20: =IF(MONTH(DATE(CalYear,7,1)-WEEKDAY(DATE(CalYear,7,1),IF(WeekStart="Monday",2,1))+1+25)=7,DATE(CalYear,7,1)-WEEKDAY(DATE(CalYear,7,1),IF(WeekStart="Monday",2,1))+1+25,"") -> 0 | W20: =IF(MONTH(DATE(CalYear,7,1)-WEEKDAY(DATE(CalYear,7,1),IF(WeekStart="Monday",2,1))+1+26)=7,DATE(CalYear,7,1)-WEEKDAY(DATE(CalYear,7,1),IF(WeekStart="Monday",2,1))+1+26,"") -> 0 | X20: =IF(MONTH(DATE(CalYear,7,1)-WEEKDAY(DATE(CalYear,7,1),IF(WeekStart="Monday",2,1))+1+27)=7,DATE(CalYear,7,1)-WEEKDAY(DATE(CalYear,7,1),IF(WeekStart="Monday",2,1))+1+27,"") -> 0 | Z20: =IF(MONTH(DATE(CalYear,8,1)-WEEKDAY(DATE(CalYear,8,1),IF(WeekStart="Monday",2,1))+1+21)=8,DATE(CalYear,8,1)-WEEKDAY(DATE(CalYear,8,1),IF(WeekStart="Monday",2,1))+1+21,"") -> 0 | AA20: =IF(MONTH(DATE(CalYear,8,1)-WEEKDAY(DATE(CalYear,8,1),IF(WeekStart="Monday",2,1))+1+22)=8,DATE(CalYear,8,1)-WEEKDAY(DATE(CalYear,8,1),IF(WeekStart="Monday",2,1))+1+22,"") -> 0 | AB20: =IF(MONTH(DATE(CalYear,8,1)-WEEKDAY(DATE(CalYear,8,1),IF(WeekStart="Monday",2,1))+1+23)=8,DATE(CalYear,8,1)-WEEKDAY(DATE(CalYear,8,1),IF(WeekStart="Monday",2,1))+1+23,"") -> 0 | AC20: =IF(MONTH(DATE(CalYear,8,1)-WEEKDAY(DATE(CalYear,8,1),IF(WeekStart="Monday",2,1))+1+24)=8,DATE(CalYear,8,1)-WEEKDAY(DATE(CalYear,8,1),IF(WeekStart="Monday",2,1))+1+24,"") -> 0 | AD20: =IF(MONTH(DATE(CalYear,8,1)-WEEKDAY(DATE(CalYear,8,1),IF(WeekStart="Monday",2,1))+1+25)=8,DATE(CalYear,8,1)-WEEKDAY(DATE(CalYear,8,1),IF(WeekStart="Monday",2,1))+1+25,"") -> 0 | AE20: =IF(MONTH(DATE(CalYear,8,1)-WEEKDAY(DATE(CalYear,8,1),IF(WeekStart="Monday",2,1))+1+26)=8,DATE(CalYear,8,1)-WEEKDAY(DATE(CalYear,8,1),IF(WeekStart="Monday",2,1))+1+26,"") -> 0 | AF20: =IF(MONTH(DATE(CalYear,8,1)-WEEKDAY(DATE(CalYear,8,1),IF(WeekStart="Monday",2,1))+1+27)=8,DATE(CalYear,8,1)-WEEKDAY(DATE(CalYear,8,1),IF(WeekStart="Monday",2,1))+1+27,"") -> 0
