Workbook

Sheet Jan
A1: =DATE(2027,1,1)
B2: January 2027 | AH2: Team / Class name
B3: Monthly attendance — P present · L late · A absent · E excused · S sick · V vacation · H holiday
B5: NAME | C5: =IF(MONTH($A$1+0)=1,DAY($A$1+0),"") | D5: =IF(MONTH($A$1+1)=1,DAY($A$1+1),"") | E5: =IF(MONTH($A$1+2)=1,DAY($A$1+2),"") | F5: =IF(MONTH($A$1+3)=1,DAY($A$1+3),"") | G5: =IF(MONTH($A$1+4)=1,DAY($A$1+4),"") | H5: =IF(MONTH($A$1+5)=1,DAY($A$1+5),"") | I5: =IF(MONTH($A$1+6)=1,DAY($A$1+6),"") | J5: =IF(MONTH($A$1+7)=1,DAY($A$1+7),"") | K5: =IF(MONTH($A$1+8)=1,DAY($A$1+8),"") | L5: =IF(MONTH($A$1+9)=1,DAY($A$1+9),"") | M5: =IF(MONTH($A$1+10)=1,DAY($A$1+10),"") | N5: =IF(MONTH($A$1+11)=1,DAY($A$1+11),"") | O5: =IF(MONTH($A$1+12)=1,DAY($A$1+12),"") | P5: =IF(MONTH($A$1+13)=1,DAY($A$1+13),"") | Q5: =IF(MONTH($A$1+14)=1,DAY($A$1+14),"") | R5: =IF(MONTH($A$1+15)=1,DAY($A$1+15),"") | S5: =IF(MONTH($A$1+16)=1,DAY($A$1+16),"") | T5: =IF(MONTH($A$1+17)=1,DAY($A$1+17),"") | U5: =IF(MONTH($A$1+18)=1,DAY($A$1+18),"") | V5: =IF(MONTH($A$1+19)=1,DAY($A$1+19),"") | W5: =IF(MONTH($A$1+20)=1,DAY($A$1+20),"") | X5: =IF(MONTH($A$1+21)=1,DAY($A$1+21),"") | Y5: =IF(MONTH($A$1+22)=1,DAY($A$1+22),"") | Z5: =IF(MONTH($A$1+23)=1,DAY($A$1+23),"") | AA5: =IF(MONTH($A$1+24)=1,DAY($A$1+24),"") | AB5: =IF(MONTH($A$1+25)=1,DAY($A$1+25),"") | AC5: =IF(MONTH($A$1+26)=1,DAY($A$1+26),"") | AD5: =IF(MONTH($A$1+27)=1,DAY($A$1+27),"") | AE5: =IF(MONTH($A$1+28)=1,DAY($A$1+28),"") | AF5: =IF(MONTH($A$1+29)=1,DAY($A$1+29),"") | AG5: =IF(MONTH($A$1+30)=1,DAY($A$1+30),"") | AH5: P | AI5: L | AJ5: A | AK5: E | AL5: S | AM5: V | AN5: RATE
C6: =IF(C5="","",CHOOSE(WEEKDAY($A$1+0),"Sun","Mon","Tue","Wed","Thu","Fri","Sat")) | D6: =IF(D5="","",CHOOSE(WEEKDAY($A$1+1),"Sun","Mon","Tue","Wed","Thu","Fri","Sat")) | E6: =IF(E5="","",CHOOSE(WEEKDAY($A$1+2),"Sun","Mon","Tue","Wed","Thu","Fri","Sat")) | F6: =IF(F5="","",CHOOSE(WEEKDAY($A$1+3),"Sun","Mon","Tue","Wed","Thu","Fri","Sat")) | G6: =IF(G5="","",CHOOSE(WEEKDAY($A$1+4),"Sun","Mon","Tue","Wed","Thu","Fri","Sat")) | H6: =IF(H5="","",CHOOSE(WEEKDAY($A$1+5),"Sun","Mon","Tue","Wed","Thu","Fri","Sat")) | I6: =IF(I5="","",CHOOSE(WEEKDAY($A$1+6),"Sun","Mon","Tue","Wed","Thu","Fri","Sat")) | J6: =IF(J5="","",CHOOSE(WEEKDAY($A$1+7),"Sun","Mon","Tue","Wed","Thu","Fri","Sat")) | K6: =IF(K5="","",CHOOSE(WEEKDAY($A$1+8),"Sun","Mon","Tue","Wed","Thu","Fri","Sat")) | L6: =IF(L5="","",CHOOSE(WEEKDAY($A$1+9),"Sun","Mon","Tue","Wed","Thu","Fri","Sat")) | M6: =IF(M5="","",CHOOSE(WEEKDAY($A$1+10),"Sun","Mon","Tue","Wed","Thu","Fri","Sat")) | N6: =IF(N5="","",CHOOSE(WEEKDAY($A$1+11),"Sun","Mon","Tue","Wed","Thu","Fri","Sat")) | O6: =IF(O5="","",CHOOSE(WEEKDAY($A$1+12),"Sun","Mon","Tue","Wed","Thu","Fri","Sat")) | P6: =IF(P5="","",CHOOSE(WEEKDAY($A$1+13),"Sun","Mon","Tue","Wed","Thu","Fri","Sat")) | Q6: =IF(Q5="","",CHOOSE(WEEKDAY($A$1+14),"Sun","Mon","Tue","Wed","Thu","Fri","Sat")) | R6: =IF(R5="","",CHOOSE(WEEKDAY($A$1+15),"Sun","Mon","Tue","Wed","Thu","Fri","Sat")) | S6: =IF(S5="","",CHOOSE(WEEKDAY($A$1+16),"Sun","Mon","Tue","Wed","Thu","Fri","Sat")) | T6: =IF(T5="","",CHOOSE(WEEKDAY($A$1+17),"Sun","Mon","Tue","Wed","Thu","Fri","Sat")) | U6: =IF(U5="","",CHOOSE(WEEKDAY($A$1+18),"Sun","Mon","Tue","Wed","Thu","Fri","Sat")) | V6: =IF(V5="","",CHOOSE(WEEKDAY($A$1+19),"Sun","Mon","Tue","Wed","Thu","Fri","Sat")) | W6: =IF(W5="","",CHOOSE(WEEKDAY($A$1+20),"Sun","Mon","Tue","Wed","Thu","Fri","Sat")) | X6: =IF(X5="","",CHOOSE(WEEKDAY($A$1+21),"Sun","Mon","Tue","Wed","Thu","Fri","Sat")) | Y6: =IF(Y5="","",CHOOSE(WEEKDAY($A$1+22),"Sun","Mon","Tue","Wed","Thu","Fri","Sat")) | Z6: =IF(Z5="","",CHOOSE(WEEKDAY($A$1+23),"Sun","Mon","Tue","Wed","Thu","Fri","Sat")) | AA6: =IF(AA5="","",CHOOSE(WEEKDAY($A$1+24),"Sun","Mon","Tue","Wed","Thu","Fri","Sat")) | AB6: =IF(AB5="","",CHOOSE(WEEKDAY($A$1+25),"Sun","Mon","Tue","Wed","Thu","Fri","Sat")) | AC6: =IF(AC5="","",CHOOSE(WEEKDAY($A$1+26),"Sun","Mon","Tue","Wed","Thu","Fri","Sat")) | AD6: =IF(AD5="","",CHOOSE(WEEKDAY($A$1+27),"Sun","Mon","Tue","Wed","Thu","Fri","Sat")) | AE6: =IF(AE5="","",CHOOSE(WEEKDAY($A$1+28),"Sun","Mon","Tue","Wed","Thu","Fri","Sat")) | AF6: =IF(AF5="","",CHOOSE(WEEKDAY($A$1+29),"Sun","Mon","Tue","Wed","Thu","Fri","Sat")) | AG6: =IF(AG5="","",CHOOSE(WEEKDAY($A$1+30),"Sun","Mon","Tue","Wed","Thu","Fri","Sat"))
B7: Avery Johnson | C7: H | F7: P | G7: P | H7: P | I7: P | J7: P | M7: P | N7: P | O7: P | P7: P | Q7: P | T7: H | U7: P | V7: P | W7: P | X7: P | AH7: =IF($B7="","",COUNTIF($C7:$AG7,"P")) | AI7: =IF($B7="","",COUNTIF($C7:$AG7,"L")) | AJ7: =IF($B7="","",COUNTIF($C7:$AG7,"A")) | AK7: =IF($B7="","",COUNTIF($C7:$AG7,"E")) | AL7: =IF($B7="","",COUNTIF($C7:$AG7,"S")) | AM7: =IF($B7="","",COUNTIF($C7:$AG7,"V")) | AN7: =IF(COUNTA($C7:$AG7)-COUNTIF($C7:$AG7,"H")=0,"",(AH7+AI7)/(COUNTA($C7:$AG7)-COUNTIF($C7:$AG7,"H")))
B8: Ben Carter | C8: H | F8: P | G8: P | H8: P | I8: A | J8: P | M8: P | N8: S | O8: P | P8: P | Q8: P | T8: H | U8: P | V8: P | W8: P | X8: P | AH8: =IF($B8="","",COUNTIF($C8:$AG8,"P")) | AI8: =IF($B8="","",COUNTIF($C8:$AG8,"L")) | AJ8: =IF($B8="","",COUNTIF($C8:$AG8,"A")) | AK8: =IF($B8="","",COUNTIF($C8:$AG8,"E")) | AL8: =IF($B8="","",COUNTIF($C8:$AG8,"S")) | AM8: =IF($B8="","",COUNTIF($C8:$AG8,"V")) | AN8: =IF(COUNTA($C8:$AG8)-COUNTIF($C8:$AG8,"H")=0,"",(AH8+AI8)/(COUNTA($C8:$AG8)-COUNTIF($C8:$AG8,"H")))
B9: Chloe Diaz | C9: H | F9: P | G9: P | H9: P | I9: P | J9: P | M9: P | N9: P | O9: P | P9: P | Q9: P | T9: H | U9: P | V9: P | W9: P | X9: P | AH9: =IF($B9="","",COUNTIF($C9:$AG9,"P")) | AI9: =IF($B9="","",COUNTIF($C9:$AG9,"L")) | AJ9: =IF($B9="","",COUNTIF($C9:$AG9,"A")) | AK9: =IF($B9="","",COUNTIF($C9:$AG9,"E")) | AL9: =IF($B9="","",COUNTIF($C9:$AG9,"S")) | AM9: =IF($B9="","",COUNTIF($C9:$AG9,"V")) | AN9: =IF(COUNTA($C9:$AG9)-COUNTIF($C9:$AG9,"H")=0,"",(AH9+AI9)/(COUNTA($C9:$AG9)-COUNTIF($C9:$AG9,"H")))
B10: Daniel Kim | C10: H | F10: P | G10: P | H10: P | I10: P | J10: P | M10: P | N10: P | O10: P | P10: S | Q10: P | T10: H | U10: P | V10: P | W10: P | X10: P | AH10: =IF($B10="","",COUNTIF($C10:$AG10,"P")) | AI10: =IF($B10="","",COUNTIF($C10:$AG10,"L")) | AJ10: =IF($B10="","",COUNTIF($C10:$AG10,"A")) | AK10: =IF($B10="","",COUNTIF($C10:$AG10,"E")) | AL10: =IF($B10="","",COUNTIF($C10:$AG10,"S")) | AM10: =IF($B10="","",COUNTIF($C10:$AG10,"V")) | AN10: =IF(COUNTA($C10:$AG10)-COUNTIF($C10:$AG10,"H")=0,"",(AH10+AI10)/(COUNTA($C10:$AG10)-COUNTIF($C10:$AG10,"H")))
B11: Ella Novak | C11: H | F11: P | G11: P | H11: P | I11: P | J11: P | M11: P | N11: P | O11: P | P11: P | Q11: P | T11: H | U11: P | V11: A | W11: P | X11: P | AH11: =IF($B11="","",COUNTIF($C11:$AG11,"P")) | AI11: =IF($B11="","",COUNTIF($C11:$AG11,"L")) | AJ11: =IF($B11="","",COUNTIF($C11:$AG11,"A")) | AK11: =IF($B11="","",COUNTIF($C11:$AG11,"E")) | AL11: =IF($B11="","",COUNTIF($C11:$AG11,"S")) | AM11: =IF($B11="","",COUNTIF($C11:$AG11,"V")) | AN11: =IF(COUNTA($C11:$AG11)-COUNTIF($C11:$AG11,"H")=0,"",(AH11+AI11)/(COUNTA($C11:$AG11)-COUNTIF($C11:$AG11,"H")))
B12: Felix Grant | C12: H | F12: P | G12: P | H12: P | I12: E | J12: P | M12: P | N12: P | O12: P | P12: P | Q12: P | T12: H | U12: P | V12: P | W12: P | X12: P | AH12: =IF($B12="","",COUNTIF($C12:$AG12,"P")) | AI12: =IF($B12="","",COUNTIF($C12:$AG12,"L")) | AJ12: =IF($B12="","",COUNTIF($C12:$AG12,"A")) | AK12: =IF($B12="","",COUNTIF($C12:$AG12,"E")) | AL12: =IF($B12="","",COUNTIF($C12:$AG12,"S")) | AM12: =IF($B12="","",COUNTIF($C12:$AG12,"V")) | AN12: =IF(COUNTA($C12:$AG12)-COUNTIF($C12:$AG12,"H")=0,"",(AH12+AI12)/(COUNTA($C12:$AG12)-COUNTIF($C12:$AG12,"H")))
B13: Grace Liu | C13: H | F13: P | G13: P | H13: P | I13: P | J13: P | M13: P | N13: P | O13: L | P13: P | Q13: P | T13: H | U13: P | V13: P | W13: P | X13: L | AH13: =IF($B13="","",COUNTIF($C13:$AG13,"P")) | AI13: =IF($B13="","",COUNTIF($C13:$AG13,"L")) | AJ13: =IF($B13="","",COUNTIF($C13:$AG13,"A")) | AK13: =IF($B13="","",COUNTIF($C13:$AG13,"E")) | AL13: =IF($B13="","",COUNTIF($C13:$AG13,"S")) | AM13: =IF($B13="","",COUNTIF($C13:$AG13,"V")) | AN13: =IF(COUNTA($C13:$AG13)-COUNTIF($C13:$AG13,"H")=0,"",(AH13+AI13)/(COUNTA($C13:$AG13)-COUNTIF($C13:$AG13,"H")))
B14: Henry Adams | C14: H | F14: A | G14: P | H14: P | I14: P | J14: P | M14: P | N14: P | O14: P | P14: P | Q14: P | T14: H | U14: P | V14: P | W14: A | X14: P | AH14: =IF($B14="","",COUNTIF($C14:$AG14,"P")) | AI14: =IF($B14="","",COUNTIF($C14:$AG14,"L")) | AJ14: =IF($B14="","",COUNTIF($C14:$AG14,"A")) | AK14: =IF($B14="","",COUNTIF($C14:$AG14,"E")) | AL14: =IF($B14="","",COUNTIF($C14:$AG14,"S")) | AM14: =IF($B14="","",COUNTIF($C14:$AG14,"V")) | AN14: =IF(COUNTA($C14:$AG14)-COUNTIF($C14:$AG14,"H")=0,"",(AH14+AI14)/(COUNTA($C14:$AG14)-COUNTIF($C14:$AG14,"H")))
B15: Isla Moreno | C15: H | F15: P | G15: P | H15: P | I15: P | J15: L | M15: P | N15: P | O15: P | P15: P | Q15: P | T15: H | U15: P | V15: P | W15: P | X15: P | AH15: =IF($B15="","",COUNTIF($C15:$AG15,"P")) | AI15: =IF($B15="","",COUNTIF($C15:$AG15,"L")) | AJ15: =IF($B15="","",COUNTIF($C15:$AG15,"A")) | AK15: =IF($B15="","",COUNTIF($C15:$AG15,"E")) | AL15: =IF($B15="","",COUNTIF($C15:$AG15,"S")) | AM15: =IF($B15="","",COUNTIF($C15:$AG15,"V")) | AN15: =IF(COUNTA($C15:$AG15)-COUNTIF($C15:$AG15,"H")=0,"",(AH15+AI15)/(COUNTA($C15:$AG15)-COUNTIF($C15:$AG15,"H")))
B16: Jack Turner | C16: H | F16: P | G16: P | H16: P | I16: P | J16: P | M16: P | N16: P | O16: P | P16: P | Q16: P | T16: H | U16: P | V16: P | W16: P | X16: P | AH16: =IF($B16="","",COUNTIF($C16:$AG16,"P")) | AI16: =IF($B16="","",COUNTIF($C16:$AG16,"L")) | AJ16: =IF($B16="","",COUNTIF($C16:$AG16,"A")) | AK16: =IF($B16="","",COUNTIF($C16:$AG16,"E")) | AL16: =IF($B16="","",COUNTIF($C16:$AG16,"S")) | AM16: =IF($B16="","",COUNTIF($C16:$AG16,"V")) | AN16: =IF(COUNTA($C16:$AG16)-COUNTIF($C16:$AG16,"H")=0,"",(AH16+AI16)/(COUNTA($C16:$AG16)-COUNTIF($C16:$AG16,"H")))
B17: Kara Singh | C17: H | F17: P | G17: P | H17: P | I17: E | J17: P | M17: P | N17: P | O17: P | P17: P | Q17: P | T17: H | U17: P | V17: P | W17: P | X17: A | AH17: =IF($B17="","",COUNTIF($C17:$AG17,"P")) | AI17: =IF($B17="","",COUNTIF($C17:$AG17,"L")) | AJ17: =IF($B17="","",COUNTIF($C17:$AG17,"A")) | AK17: =IF($B17="","",COUNTIF($C17:$AG17,"E")) | AL17: =IF($B17="","",COUNTIF($C17:$AG17,"S")) | AM17: =IF($B17="","",COUNTIF($C17:$AG17,"V")) | AN17: =IF(COUNTA($C17:$AG17)-COUNTIF($C17:$AG17,"H")=0,"",(AH17+AI17)/(COUNTA($C17:$AG17)-COUNTIF($C17:$AG17,"H")))
B18: Leo Martin | C18: H | F18: P | G18: P | H18: P | I18: P | J18: P | M18: S | N18: P | O18: P | P18: P | Q18: P | T18: H | U18: P | V18: P | W18: P | X18: P | AH18: =IF($B18="","",COUNTIF($C18:$AG18,"P")) | AI18: =IF($B18="","",COUNTIF($C18:$AG18,"L")) | AJ18: =IF($B18="","",COUNTIF($C18:$AG18,"A")) | AK18: =IF($B18="","",COUNTIF($C18:$AG18,"E")) | AL18: =IF($B18="","",COUNTIF($C18:$AG18,"S")) | AM18: =IF($B18="","",COUNTIF($C18:$AG18,"V")) | AN18: =IF(COUNTA($C18:$AG18)-COUNTIF($C18:$AG18,"H")=0,"",(AH18+AI18)/(COUNTA($C18:$AG18)-COUNTIF($C18:$AG18,"H")))
AH19: =IF($B19="","",COUNTIF($C19:$AG19,"P")) | AI19: =IF($B19="","",COUNTIF($C19:$AG19,"L")) | AJ19: =IF($B19="","",COUNTIF($C19:$AG19,"A")) | AK19: =IF($B19="","",COUNTIF($C19:$AG19,"E")) | AL19: =IF($B19="","",COUNTIF($C19:$AG19,"S")) | AM19: =IF($B19="","",COUNTIF($C19:$AG19,"V")) | AN19: =IF(COUNTA($C19:$AG19)-COUNTIF($C19:$AG19,"H")=0,"",(AH19+AI19)/(COUNTA($C19:$AG19)-COUNTIF($C19:$AG19,"H")))
AH20: =IF($B20="","",COUNTIF($C20:$AG20,"P")) | AI20: =IF($B20="","",COUNTIF($C20:$AG20,"L")) | AJ20: =IF($B20="","",COUNTIF($C20:$AG20,"A")) | AK20: =IF($B20="","",COUNTIF($C20:$AG20,"E")) | AL20: =IF($B20="","",COUNTIF($C20:$AG20,"S")) | AM20: =IF($B20="","",COUNTIF($C20:$AG20,"V")) | AN20: =IF(COUNTA($C20:$AG20)-COUNTIF($C20:$AG20,"H")=0,"",(AH20+AI20)/(COUNTA($C20:$AG20)-COUNTIF($C20:$AG20,"H")))
AH21: =IF($B21="","",COUNTIF($C21:$AG21,"P")) | AI21: =IF($B21="","",COUNTIF($C21:$AG21,"L")) | AJ21: =IF($B21="","",COUNTIF($C21:$AG21,"A")) | AK21: =IF($B21="","",COUNTIF($C21:$AG21,"E")) | AL21: =IF($B21="","",COUNTIF($C21:$AG21,"S")) | AM21: =IF($B21="","",COUNTIF($C21:$AG21,"V")) | AN21: =IF(COUNTA($C21:$AG21)-COUNTIF($C21:$AG21,"H")=0,"",(AH21+AI21)/(COUNTA($C21:$AG21)-COUNTIF($C21:$AG21,"H")))
AH22: =IF($B22="","",COUNTIF($C22:$AG22,"P")) | AI22: =IF($B22="","",COUNTIF($C22:$AG22,"L")) | AJ22: =IF($B22="","",COUNTIF($C22:$AG22,"A")) | AK22: =IF($B22="","",COUNTIF($C22:$AG22,"E")) | AL22: =IF($B22="","",COUNTIF($C22:$AG22,"S")) | AM22: =IF($B22="","",COUNTIF($C22:$AG22,"V")) | AN22: =IF(COUNTA($C22:$AG22)-COUNTIF($C22:$AG22,"H")=0,"",(AH22+AI22)/(COUNTA($C22:$AG22)-COUNTIF($C22:$AG22,"H")))
AH23: =IF($B23="","",COUNTIF($C23:$AG23,"P")) | AI23: =IF($B23="","",COUNTIF($C23:$AG23,"L")) | AJ23: =IF($B23="","",COUNTIF($C23:$AG23,"A")) | AK23: =IF($B23="","",COUNTIF($C23:$AG23,"E")) | AL23: =IF($B23="","",COUNTIF($C23:$AG23,"S")) | AM23: =IF($B23="","",COUNTIF($C23:$AG23,"V")) | AN23: =IF(COUNTA($C23:$AG23)-COUNTIF($C23:$AG23,"H")=0,"",(AH23+AI23)/(COUNTA($C23:$AG23)-COUNTIF($C23:$AG23,"H")))
AH24: =IF($B24="","",COUNTIF($C24:$AG24,"P")) | AI24: =IF($B24="","",COUNTIF($C24:$AG24,"L")) | AJ24: =IF($B24="","",COUNTIF($C24:$AG24,"A")) | AK24: =IF($B24="","",COUNTIF($C24:$AG24,"E")) | AL24: =IF($B24="","",COUNTIF($C24:$AG24,"S")) | AM24: =IF($B24="","",COUNTIF($C24:$AG24,"V")) | AN24: =IF(COUNTA($C24:$AG24)-COUNTIF($C24:$AG24,"H")=0,"",(AH24+AI24)/(COUNTA($C24:$AG24)-COUNTIF($C24:$AG24,"H")))
AH25: =IF($B25="","",COUNTIF($C25:$AG25,"P")) | AI25: =IF($B25="","",COUNTIF($C25:$AG25,"L")) | AJ25: =IF($B25="","",COUNTIF($C25:$AG25,"A")) | AK25: =IF($B25="","",COUNTIF($C25:$AG25,"E")) | AL25: =IF($B25="","",COUNTIF($C25:$AG25,"S")) | AM25: =IF($B25="","",COUNTIF($C25:$AG25,"V")) | AN25: =IF(COUNTA($C25:$AG25)-COUNTIF($C25:$AG25,"H")=0,"",(AH25+AI25)/(COUNTA($C25:$AG25)-COUNTIF($C25:$AG25,"H")))
AH26: =IF($B26="","",COUNTIF($C26:$AG26,"P")) | AI26: =IF($B26="","",COUNTIF($C26:$AG26,"L")) | AJ26: =IF($B26="","",COUNTIF($C26:$AG26,"A")) | AK26: =IF($B26="","",COUNTIF($C26:$AG26,"E")) | AL26: =IF($B26="","",COUNTIF($C26:$AG26,"S")) | AM26: =IF($B26="","",COUNTIF($C26:$AG26,"V")) | AN26: =IF(COUNTA($C26:$AG26)-COUNTIF($C26:$AG26,"H")=0,"",(AH26+AI26)/(COUNTA($C26:$AG26)-COUNTIF($C26:$AG26,"H")))
AH27: =IF($B27="","",COUNTIF($C27:$AG27,"P")) | AI27: =IF($B27="","",COUNTIF($C27:$AG27,"L")) | AJ27: =IF($B27="","",COUNTIF($C27:$AG27,"A")) | AK27: =IF($B27="","",COUNTIF($C27:$AG27,"E")) | AL27: =IF($B27="","",COUNTIF($C27:$AG27,"S")) | AM27: =IF($B27="","",COUNTIF($C27:$AG27,"V")) | AN27: =IF(COUNTA($C27:$AG27)-COUNTIF($C27:$AG27,"H")=0,"",(AH27+AI27)/(COUNTA($C27:$AG27)-COUNTIF($C27:$AG27,"H")))
AH28: =IF($B28="","",COUNTIF($C28:$AG28,"P")) | AI28: =IF($B28="","",COUNTIF($C28:$AG28,"L")) | AJ28: =IF($B28="","",COUNTIF($C28:$AG28,"A")) | AK28: =IF($B28="","",COUNTIF($C28:$AG28,"E")) | AL28: =IF($B28="","",COUNTIF($C28:$AG28,"S")) | AM28: =IF($B28="","",COUNTIF($C28:$AG28,"V")) | AN28: =IF(COUNTA($C28:$AG28)-COUNTIF($C28:$AG28,"H")=0,"",(AH28+AI28)/(COUNTA($C28:$AG28)-COUNTIF($C28:$AG28,"H")))
AH29: =IF($B29="","",COUNTIF($C29:$AG29,"P")) | AI29: =IF($B29="","",COUNTIF($C29:$AG29,"L")) | AJ29: =IF($B29="","",COUNTIF($C29:$AG29,"A")) | AK29: =IF($B29="","",COUNTIF($C29:$AG29,"E")) | AL29: =IF($B29="","",COUNTIF($C29:$AG29,"S")) | AM29: =IF($B29="","",COUNTIF($C29:$AG29,"V")) | AN29: =IF(COUNTA($C29:$AG29)-COUNTIF($C29:$AG29,"H")=0,"",(AH29+AI29)/(COUNTA($C29:$AG29)-COUNTIF($C29:$AG29,"H")))
AH30: =IF($B30="","",COUNTIF($C30:$AG30,"P")) | AI30: =IF($B30="","",COUNTIF($C30:$AG30,"L")) | AJ30: =IF($B30="","",COUNTIF($C30:$AG30,"A")) | AK30: =IF($B30="","",COUNTIF($C30:$AG30,"E")) | AL30: =IF($B30="","",COUNTIF($C30:$AG30,"S")) | AM30: =IF($B30="","",COUNTIF($C30:$AG30,"V")) | AN30: =IF(COUNTA($C30:$AG30)-COUNTIF($C30:$AG30,"H")=0,"",(AH30+AI30)/(COUNTA($C30:$AG30)-COUNTIF($C30:$AG30,"H")))
AH31: =IF($B31="","",COUNTIF($C31:$AG31,"P")) | AI31: =IF($B31="","",COUNTIF($C31:$AG31,"L")) | AJ31: =IF($B31="","",COUNTIF($C31:$AG31,"A")) | AK31: =IF($B31="","",COUNTIF($C31:$AG31,"E")) | AL31: =IF($B31="","",COUNTIF($C31:$AG31,"S")) | AM31: =IF($B31="","",COUNTIF($C31:$AG31,"V")) | AN31: =IF(COUNTA($C31:$AG31)-COUNTIF($C31:$AG31,"H")=0,"",(AH31+AI31)/(COUNTA($C31:$AG31)-COUNTIF($C31:$AG31,"H")))
B32: PRESENT (P+L) | C32: =IF(COUNTA(C7:C31)=0,"",COUNTIF(C7:C31,"P")+COUNTIF(C7:C31,"L")) | D32: =IF(COUNTA(D7:D31)=0,"",COUNTIF(D7:D31,"P")+COUNTIF(D7:D31,"L")) | E32: =IF(COUNTA(E7:E31)=0,"",COUNTIF(E7:E31,"P")+COUNTIF(E7:E31,"L")) | F32: =IF(COUNTA(F7:F31)=0,"",COUNTIF(F7:F31,"P")+COUNTIF(F7:F31,"L")) | G32: =IF(COUNTA(G7:G31)=0,"",COUNTIF(G7:G31,"P")+COUNTIF(G7:G31,"L")) | H32: =IF(COUNTA(H7:H31)=0,"",COUNTIF(H7:H31,"P")+COUNTIF(H7:H31,"L")) | I32: =IF(COUNTA(I7:I31)=0,"",COUNTIF(I7:I31,"P")+COUNTIF(I7:I31,"L")) | J32: =IF(COUNTA(J7:J31)=0,"",COUNTIF(J7:J31,"P")+COUNTIF(J7:J31,"L")) | ... AG32: =IF(COUNTA(AG7:AG31)=0,"",COUNTIF(AG7:AG31,"P")+COUNTIF(AG7:AG31,"L"))
B34: KEY | C34: P | D34: Present | G34: L | H34: Late | K34: A | L34: Absent | O34: E | P34: Excused | S34: S | T34: Sick | W34: V | X34: Vacation | AA34: H | AB34: Holiday | AH34: Rate = (P + L) ÷ marked days, holidays excluded
B36: Free template from niftyshelf.com · free for personal & commercial use

Sheet Feb
A1: =DATE(2027,2,1)
B2: February 2027 | AH2: =Jan!AH2
B3: Monthly attendance — P present · L late · A absent · E excused · S sick · V vacation · H holiday
B5: NAME | C5: =IF(MONTH($A$1+0)=2,DAY($A$1+0),"") | D5: =IF(MONTH($A$1+1)=2,DAY($A$1+1),"") | E5: =IF(MONTH($A$1+2)=2,DAY($A$1+2),"") | F5: =IF(MONTH($A$1+3)=2,DAY($A$1+3),"") | G5: =IF(MONTH($A$1+4)=2,DAY($A$1+4),"") | H5: =IF(MONTH($A$1+5)=2,DAY($A$1+5),"") | I5: =IF(MONTH($A$1+6)=2,DAY($A$1+6),"") | J5: =IF(MONTH($A$1+7)=2,DAY($A$1+7),"") | K5: =IF(MONTH($A$1+8)=2,DAY($A$1+8),"") | L5: =IF(MONTH($A$1+9)=2,DAY($A$1+9),"") | M5: =IF(MONTH($A$1+10)=2,DAY($A$1+10),"") | N5: =IF(MONTH($A$1+11)=2,DAY($A$1+11),"") | O5: =IF(MONTH($A$1+12)=2,DAY($A$1+12),"") | P5: =IF(MONTH($A$1+13)=2,DAY($A$1+13),"") | Q5: =IF(MONTH($A$1+14)=2,DAY($A$1+14),"") | R5: =IF(MONTH($A$1+15)=2,DAY($A$1+15),"") | S5: =IF(MONTH($A$1+16)=2,DAY($A$1+16),"") | T5: =IF(MONTH($A$1+17)=2,DAY($A$1+17),"") | U5: =IF(MONTH($A$1+18)=2,DAY($A$1+18),"") | V5: =IF(MONTH($A$1+19)=2,DAY($A$1+19),"") | W5: =IF(MONTH($A$1+20)=2,DAY($A$1+20),"") | X5: =IF(MONTH($A$1+21)=2,DAY($A$1+21),"") | Y5: =IF(MONTH($A$1+22)=2,DAY($A$1+22),"") | Z5: =IF(MONTH($A$1+23)=2,DAY($A$1+23),"") | AA5: =IF(MONTH($A$1+24)=2,DAY($A$1+24),"") | AB5: =IF(MONTH($A$1+25)=2,DAY($A$1+25),"") | AC5: =IF(MONTH($A$1+26)=2,DAY($A$1+26),"") | AD5: =IF(MONTH($A$1+27)=2,DAY($A$1+27),"") | AE5: =IF(MONTH($A$1+28)=2,DAY($A$1+28),"") | AF5: =IF(MONTH($A$1+29)=2,DAY($A$1+29),"") | AG5: =IF(MONTH($A$1+30)=2,DAY($A$1+30),"") | AH5: P | AI5: L | AJ5: A | AK5: E | AL5: S | AM5: V | AN5: RATE
C6: =IF(C5="","",CHOOSE(WEEKDAY($A$1+0),"Sun","Mon","Tue","Wed","Thu","Fri","Sat")) | D6: =IF(D5="","",CHOOSE(WEEKDAY($A$1+1),"Sun","Mon","Tue","Wed","Thu","Fri","Sat")) | E6: =IF(E5="","",CHOOSE(WEEKDAY($A$1+2),"Sun","Mon","Tue","Wed","Thu","Fri","Sat")) | F6: =IF(F5="","",CHOOSE(WEEKDAY($A$1+3),"Sun","Mon","Tue","Wed","Thu","Fri","Sat")) | G6: =IF(G5="","",CHOOSE(WEEKDAY($A$1+4),"Sun","Mon","Tue","Wed","Thu","Fri","Sat")) | H6: =IF(H5="","",CHOOSE(WEEKDAY($A$1+5),"Sun","Mon","Tue","Wed","Thu","Fri","Sat")) | I6: =IF(I5="","",CHOOSE(WEEKDAY($A$1+6),"Sun","Mon","Tue","Wed","Thu","Fri","Sat")) | J6: =IF(J5="","",CHOOSE(WEEKDAY($A$1+7),"Sun","Mon","Tue","Wed","Thu","Fri","Sat")) | K6: =IF(K5="","",CHOOSE(WEEKDAY($A$1+8),"Sun","Mon","Tue","Wed","Thu","Fri","Sat")) | L6: =IF(L5="","",CHOOSE(WEEKDAY($A$1+9),"Sun","Mon","Tue","Wed","Thu","Fri","Sat")) | M6: =IF(M5="","",CHOOSE(WEEKDAY($A$1+10),"Sun","Mon","Tue","Wed","Thu","Fri","Sat")) | N6: =IF(N5="","",CHOOSE(WEEKDAY($A$1+11),"Sun","Mon","Tue","Wed","Thu","Fri","Sat")) | O6: =IF(O5="","",CHOOSE(WEEKDAY($A$1+12),"Sun","Mon","Tue","Wed","Thu","Fri","Sat")) | P6: =IF(P5="","",CHOOSE(WEEKDAY($A$1+13),"Sun","Mon","Tue","Wed","Thu","Fri","Sat")) | Q6: =IF(Q5="","",CHOOSE(WEEKDAY($A$1+14),"Sun","Mon","Tue","Wed","Thu","Fri","Sat")) | R6: =IF(R5="","",CHOOSE(WEEKDAY($A$1+15),"Sun","Mon","Tue","Wed","Thu","Fri","Sat")) | S6: =IF(S5="","",CHOOSE(WEEKDAY($A$1+16),"Sun","Mon","Tue","Wed","Thu","Fri","Sat")) | T6: =IF(T5="","",CHOOSE(WEEKDAY($A$1+17),"Sun","Mon","Tue","Wed","Thu","Fri","Sat")) | U6: =IF(U5="","",CHOOSE(WEEKDAY($A$1+18),"Sun","Mon","Tue","Wed","Thu","Fri","Sat")) | V6: =IF(V5="","",CHOOSE(WEEKDAY($A$1+19),"Sun","Mon","Tue","Wed","Thu","Fri","Sat")) | W6: =IF(W5="","",CHOOSE(WEEKDAY($A$1+20),"Sun","Mon","Tue","Wed","Thu","Fri","Sat")) | X6: =IF(X5="","",CHOOSE(WEEKDAY($A$1+21),"Sun","Mon","Tue","Wed","Thu","Fri","Sat")) | Y6: =IF(Y5="","",CHOOSE(WEEKDAY($A$1+22),"Sun","Mon","Tue","Wed","Thu","Fri","Sat")) | Z6: =IF(Z5="","",CHOOSE(WEEKDAY($A$1+23),"Sun","Mon","Tue","Wed","Thu","Fri","Sat")) | AA6: =IF(AA5="","",CHOOSE(WEEKDAY($A$1+24),"Sun","Mon","Tue","Wed","Thu","Fri","Sat")) | AB6: =IF(AB5="","",CHOOSE(WEEKDAY($A$1+25),"Sun","Mon","Tue","Wed","Thu","Fri","Sat")) | AC6: =IF(AC5="","",CHOOSE(WEEKDAY($A$1+26),"Sun","Mon","Tue","Wed","Thu","Fri","Sat")) | AD6: =IF(AD5="","",CHOOSE(WEEKDAY($A$1+27),"Sun","Mon","Tue","Wed","Thu","Fri","Sat")) | AE6: =IF(AE5="","",CHOOSE(WEEKDAY($A$1+28),"Sun","Mon","Tue","Wed","Thu","Fri","Sat")) | AF6: =IF(AF5="","",CHOOSE(WEEKDAY($A$1+29),"Sun","Mon","Tue","Wed","Thu","Fri","Sat")) | AG6: =IF(AG5="","",CHOOSE(WEEKDAY($A$1+30),"Sun","Mon","Tue","Wed","Thu","Fri","Sat"))
B7: =IF(Jan!B7="","",Jan!B7) | AH7: =IF($B7="","",COUNTIF($C7:$AG7,"P")) | AI7: =IF($B7="","",COUNTIF($C7:$AG7,"L")) | AJ7: =IF($B7="","",COUNTIF($C7:$AG7,"A")) | AK7: =IF($B7="","",COUNTIF($C7:$AG7,"E")) | AL7: =IF($B7="","",COUNTIF($C7:$AG7,"S")) | AM7: =IF($B7="","",COUNTIF($C7:$AG7,"V")) | AN7: =IF(COUNTA($C7:$AG7)-COUNTIF($C7:$AG7,"H")=0,"",(AH7+AI7)/(COUNTA($C7:$AG7)-COUNTIF($C7:$AG7,"H")))
B8: =IF(Jan!B8="","",Jan!B8) | AH8: =IF($B8="","",COUNTIF($C8:$AG8,"P")) | AI8: =IF($B8="","",COUNTIF($C8:$AG8,"L")) | AJ8: =IF($B8="","",COUNTIF($C8:$AG8,"A")) | AK8: =IF($B8="","",COUNTIF($C8:$AG8,"E")) | AL8: =IF($B8="","",COUNTIF($C8:$AG8,"S")) | AM8: =IF($B8="","",COUNTIF($C8:$AG8,"V")) | AN8: =IF(COUNTA($C8:$AG8)-COUNTIF($C8:$AG8,"H")=0,"",(AH8+AI8)/(COUNTA($C8:$AG8)-COUNTIF($C8:$AG8,"H")))
B9: =IF(Jan!B9="","",Jan!B9) | AH9: =IF($B9="","",COUNTIF($C9:$AG9,"P")) | AI9: =IF($B9="","",COUNTIF($C9:$AG9,"L")) | AJ9: =IF($B9="","",COUNTIF($C9:$AG9,"A")) | AK9: =IF($B9="","",COUNTIF($C9:$AG9,"E")) | AL9: =IF($B9="","",COUNTIF($C9:$AG9,"S")) | AM9: =IF($B9="","",COUNTIF($C9:$AG9,"V")) | AN9: =IF(COUNTA($C9:$AG9)-COUNTIF($C9:$AG9,"H")=0,"",(AH9+AI9)/(COUNTA($C9:$AG9)-COUNTIF($C9:$AG9,"H")))
B10: =IF(Jan!B10="","",Jan!B10) | AH10: =IF($B10="","",COUNTIF($C10:$AG10,"P")) | AI10: =IF($B10="","",COUNTIF($C10:$AG10,"L")) | AJ10: =IF($B10="","",COUNTIF($C10:$AG10,"A")) | AK10: =IF($B10="","",COUNTIF($C10:$AG10,"E")) | AL10: =IF($B10="","",COUNTIF($C10:$AG10,"S")) | AM10: =IF($B10="","",COUNTIF($C10:$AG10,"V")) | AN10: =IF(COUNTA($C10:$AG10)-COUNTIF($C10:$AG10,"H")=0,"",(AH10+AI10)/(COUNTA($C10:$AG10)-COUNTIF($C10:$AG10,"H")))
B11: =IF(Jan!B11="","",Jan!B11) | AH11: =IF($B11="","",COUNTIF($C11:$AG11,"P")) | AI11: =IF($B11="","",COUNTIF($C11:$AG11,"L")) | AJ11: =IF($B11="","",COUNTIF($C11:$AG11,"A")) | AK11: =IF($B11="","",COUNTIF($C11:$AG11,"E")) | AL11: =IF($B11="","",COUNTIF($C11:$AG11,"S")) | AM11: =IF($B11="","",COUNTIF($C11:$AG11,"V")) | AN11: =IF(COUNTA($C11:$AG11)-COUNTIF($C11:$AG11,"H")=0,"",(AH11+AI11)/(COUNTA($C11:$AG11)-COUNTIF($C11:$AG11,"H")))
B12: =IF(Jan!B12="","",Jan!B12) | AH12: =IF($B12="","",COUNTIF($C12:$AG12,"P")) | AI12: =IF($B12="","",COUNTIF($C12:$AG12,"L")) | AJ12: =IF($B12="","",COUNTIF($C12:$AG12,"A")) | AK12: =IF($B12="","",COUNTIF($C12:$AG12,"E")) | AL12: =IF($B12="","",COUNTIF($C12:$AG12,"S")) | AM12: =IF($B12="","",COUNTIF($C12:$AG12,"V")) | AN12: =IF(COUNTA($C12:$AG12)-COUNTIF($C12:$AG12,"H")=0,"",(AH12+AI12)/(COUNTA($C12:$AG12)-COUNTIF($C12:$AG12,"H")))
B13: =IF(Jan!B13="","",Jan!B13) | AH13: =IF($B13="","",COUNTIF($C13:$AG13,"P")) | AI13: =IF($B13="","",COUNTIF($C13:$AG13,"L")) | AJ13: =IF($B13="","",COUNTIF($C13:$AG13,"A")) | AK13: =IF($B13="","",COUNTIF($C13:$AG13,"E")) | AL13: =IF($B13="","",COUNTIF($C13:$AG13,"S")) | AM13: =IF($B13="","",COUNTIF($C13:$AG13,"V")) | AN13: =IF(COUNTA($C13:$AG13)-COUNTIF($C13:$AG13,"H")=0,"",(AH13+AI13)/(COUNTA($C13:$AG13)-COUNTIF($C13:$AG13,"H")))
B14: =IF(Jan!B14="","",Jan!B14) | AH14: =IF($B14="","",COUNTIF($C14:$AG14,"P")) | AI14: =IF($B14="","",COUNTIF($C14:$AG14,"L")) | AJ14: =IF($B14="","",COUNTIF($C14:$AG14,"A")) | AK14: =IF($B14="","",COUNTIF($C14:$AG14,"E")) | AL14: =IF($B14="","",COUNTIF($C14:$AG14,"S")) | AM14: =IF($B14="","",COUNTIF($C14:$AG14,"V")) | AN14: =IF(COUNTA($C14:$AG14)-COUNTIF($C14:$AG14,"H")=0,"",(AH14+AI14)/(COUNTA($C14:$AG14)-COUNTIF($C14:$AG14,"H")))
B15: =IF(Jan!B15="","",Jan!B15) | AH15: =IF($B15="","",COUNTIF($C15:$AG15,"P")) | AI15: =IF($B15="","",COUNTIF($C15:$AG15,"L")) | AJ15: =IF($B15="","",COUNTIF($C15:$AG15,"A")) | AK15: =IF($B15="","",COUNTIF($C15:$AG15,"E")) | AL15: =IF($B15="","",COUNTIF($C15:$AG15,"S")) | AM15: =IF($B15="","",COUNTIF($C15:$AG15,"V")) | AN15: =IF(COUNTA($C15:$AG15)-COUNTIF($C15:$AG15,"H")=0,"",(AH15+AI15)/(COUNTA($C15:$AG15)-COUNTIF($C15:$AG15,"H")))
B16: =IF(Jan!B16="","",Jan!B16) | AH16: =IF($B16="","",COUNTIF($C16:$AG16,"P")) | AI16: =IF($B16="","",COUNTIF($C16:$AG16,"L")) | AJ16: =IF($B16="","",COUNTIF($C16:$AG16,"A")) | AK16: =IF($B16="","",COUNTIF($C16:$AG16,"E")) | AL16: =IF($B16="","",COUNTIF($C16:$AG16,"S")) | AM16: =IF($B16="","",COUNTIF($C16:$AG16,"V")) | AN16: =IF(COUNTA($C16:$AG16)-COUNTIF($C16:$AG16,"H")=0,"",(AH16+AI16)/(COUNTA($C16:$AG16)-COUNTIF($C16:$AG16,"H")))
B17: =IF(Jan!B17="","",Jan!B17) | AH17: =IF($B17="","",COUNTIF($C17:$AG17,"P")) | AI17: =IF($B17="","",COUNTIF($C17:$AG17,"L")) | AJ17: =IF($B17="","",COUNTIF($C17:$AG17,"A")) | AK17: =IF($B17="","",COUNTIF($C17:$AG17,"E")) | AL17: =IF($B17="","",COUNTIF($C17:$AG17,"S")) | AM17: =IF($B17="","",COUNTIF($C17:$AG17,"V")) | AN17: =IF(COUNTA($C17:$AG17)-COUNTIF($C17:$AG17,"H")=0,"",(AH17+AI17)/(COUNTA($C17:$AG17)-COUNTIF($C17:$AG17,"H")))
B18: =IF(Jan!B18="","",Jan!B18) | AH18: =IF($B18="","",COUNTIF($C18:$AG18,"P")) | AI18: =IF($B18="","",COUNTIF($C18:$AG18,"L")) | AJ18: =IF($B18="","",COUNTIF($C18:$AG18,"A")) | AK18: =IF($B18="","",COUNTIF($C18:$AG18,"E")) | AL18: =IF($B18="","",COUNTIF($C18:$AG18,"S")) | AM18: =IF($B18="","",COUNTIF($C18:$AG18,"V")) | AN18: =IF(COUNTA($C18:$AG18)-COUNTIF($C18:$AG18,"H")=0,"",(AH18+AI18)/(COUNTA($C18:$AG18)-COUNTIF($C18:$AG18,"H")))
... B31: =IF(Jan!B31="","",Jan!B31) | AH31: =IF($B31="","",COUNTIF($C31:$AG31,"P")) | AI31: =IF($B31="","",COUNTIF($C31:$AG31,"L")) | AJ31: =IF($B31="","",COUNTIF($C31:$AG31,"A")) | AK31: =IF($B31="","",COUNTIF($C31:$AG31,"E")) | AL31: =IF($B31="","",COUNTIF($C31:$AG31,"S")) | AM31: =IF($B31="","",COUNTIF($C31:$AG31,"V")) | AN31: =IF(COUNTA($C31:$AG31)-COUNTIF($C31:$AG31,"H")=0,"",(AH31+AI31)/(COUNTA($C31:$AG31)-COUNTIF($C31:$AG31,"H")))
B32: PRESENT (P+L) | C32: =IF(COUNTA(C7:C31)=0,"",COUNTIF(C7:C31,"P")+COUNTIF(C7:C31,"L")) | D32: =IF(COUNTA(D7:D31)=0,"",COUNTIF(D7:D31,"P")+COUNTIF(D7:D31,"L")) | E32: =IF(COUNTA(E7:E31)=0,"",COUNTIF(E7:E31,"P")+COUNTIF(E7:E31,"L")) | F32: =IF(COUNTA(F7:F31)=0,"",COUNTIF(F7:F31,"P")+COUNTIF(F7:F31,"L")) | G32: =IF(COUNTA(G7:G31)=0,"",COUNTIF(G7:G31,"P")+COUNTIF(G7:G31,"L")) | H32: =IF(COUNTA(H7:H31)=0,"",COUNTIF(H7:H31,"P")+COUNTIF(H7:H31,"L")) | I32: =IF(COUNTA(I7:I31)=0,"",COUNTIF(I7:I31,"P")+COUNTIF(I7:I31,"L")) | J32: =IF(COUNTA(J7:J31)=0,"",COUNTIF(J7:J31,"P")+COUNTIF(J7:J31,"L")) | ... AG32: =IF(COUNTA(AG7:AG31)=0,"",COUNTIF(AG7:AG31,"P")+COUNTIF(AG7:AG31,"L"))
B34: KEY | C34: P | D34: Present | G34: L | H34: Late | K34: A | L34: Absent | O34: E | P34: Excused | S34: S | T34: Sick | W34: V | X34: Vacation | AA34: H | AB34: Holiday | AH34: Rate = (P + L) ÷ marked days, holidays excluded
B36: Free template from niftyshelf.com · free for personal & commercial use

Sheet Mar
A1: =DATE(2027,3,1)
B2: March 2027 | AH2: =Jan!AH2
B3: Monthly attendance — P present · L late · A absent · E excused · S sick · V vacation · H holiday
B5: NAME | C5: =IF(MONTH($A$1+0)=3,DAY($A$1+0),"") | D5: =IF(MONTH($A$1+1)=3,DAY($A$1+1),"") | E5: =IF(MONTH($A$1+2)=3,DAY($A$1+2),"") | F5: =IF(MONTH($A$1+3)=3,DAY($A$1+3),"") | G5: =IF(MONTH($A$1+4)=3,DAY($A$1+4),"") | H5: =IF(MONTH($A$1+5)=3,DAY($A$1+5),"") | I5: =IF(MONTH($A$1+6)=3,DAY($A$1+6),"") | J5: =IF(MONTH($A$1+7)=3,DAY($A$1+7),"") | K5: =IF(MONTH($A$1+8)=3,DAY($A$1+8),"") | L5: =IF(MONTH($A$1+9)=3,DAY($A$1+9),"") | M5: =IF(MONTH($A$1+10)=3,DAY($A$1+10),"") | N5: =IF(MONTH($A$1+11)=3,DAY($A$1+11),"") | O5: =IF(MONTH($A$1+12)=3,DAY($A$1+12),"") | P5: =IF(MONTH($A$1+13)=3,DAY($A$1+13),"") | Q5: =IF(MONTH($A$1+14)=3,DAY($A$1+14),"") | R5: =IF(MONTH($A$1+15)=3,DAY($A$1+15),"") | S5: =IF(MONTH($A$1+16)=3,DAY($A$1+16),"") | T5: =IF(MONTH($A$1+17)=3,DAY($A$1+17),"") | U5: =IF(MONTH($A$1+18)=3,DAY($A$1+18),"") | V5: =IF(MONTH($A$1+19)=3,DAY($A$1+19),"") | W5: =IF(MONTH($A$1+20)=3,DAY($A$1+20),"") | X5: =IF(MONTH($A$1+21)=3,DAY($A$1+21),"") | Y5: =IF(MONTH($A$1+22)=3,DAY($A$1+22),"") | Z5: =IF(MONTH($A$1+23)=3,DAY($A$1+23),"") | AA5: =IF(MONTH($A$1+24)=3,DAY($A$1+24),"") | AB5: =IF(MONTH($A$1+25)=3,DAY($A$1+25),"") | AC5: =IF(MONTH($A$1+26)=3,DAY($A$1+26),"") | AD5: =IF(MONTH($A$1+27)=3,DAY($A$1+27),"") | AE5: =IF(MONTH($A$1+28)=3,DAY($A$1+28),"") | AF5: =IF(MONTH($A$1+29)=3,DAY($A$1+29),"") | AG5: =IF(MONTH($A$1+30)=3,DAY($A$1+30),"") | AH5: P | AI5: L | AJ5: A | AK5: E | AL5: S | AM5: V | AN5: RATE
C6: =IF(C5="","",CHOOSE(WEEKDAY($A$1+0),"Sun","Mon","Tue","Wed","Thu","Fri","Sat")) | D6: =IF(D5="","",CHOOSE(WEEKDAY($A$1+1),"Sun","Mon","Tue","Wed","Thu","Fri","Sat")) | E6: =IF(E5="","",CHOOSE(WEEKDAY($A$1+2),"Sun","Mon","Tue","Wed","Thu","Fri","Sat")) | F6: =IF(F5="","",CHOOSE(WEEKDAY($A$1+3),"Sun","Mon","Tue","Wed","Thu","Fri","Sat")) | G6: =IF(G5="","",CHOOSE(WEEKDAY($A$1+4),"Sun","Mon","Tue","Wed","Thu","Fri","Sat")) | H6: =IF(H5="","",CHOOSE(WEEKDAY($A$1+5),"Sun","Mon","Tue","Wed","Thu","Fri","Sat")) | I6: =IF(I5="","",CHOOSE(WEEKDAY($A$1+6),"Sun","Mon","Tue","Wed","Thu","Fri","Sat")) | J6: =IF(J5="","",CHOOSE(WEEKDAY($A$1+7),"Sun","Mon","Tue","Wed","Thu","Fri","Sat")) | K6: =IF(K5="","",CHOOSE(WEEKDAY($A$1+8),"Sun","Mon","Tue","Wed","Thu","Fri","Sat")) | L6: =IF(L5="","",CHOOSE(WEEKDAY($A$1+9),"Sun","Mon","Tue","Wed","Thu","Fri","Sat")) | M6: =IF(M5="","",CHOOSE(WEEKDAY($A$1+10),"Sun","Mon","Tue","Wed","Thu","Fri","Sat")) | N6: =IF(N5="","",CHOOSE(WEEKDAY($A$1+11),"Sun","Mon","Tue","Wed","Thu","Fri","Sat")) | O6: =IF(O5="","",CHOOSE(WEEKDAY($A$1+12),"Sun","Mon","Tue","Wed","Thu","Fri","Sat")) | P6: =IF(P5="","",CHOOSE(WEEKDAY($A$1+13),"Sun","Mon","Tue","Wed","Thu","Fri","Sat")) | Q6: =IF(Q5="","",CHOOSE(WEEKDAY($A$1+14),"Sun","Mon","Tue","Wed","Thu","Fri","Sat")) | R6: =IF(R5="","",CHOOSE(WEEKDAY($A$1+15),"Sun","Mon","Tue","Wed","Thu","Fri","Sat")) | S6: =IF(S5="","",CHOOSE(WEEKDAY($A$1+16),"Sun","Mon","Tue","Wed","Thu","Fri","Sat")) | T6: =IF(T5="","",CHOOSE(WEEKDAY($A$1+17),"Sun","Mon","Tue","Wed","Thu","Fri","Sat")) | U6: =IF(U5="","",CHOOSE(WEEKDAY($A$1+18),"Sun","Mon","Tue","Wed","Thu","Fri","Sat")) | V6: =IF(V5="","",CHOOSE(WEEKDAY($A$1+19),"Sun","Mon","Tue","Wed","Thu","Fri","Sat")) | W6: =IF(W5="","",CHOOSE(WEEKDAY($A$1+20),"Sun","Mon","Tue","Wed","Thu","Fri","Sat")) | X6: =IF(X5="","",CHOOSE(WEEKDAY($A$1+21),"Sun","Mon","Tue","Wed","Thu","Fri","Sat")) | Y6: =IF(Y5="","",CHOOSE(WEEKDAY($A$1+22),"Sun","Mon","Tue","Wed","Thu","Fri","Sat")) | Z6: =IF(Z5="","",CHOOSE(WEEKDAY($A$1+23),"Sun","Mon","Tue","Wed","Thu","Fri","Sat")) | AA6: =IF(AA5="","",CHOOSE(WEEKDAY($A$1+24),"Sun","Mon","Tue","Wed","Thu","Fri","Sat")) | AB6: =IF(AB5="","",CHOOSE(WEEKDAY($A$1+25),"Sun","Mon","Tue","Wed","Thu","Fri","Sat")) | AC6: =IF(AC5="","",CHOOSE(WEEKDAY($A$1+26),"Sun","Mon","Tue","Wed","Thu","Fri","Sat")) | AD6: =IF(AD5="","",CHOOSE(WEEKDAY($A$1+27),"Sun","Mon","Tue","Wed","Thu","Fri","Sat")) | AE6: =IF(AE5="","",CHOOSE(WEEKDAY($A$1+28),"Sun","Mon","Tue","Wed","Thu","Fri","Sat")) | AF6: =IF(AF5="","",CHOOSE(WEEKDAY($A$1+29),"Sun","Mon","Tue","Wed","Thu","Fri","Sat")) | AG6: =IF(AG5="","",CHOOSE(WEEKDAY($A$1+30),"Sun","Mon","Tue","Wed","Thu","Fri","Sat"))
B7: =IF(Jan!B7="","",Jan!B7) | AH7: =IF($B7="","",COUNTIF($C7:$AG7,"P")) | AI7: =IF($B7="","",COUNTIF($C7:$AG7,"L")) | AJ7: =IF($B7="","",COUNTIF($C7:$AG7,"A")) | AK7: =IF($B7="","",COUNTIF($C7:$AG7,"E")) | AL7: =IF($B7="","",COUNTIF($C7:$AG7,"S")) | AM7: =IF($B7="","",COUNTIF($C7:$AG7,"V")) | AN7: =IF(COUNTA($C7:$AG7)-COUNTIF($C7:$AG7,"H")=0,"",(AH7+AI7)/(COUNTA($C7:$AG7)-COUNTIF($C7:$AG7,"H")))
B8: =IF(Jan!B8="","",Jan!B8) | AH8: =IF($B8="","",COUNTIF($C8:$AG8,"P")) | AI8: =IF($B8="","",COUNTIF($C8:$AG8,"L")) | AJ8: =IF($B8="","",COUNTIF($C8:$AG8,"A")) | AK8: =IF($B8="","",COUNTIF($C8:$AG8,"E")) | AL8: =IF($B8="","",COUNTIF($C8:$AG8,"S")) | AM8: =IF($B8="","",COUNTIF($C8:$AG8,"V")) | AN8: =IF(COUNTA($C8:$AG8)-COUNTIF($C8:$AG8,"H")=0,"",(AH8+AI8)/(COUNTA($C8:$AG8)-COUNTIF($C8:$AG8,"H")))
B9: =IF(Jan!B9="","",Jan!B9) | AH9: =IF($B9="","",COUNTIF($C9:$AG9,"P")) | AI9: =IF($B9="","",COUNTIF($C9:$AG9,"L")) | AJ9: =IF($B9="","",COUNTIF($C9:$AG9,"A")) | AK9: =IF($B9="","",COUNTIF($C9:$AG9,"E")) | AL9: =IF($B9="","",COUNTIF($C9:$AG9,"S")) | AM9: =IF($B9="","",COUNTIF($C9:$AG9,"V")) | AN9: =IF(COUNTA($C9:$AG9)-COUNTIF($C9:$AG9,"H")=0,"",(AH9+AI9)/(COUNTA($C9:$AG9)-COUNTIF($C9:$AG9,"H")))
B10: =IF(Jan!B10="","",Jan!B10) | AH10: =IF($B10="","",COUNTIF($C10:$AG10,"P")) | AI10: =IF($B10="","",COUNTIF($C10:$AG10,"L")) | AJ10: =IF($B10="","",COUNTIF($C10:$AG10,"A")) | AK10: =IF($B10="","",COUNTIF($C10:$AG10,"E")) | AL10: =IF($B10="","",COUNTIF($C10:$AG10,"S")) | AM10: =IF($B10="","",COUNTIF($C10:$AG10,"V")) | AN10: =IF(COUNTA($C10:$AG10)-COUNTIF($C10:$AG10,"H")=0,"",(AH10+AI10)/(COUNTA($C10:$AG10)-COUNTIF($C10:$AG10,"H")))
B11: =IF(Jan!B11="","",Jan!B11) | AH11: =IF($B11="","",COUNTIF($C11:$AG11,"P")) | AI11: =IF($B11="","",COUNTIF($C11:$AG11,"L")) | AJ11: =IF($B11="","",COUNTIF($C11:$AG11,"A")) | AK11: =IF($B11="","",COUNTIF($C11:$AG11,"E")) | AL11: =IF($B11="","",COUNTIF($C11:$AG11,"S")) | AM11: =IF($B11="","",COUNTIF($C11:$AG11,"V")) | AN11: =IF(COUNTA($C11:$AG11)-COUNTIF($C11:$AG11,"H")=0,"",(AH11+AI11)/(COUNTA($C11:$AG11)-COUNTIF($C11:$AG11,"H")))
B12: =IF(Jan!B12="","",Jan!B12) | AH12: =IF($B12="","",COUNTIF($C12:$AG12,"P")) | AI12: =IF($B12="","",COUNTIF($C12:$AG12,"L")) | AJ12: =IF($B12="","",COUNTIF($C12:$AG12,"A")) | AK12: =IF($B12="","",COUNTIF($C12:$AG12,"E")) | AL12: =IF($B12="","",COUNTIF($C12:$AG12,"S")) | AM12: =IF($B12="","",COUNTIF($C12:$AG12,"V")) | AN12: =IF(COUNTA($C12:$AG12)-COUNTIF($C12:$AG12,"H")=0,"",(AH12+AI12)/(COUNTA($C12:$AG12)-COUNTIF($C12:$AG12,"H")))
B13: =IF(Jan!B13="","",Jan!B13) | AH13: =IF($B13="","",COUNTIF($C13:$AG13,"P")) | AI13: =IF($B13="","",COUNTIF($C13:$AG13,"L")) | AJ13: =IF($B13="","",COUNTIF($C13:$AG13,"A")) | AK13: =IF($B13="","",COUNTIF($C13:$AG13,"E")) | AL13: =IF($B13="","",COUNTIF($C13:$AG13,"S")) | AM13: =IF($B13="","",COUNTIF($C13:$AG13,"V")) | AN13: =IF(COUNTA($C13:$AG13)-COUNTIF($C13:$AG13,"H")=0,"",(AH13+AI13)/(COUNTA($C13:$AG13)-COUNTIF($C13:$AG13,"H")))
B14: =IF(Jan!B14="","",Jan!B14) | AH14: =IF($B14="","",COUNTIF($C14:$AG14,"P")) | AI14: =IF($B14="","",COUNTIF($C14:$AG14,"L")) | AJ14: =IF($B14="","",COUNTIF($C14:$AG14,"A")) | AK14: =IF($B14="","",COUNTIF($C14:$AG14,"E")) | AL14: =IF($B14="","",COUNTIF($C14:$AG14,"S")) | AM14: =IF($B14="","",COUNTIF($C14:$AG14,"V")) | AN14: =IF(COUNTA($C14:$AG14)-COUNTIF($C14:$AG14,"H")=0,"",(AH14+AI14)/(COUNTA($C14:$AG14)-COUNTIF($C14:$AG14,"H")))
B15: =IF(Jan!B15="","",Jan!B15) | AH15: =IF($B15="","",COUNTIF($C15:$AG15,"P")) | AI15: =IF($B15="","",COUNTIF($C15:$AG15,"L")) | AJ15: =IF($B15="","",COUNTIF($C15:$AG15,"A")) | AK15: =IF($B15="","",COUNTIF($C15:$AG15,"E")) | AL15: =IF($B15="","",COUNTIF($C15:$AG15,"S")) | AM15: =IF($B15="","",COUNTIF($C15:$AG15,"V")) | AN15: =IF(COUNTA($C15:$AG15)-COUNTIF($C15:$AG15,"H")=0,"",(AH15+AI15)/(COUNTA($C15:$AG15)-COUNTIF($C15:$AG15,"H")))
B16: =IF(Jan!B16="","",Jan!B16) | AH16: =IF($B16="","",COUNTIF($C16:$AG16,"P")) | AI16: =IF($B16="","",COUNTIF($C16:$AG16,"L")) | AJ16: =IF($B16="","",COUNTIF($C16:$AG16,"A")) | AK16: =IF($B16="","",COUNTIF($C16:$AG16,"E")) | AL16: =IF($B16="","",COUNTIF($C16:$AG16,"S")) | AM16: =IF($B16="","",COUNTIF($C16:$AG16,"V")) | AN16: =IF(COUNTA($C16:$AG16)-COUNTIF($C16:$AG16,"H")=0,"",(AH16+AI16)/(COUNTA($C16:$AG16)-COUNTIF($C16:$AG16,"H")))
B17: =IF(Jan!B17="","",Jan!B17) | AH17: =IF($B17="","",COUNTIF($C17:$AG17,"P")) | AI17: =IF($B17="","",COUNTIF($C17:$AG17,"L")) | AJ17: =IF($B17="","",COUNTIF($C17:$AG17,"A")) | AK17: =IF($B17="","",COUNTIF($C17:$AG17,"E")) | AL17: =IF($B17="","",COUNTIF($C17:$AG17,"S")) | AM17: =IF($B17="","",COUNTIF($C17:$AG17,"V")) | AN17: =IF(COUNTA($C17:$AG17)-COUNTIF($C17:$AG17,"H")=0,"",(AH17+AI17)/(COUNTA($C17:$AG17)-COUNTIF($C17:$AG17,"H")))
B18: =IF(Jan!B18="","",Jan!B18) | AH18: =IF($B18="","",COUNTIF($C18:$AG18,"P")) | AI18: =IF($B18="","",COUNTIF($C18:$AG18,"L")) | AJ18: =IF($B18="","",COUNTIF($C18:$AG18,"A")) | AK18: =IF($B18="","",COUNTIF($C18:$AG18,"E")) | AL18: =IF($B18="","",COUNTIF($C18:$AG18,"S")) | AM18: =IF($B18="","",COUNTIF($C18:$AG18,"V")) | AN18: =IF(COUNTA($C18:$AG18)-COUNTIF($C18:$AG18,"H")=0,"",(AH18+AI18)/(COUNTA($C18:$AG18)-COUNTIF($C18:$AG18,"H")))
... B31: =IF(Jan!B31="","",Jan!B31) | AH31: =IF($B31="","",COUNTIF($C31:$AG31,"P")) | AI31: =IF($B31="","",COUNTIF($C31:$AG31,"L")) | AJ31: =IF($B31="","",COUNTIF($C31:$AG31,"A")) | AK31: =IF($B31="","",COUNTIF($C31:$AG31,"E")) | AL31: =IF($B31="","",COUNTIF($C31:$AG31,"S")) | AM31: =IF($B31="","",COUNTIF($C31:$AG31,"V")) | AN31: =IF(COUNTA($C31:$AG31)-COUNTIF($C31:$AG31,"H")=0,"",(AH31+AI31)/(COUNTA($C31:$AG31)-COUNTIF($C31:$AG31,"H")))
B32: PRESENT (P+L) | C32: =IF(COUNTA(C7:C31)=0,"",COUNTIF(C7:C31,"P")+COUNTIF(C7:C31,"L")) | D32: =IF(COUNTA(D7:D31)=0,"",COUNTIF(D7:D31,"P")+COUNTIF(D7:D31,"L")) | E32: =IF(COUNTA(E7:E31)=0,"",COUNTIF(E7:E31,"P")+COUNTIF(E7:E31,"L")) | F32: =IF(COUNTA(F7:F31)=0,"",COUNTIF(F7:F31,"P")+COUNTIF(F7:F31,"L")) | G32: =IF(COUNTA(G7:G31)=0,"",COUNTIF(G7:G31,"P")+COUNTIF(G7:G31,"L")) | H32: =IF(COUNTA(H7:H31)=0,"",COUNTIF(H7:H31,"P")+COUNTIF(H7:H31,"L")) | I32: =IF(COUNTA(I7:I31)=0,"",COUNTIF(I7:I31,"P")+COUNTIF(I7:I31,"L")) | J32: =IF(COUNTA(J7:J31)=0,"",COUNTIF(J7:J31,"P")+COUNTIF(J7:J31,"L")) | ... AG32: =IF(COUNTA(AG7:AG31)=0,"",COUNTIF(AG7:AG31,"P")+COUNTIF(AG7:AG31,"L"))
B34: KEY | C34: P | D34: Present | G34: L | H34: Late | K34: A | L34: Absent | O34: E | P34: Excused | S34: S | T34: Sick | W34: V | X34: Vacation | AA34: H | AB34: Holiday | AH34: Rate = (P + L) ÷ marked days, holidays excluded
B36: Free template from niftyshelf.com · free for personal & commercial use

Sheet Apr
A1: =DATE(2027,4,1)
B2: April 2027 | AH2: =Jan!AH2
B3: Monthly attendance — P present · L late · A absent · E excused · S sick · V vacation · H holiday
B5: NAME | C5: =IF(MONTH($A$1+0)=4,DAY($A$1+0),"") | D5: =IF(MONTH($A$1+1)=4,DAY($A$1+1),"") | E5: =IF(MONTH($A$1+2)=4,DAY($A$1+2),"") | F5: =IF(MONTH($A$1+3)=4,DAY($A$1+3),"") | G5: =IF(MONTH($A$1+4)=4,DAY($A$1+4),"") | H5: =IF(MONTH($A$1+5)=4,DAY($A$1+5),"") | I5: =IF(MONTH($A$1+6)=4,DAY($A$1+6),"") | J5: =IF(MONTH($A$1+7)=4,DAY($A$1+7),"") | K5: =IF(MONTH($A$1+8)=4,DAY($A$1+8),"") | L5: =IF(MONTH($A$1+9)=4,DAY($A$1+9),"") | M5: =IF(MONTH($A$1+10)=4,DAY($A$1+10),"") | N5: =IF(MONTH($A$1+11)=4,DAY($A$1+11),"") | O5: =IF(MONTH($A$1+12)=4,DAY($A$1+12),"") | P5: =IF(MONTH($A$1+13)=4,DAY($A$1+13),"") | Q5: =IF(MONTH($A$1+14)=4,DAY($A$1+14),"") | R5: =IF(MONTH($A$1+15)=4,DAY($A$1+15),"") | S5: =IF(MONTH($A$1+16)=4,DAY($A$1+16),"") | T5: =IF(MONTH($A$1+17)=4,DAY($A$1+17),"") | U5: =IF(MONTH($A$1+18)=4,DAY($A$1+18),"") | V5: =IF(MONTH($A$1+19)=4,DAY($A$1+19),"") | W5: =IF(MONTH($A$1+20)=4,DAY($A$1+20),"") | X5: =IF(MONTH($A$1+21)=4,DAY($A$1+21),"") | Y5: =IF(MONTH($A$1+22)=4,DAY($A$1+22),"") | Z5: =IF(MONTH($A$1+23)=4,DAY($A$1+23),"") | AA5: =IF(MONTH($A$1+24)=4,DAY($A$1+24),"") | AB5: =IF(MONTH($A$1+25)=4,DAY($A$1+25),"") | AC5: =IF(MONTH($A$1+26)=4,DAY($A$1+26),"") | AD5: =IF(MONTH($A$1+27)=4,DAY($A$1+27),"") | AE5: =IF(MONTH($A$1+28)=4,DAY($A$1+28),"") | AF5: =IF(MONTH($A$1+29)=4,DAY($A$1+29),"") | AG5: =IF(MONTH($A$1+30)=4,DAY($A$1+30),"") | AH5: P | AI5: L | AJ5: A | AK5: E | AL5: S | AM5: V | AN5: RATE
C6: =IF(C5="","",CHOOSE(WEEKDAY($A$1+0),"Sun","Mon","Tue","Wed","Thu","Fri","Sat")) | D6: =IF(D5="","",CHOOSE(WEEKDAY($A$1+1),"Sun","Mon","Tue","Wed","Thu","Fri","Sat")) | E6: =IF(E5="","",CHOOSE(WEEKDAY($A$1+2),"Sun","Mon","Tue","Wed","Thu","Fri","Sat")) | F6: =IF(F5="","",CHOOSE(WEEKDAY($A$1+3),"Sun","Mon","Tue","Wed","Thu","Fri","Sat")) | G6: =IF(G5="","",CHOOSE(WEEKDAY($A$1+4),"Sun","Mon","Tue","Wed","Thu","Fri","Sat")) | H6: =IF(H5="","",CHOOSE(WEEKDAY($A$1+5),"Sun","Mon","Tue","Wed","Thu","Fri","Sat")) | I6: =IF(I5="","",CHOOSE(WEEKDAY($A$1+6),"Sun","Mon","Tue","Wed","Thu","Fri","Sat")) | J6: =IF(J5="","",CHOOSE(WEEKDAY($A$1+7),"Sun","Mon","Tue","Wed","Thu","Fri","Sat")) | K6: =IF(K5="","",CHOOSE(WEEKDAY($A$1+8),"Sun","Mon","Tue","Wed","Thu","Fri","Sat")) | L6: =IF(L5="","",CHOOSE(WEEKDAY($A$1+9),"Sun","Mon","Tue","Wed","Thu","Fri","Sat")) | M6: =IF(M5="","",CHOOSE(WEEKDAY($A$1+10),"Sun","Mon","Tue","Wed","Thu","Fri","Sat")) | N6: =IF(N5="","",CHOOSE(WEEKDAY($A$1+11),"Sun","Mon","Tue","Wed","Thu","Fri","Sat")) | O6: =IF(O5="","",CHOOSE(WEEKDAY($A$1+12),"Sun","Mon","Tue","Wed","Thu","Fri","Sat")) | P6: =IF(P5="","",CHOOSE(WEEKDAY($A$1+13),"Sun","Mon","Tue","Wed","Thu","Fri","Sat")) | Q6: =IF(Q5="","",CHOOSE(WEEKDAY($A$1+14),"Sun","Mon","Tue","Wed","Thu","Fri","Sat")) | R6: =IF(R5="","",CHOOSE(WEEKDAY($A$1+15),"Sun","Mon","Tue","Wed","Thu","Fri","Sat")) | S6: =IF(S5="","",CHOOSE(WEEKDAY($A$1+16),"Sun","Mon","Tue","Wed","Thu","Fri","Sat")) | T6: =IF(T5="","",CHOOSE(WEEKDAY($A$1+17),"Sun","Mon","Tue","Wed","Thu","Fri","Sat")) | U6: =IF(U5="","",CHOOSE(WEEKDAY($A$1+18),"Sun","Mon","Tue","Wed","Thu","Fri","Sat")) | V6: =IF(V5="","",CHOOSE(WEEKDAY($A$1+19),"Sun","Mon","Tue","Wed","Thu","Fri","Sat")) | W6: =IF(W5="","",CHOOSE(WEEKDAY($A$1+20),"Sun","Mon","Tue","Wed","Thu","Fri","Sat")) | X6: =IF(X5="","",CHOOSE(WEEKDAY($A$1+21),"Sun","Mon","Tue","Wed","Thu","Fri","Sat")) | Y6: =IF(Y5="","",CHOOSE(WEEKDAY($A$1+22),"Sun","Mon","Tue","Wed","Thu","Fri","Sat")) | Z6: =IF(Z5="","",CHOOSE(WEEKDAY($A$1+23),"Sun","Mon","Tue","Wed","Thu","Fri","Sat")) | AA6: =IF(AA5="","",CHOOSE(WEEKDAY($A$1+24),"Sun","Mon","Tue","Wed","Thu","Fri","Sat")) | AB6: =IF(AB5="","",CHOOSE(WEEKDAY($A$1+25),"Sun","Mon","Tue","Wed","Thu","Fri","Sat")) | AC6: =IF(AC5="","",CHOOSE(WEEKDAY($A$1+26),"Sun","Mon","Tue","Wed","Thu","Fri","Sat")) | AD6: =IF(AD5="","",CHOOSE(WEEKDAY($A$1+27),"Sun","Mon","Tue","Wed","Thu","Fri","Sat")) | AE6: =IF(AE5="","",CHOOSE(WEEKDAY($A$1+28),"Sun","Mon","Tue","Wed","Thu","Fri","Sat")) | AF6: =IF(AF5="","",CHOOSE(WEEKDAY($A$1+29),"Sun","Mon","Tue","Wed","Thu","Fri","Sat")) | AG6: =IF(AG5="","",CHOOSE(WEEKDAY($A$1+30),"Sun","Mon","Tue","Wed","Thu","Fri","Sat"))
B7: =IF(Jan!B7="","",Jan!B7) | AH7: =IF($B7="","",COUNTIF($C7:$AG7,"P")) | AI7: =IF($B7="","",COUNTIF($C7:$AG7,"L")) | AJ7: =IF($B7="","",COUNTIF($C7:$AG7,"A")) | AK7: =IF($B7="","",COUNTIF($C7:$AG7,"E")) | AL7: =IF($B7="","",COUNTIF($C7:$AG7,"S")) | AM7: =IF($B7="","",COUNTIF($C7:$AG7,"V")) | AN7: =IF(COUNTA($C7:$AG7)-COUNTIF($C7:$AG7,"H")=0,"",(AH7+AI7)/(COUNTA($C7:$AG7)-COUNTIF($C7:$AG7,"H")))
B8: =IF(Jan!B8="","",Jan!B8) | AH8: =IF($B8="","",COUNTIF($C8:$AG8,"P")) | AI8: =IF($B8="","",COUNTIF($C8:$AG8,"L")) | AJ8: =IF($B8="","",COUNTIF($C8:$AG8,"A")) | AK8: =IF($B8="","",COUNTIF($C8:$AG8,"E")) | AL8: =IF($B8="","",COUNTIF($C8:$AG8,"S")) | AM8: =IF($B8="","",COUNTIF($C8:$AG8,"V")) | AN8: =IF(COUNTA($C8:$AG8)-COUNTIF($C8:$AG8,"H")=0,"",(AH8+AI8)/(COUNTA($C8:$AG8)-COUNTIF($C8:$AG8,"H")))
B9: =IF(Jan!B9="","",Jan!B9) | AH9: =IF($B9="","",COUNTIF($C9:$AG9,"P")) | AI9: =IF($B9="","",COUNTIF($C9:$AG9,"L")) | AJ9: =IF($B9="","",COUNTIF($C9:$AG9,"A")) | AK9: =IF($B9="","",COUNTIF($C9:$AG9,"E")) | AL9: =IF($B9="","",COUNTIF($C9:$AG9,"S")) | AM9: =IF($B9="","",COUNTIF($C9:$AG9,"V")) | AN9: =IF(COUNTA($C9:$AG9)-COUNTIF($C9:$AG9,"H")=0,"",(AH9+AI9)/(COUNTA($C9:$AG9)-COUNTIF($C9:$AG9,"H")))
B10: =IF(Jan!B10="","",Jan!B10) | AH10: =IF($B10="","",COUNTIF($C10:$AG10,"P")) | AI10: =IF($B10="","",COUNTIF($C10:$AG10,"L")) | AJ10: =IF($B10="","",COUNTIF($C10:$AG10,"A")) | AK10: =IF($B10="","",COUNTIF($C10:$AG10,"E")) | AL10: =IF($B10="","",COUNTIF($C10:$AG10,"S")) | AM10: =IF($B10="","",COUNTIF($C10:$AG10,"V")) | AN10: =IF(COUNTA($C10:$AG10)-COUNTIF($C10:$AG10,"H")=0,"",(AH10+AI10)/(COUNTA($C10:$AG10)-COUNTIF($C10:$AG10,"H")))
B11: =IF(Jan!B11="","",Jan!B11) | AH11: =IF($B11="","",COUNTIF($C11:$AG11,"P")) | AI11: =IF($B11="","",COUNTIF($C11:$AG11,"L")) | AJ11: =IF($B11="","",COUNTIF($C11:$AG11,"A")) | AK11: =IF($B11="","",COUNTIF($C11:$AG11,"E")) | AL11: =IF($B11="","",COUNTIF($C11:$AG11,"S")) | AM11: =IF($B11="","",COUNTIF($C11:$AG11,"V")) | AN11: =IF(COUNTA($C11:$AG11)-COUNTIF($C11:$AG11,"H")=0,"",(AH11+AI11)/(COUNTA($C11:$AG11)-COUNTIF($C11:$AG11,"H")))
B12: =IF(Jan!B12="","",Jan!B12) | AH12: =IF($B12="","",COUNTIF($C12:$AG12,"P")) | AI12: =IF($B12="","",COUNTIF($C12:$AG12,"L")) | AJ12: =IF($B12="","",COUNTIF($C12:$AG12,"A")) | AK12: =IF($B12="","",COUNTIF($C12:$AG12,"E")) | AL12: =IF($B12="","",COUNTIF($C12:$AG12,"S")) | AM12: =IF($B12="","",COUNTIF($C12:$AG12,"V")) | AN12: =IF(COUNTA($C12:$AG12)-COUNTIF($C12:$AG12,"H")=0,"",(AH12+AI12)/(COUNTA($C12:$AG12)-COUNTIF($C12:$AG12,"H")))
B13: =IF(Jan!B13="","",Jan!B13) | AH13: =IF($B13="","",COUNTIF($C13:$AG13,"P")) | AI13: =IF($B13="","",COUNTIF($C13:$AG13,"L")) | AJ13: =IF($B13="","",COUNTIF($C13:$AG13,"A")) | AK13: =IF($B13="","",COUNTIF($C13:$AG13,"E")) | AL13: =IF($B13="","",COUNTIF($C13:$AG13,"S")) | AM13: =IF($B13="","",COUNTIF($C13:$AG13,"V")) | AN13: =IF(COUNTA($C13:$AG13)-COUNTIF($C13:$AG13,"H")=0,"",(AH13+AI13)/(COUNTA($C13:$AG13)-COUNTIF($C13:$AG13,"H")))
B14: =IF(Jan!B14="","",Jan!B14) | AH14: =IF($B14="","",COUNTIF($C14:$AG14,"P")) | AI14: =IF($B14="","",COUNTIF($C14:$AG14,"L")) | AJ14: =IF($B14="","",COUNTIF($C14:$AG14,"A")) | AK14: =IF($B14="","",COUNTIF($C14:$AG14,"E")) | AL14: =IF($B14="","",COUNTIF($C14:$AG14,"S")) | AM14: =IF($B14="","",COUNTIF($C14:$AG14,"V")) | AN14: =IF(COUNTA($C14:$AG14)-COUNTIF($C14:$AG14,"H")=0,"",(AH14+AI14)/(COUNTA($C14:$AG14)-COUNTIF($C14:$AG14,"H")))
B15: =IF(Jan!B15="","",Jan!B15) | AH15: =IF($B15="","",COUNTIF($C15:$AG15,"P")) | AI15: =IF($B15="","",COUNTIF($C15:$AG15,"L")) | AJ15: =IF($B15="","",COUNTIF($C15:$AG15,"A")) | AK15: =IF($B15="","",COUNTIF($C15:$AG15,"E")) | AL15: =IF($B15="","",COUNTIF($C15:$AG15,"S")) | AM15: =IF($B15="","",COUNTIF($C15:$AG15,"V")) | AN15: =IF(COUNTA($C15:$AG15)-COUNTIF($C15:$AG15,"H")=0,"",(AH15+AI15)/(COUNTA($C15:$AG15)-COUNTIF($C15:$AG15,"H")))
B16: =IF(Jan!B16="","",Jan!B16) | AH16: =IF($B16="","",COUNTIF($C16:$AG16,"P")) | AI16: =IF($B16="","",COUNTIF($C16:$AG16,"L")) | AJ16: =IF($B16="","",COUNTIF($C16:$AG16,"A")) | AK16: =IF($B16="","",COUNTIF($C16:$AG16,"E")) | AL16: =IF($B16="","",COUNTIF($C16:$AG16,"S")) | AM16: =IF($B16="","",COUNTIF($C16:$AG16,"V")) | AN16: =IF(COUNTA($C16:$AG16)-COUNTIF($C16:$AG16,"H")=0,"",(AH16+AI16)/(COUNTA($C16:$AG16)-COUNTIF($C16:$AG16,"H")))
B17: =IF(Jan!B17="","",Jan!B17) | AH17: =IF($B17="","",COUNTIF($C17:$AG17,"P")) | AI17: =IF($B17="","",COUNTIF($C17:$AG17,"L")) | AJ17: =IF($B17="","",COUNTIF($C17:$AG17,"A")) | AK17: =IF($B17="","",COUNTIF($C17:$AG17,"E")) | AL17: =IF($B17="","",COUNTIF($C17:$AG17,"S")) | AM17: =IF($B17="","",COUNTIF($C17:$AG17,"V")) | AN17: =IF(COUNTA($C17:$AG17)-COUNTIF($C17:$AG17,"H")=0,"",(AH17+AI17)/(COUNTA($C17:$AG17)-COUNTIF($C17:$AG17,"H")))
B18: =IF(Jan!B18="","",Jan!B18) | AH18: =IF($B18="","",COUNTIF($C18:$AG18,"P")) | AI18: =IF($B18="","",COUNTIF($C18:$AG18,"L")) | AJ18: =IF($B18="","",COUNTIF($C18:$AG18,"A")) | AK18: =IF($B18="","",COUNTIF($C18:$AG18,"E")) | AL18: =IF($B18="","",COUNTIF($C18:$AG18,"S")) | AM18: =IF($B18="","",COUNTIF($C18:$AG18,"V")) | AN18: =IF(COUNTA($C18:$AG18)-COUNTIF($C18:$AG18,"H")=0,"",(AH18+AI18)/(COUNTA($C18:$AG18)-COUNTIF($C18:$AG18,"H")))
... B31: =IF(Jan!B31="","",Jan!B31) | AH31: =IF($B31="","",COUNTIF($C31:$AG31,"P")) | AI31: =IF($B31="","",COUNTIF($C31:$AG31,"L")) | AJ31: =IF($B31="","",COUNTIF($C31:$AG31,"A")) | AK31: =IF($B31="","",COUNTIF($C31:$AG31,"E")) | AL31: =IF($B31="","",COUNTIF($C31:$AG31,"S")) | AM31: =IF($B31="","",COUNTIF($C31:$AG31,"V")) | AN31: =IF(COUNTA($C31:$AG31)-COUNTIF($C31:$AG31,"H")=0,"",(AH31+AI31)/(COUNTA($C31:$AG31)-COUNTIF($C31:$AG31,"H")))
B32: PRESENT (P+L) | C32: =IF(COUNTA(C7:C31)=0,"",COUNTIF(C7:C31,"P")+COUNTIF(C7:C31,"L")) | D32: =IF(COUNTA(D7:D31)=0,"",COUNTIF(D7:D31,"P")+COUNTIF(D7:D31,"L")) | E32: =IF(COUNTA(E7:E31)=0,"",COUNTIF(E7:E31,"P")+COUNTIF(E7:E31,"L")) | F32: =IF(COUNTA(F7:F31)=0,"",COUNTIF(F7:F31,"P")+COUNTIF(F7:F31,"L")) | G32: =IF(COUNTA(G7:G31)=0,"",COUNTIF(G7:G31,"P")+COUNTIF(G7:G31,"L")) | H32: =IF(COUNTA(H7:H31)=0,"",COUNTIF(H7:H31,"P")+COUNTIF(H7:H31,"L")) | I32: =IF(COUNTA(I7:I31)=0,"",COUNTIF(I7:I31,"P")+COUNTIF(I7:I31,"L")) | J32: =IF(COUNTA(J7:J31)=0,"",COUNTIF(J7:J31,"P")+COUNTIF(J7:J31,"L")) | ... AG32: =IF(COUNTA(AG7:AG31)=0,"",COUNTIF(AG7:AG31,"P")+COUNTIF(AG7:AG31,"L"))
B34: KEY | C34: P | D34: Present | G34: L | H34: Late | K34: A | L34: Absent | O34: E | P34: Excused | S34: S | T34: Sick | W34: V | X34: Vacation | AA34: H | AB34: Holiday | AH34: Rate = (P + L) ÷ marked days, holidays excluded
B36: Free template from niftyshelf.com · free for personal & commercial use

Sheet May
A1: =DATE(2027,5,1)
B2: May 2027 | AH2: =Jan!AH2
B3: Monthly attendance — P present · L late · A absent · E excused · S sick · V vacation · H holiday
B5: NAME | C5: =IF(MONTH($A$1+0)=5,DAY($A$1+0),"") | D5: =IF(MONTH($A$1+1)=5,DAY($A$1+1),"") | E5: =IF(MONTH($A$1+2)=5,DAY($A$1+2),"") | F5: =IF(MONTH($A$1+3)=5,DAY($A$1+3),"") | G5: =IF(MONTH($A$1+4)=5,DAY($A$1+4),"") | H5: =IF(MONTH($A$1+5)=5,DAY($A$1+5),"") | I5: =IF(MONTH($A$1+6)=5,DAY($A$1+6),"") | J5: =IF(MONTH($A$1+7)=5,DAY($A$1+7),"") | K5: =IF(MONTH($A$1+8)=5,DAY($A$1+8),"") | L5: =IF(MONTH($A$1+9)=5,DAY($A$1+9),"") | M5: =IF(MONTH($A$1+10)=5,DAY($A$1+10),"") | N5: =IF(MONTH($A$1+11)=5,DAY($A$1+11),"") | O5: =IF(MONTH($A$1+12)=5,DAY($A$1+12),"") | P5: =IF(MONTH($A$1+13)=5,DAY($A$1+13),"") | Q5: =IF(MONTH($A$1+14)=5,DAY($A$1+14),"") | R5: =IF(MONTH($A$1+15)=5,DAY($A$1+15),"") | S5: =IF(MONTH($A$1+16)=5,DAY($A$1+16),"") | T5: =IF(MONTH($A$1+17)=5,DAY($A$1+17),"") | U5: =IF(MONTH($A$1+18)=5,DAY($A$1+18),"") | V5: =IF(MONTH($A$1+19)=5,DAY($A$1+19),"") | W5: =IF(MONTH($A$1+20)=5,DAY($A$1+20),"") | X5: =IF(MONTH($A$1+21)=5,DAY($A$1+21),"") | Y5: =IF(MONTH($A$1+22)=5,DAY($A$1+22),"") | Z5: =IF(MONTH($A$1+23)=5,DAY($A$1+23),"") | AA5: =IF(MONTH($A$1+24)=5,DAY($A$1+24),"") | AB5: =IF(MONTH($A$1+25)=5,DAY($A$1+25),"") | AC5: =IF(MONTH($A$1+26)=5,DAY($A$1+26),"") | AD5: =IF(MONTH($A$1+27)=5,DAY($A$1+27),"") | AE5: =IF(MONTH($A$1+28)=5,DAY($A$1+28),"") | AF5: =IF(MONTH($A$1+29)=5,DAY($A$1+29),"") | AG5: =IF(MONTH($A$1+30)=5,DAY($A$1+30),"") | AH5: P | AI5: L | AJ5: A | AK5: E | AL5: S | AM5: V | AN5: RATE
C6: =IF(C5="","",CHOOSE(WEEKDAY($A$1+0),"Sun","Mon","Tue","Wed","Thu","Fri","Sat")) | D6: =IF(D5="","",CHOOSE(WEEKDAY($A$1+1),"Sun","Mon","Tue","Wed","Thu","Fri","Sat")) | E6: =IF(E5="","",CHOOSE(WEEKDAY($A$1+2),"Sun","Mon","Tue","Wed","Thu","Fri","Sat")) | F6: =IF(F5="","",CHOOSE(WEEKDAY($A$1+3),"Sun","Mon","Tue","Wed","Thu","Fri","Sat")) | G6: =IF(G5="","",CHOOSE(WEEKDAY($A$1+4),"Sun","Mon","Tue","Wed","Thu","Fri","Sat")) | H6: =IF(H5="","",CHOOSE(WEEKDAY($A$1+5),"Sun","Mon","Tue","Wed","Thu","Fri","Sat")) | I6: =IF(I5="","",CHOOSE(WEEKDAY($A$1+6),"Sun","Mon","Tue","Wed","Thu","Fri","Sat")) | J6: =IF(J5="","",CHOOSE(WEEKDAY($A$1+7),"Sun","Mon","Tue","Wed","Thu","Fri","Sat")) | K6: =IF(K5="","",CHOOSE(WEEKDAY($A$1+8),"Sun","Mon","Tue","Wed","Thu","Fri","Sat")) | L6: =IF(L5="","",CHOOSE(WEEKDAY($A$1+9),"Sun","Mon","Tue","Wed","Thu","Fri","Sat")) | M6: =IF(M5="","",CHOOSE(WEEKDAY($A$1+10),"Sun","Mon","Tue","Wed","Thu","Fri","Sat")) | N6: =IF(N5="","",CHOOSE(WEEKDAY($A$1+11),"Sun","Mon","Tue","Wed","Thu","Fri","Sat")) | O6: =IF(O5="","",CHOOSE(WEEKDAY($A$1+12),"Sun","Mon","Tue","Wed","Thu","Fri","Sat")) | P6: =IF(P5="","",CHOOSE(WEEKDAY($A$1+13),"Sun","Mon","Tue","Wed","Thu","Fri","Sat")) | Q6: =IF(Q5="","",CHOOSE(WEEKDAY($A$1+14),"Sun","Mon","Tue","Wed","Thu","Fri","Sat")) | R6: =IF(R5="","",CHOOSE(WEEKDAY($A$1+15),"Sun","Mon","Tue","Wed","Thu","Fri","Sat")) | S6: =IF(S5="","",CHOOSE(WEEKDAY($A$1+16),"Sun","Mon","Tue","Wed","Thu","Fri","Sat")) | T6: =IF(T5="","",CHOOSE(WEEKDAY($A$1+17),"Sun","Mon","Tue","Wed","Thu","Fri","Sat")) | U6: =IF(U5="","",CHOOSE(WEEKDAY($A$1+18),"Sun","Mon","Tue","Wed","Thu","Fri","Sat")) | V6: =IF(V5="","",CHOOSE(WEEKDAY($A$1+19),"Sun","Mon","Tue","Wed","Thu","Fri","Sat")) | W6: =IF(W5="","",CHOOSE(WEEKDAY($A$1+20),"Sun","Mon","Tue","Wed","Thu","Fri","Sat")) | X6: =IF(X5="","",CHOOSE(WEEKDAY($A$1+21),"Sun","Mon","Tue","Wed","Thu","Fri","Sat")) | Y6: =IF(Y5="","",CHOOSE(WEEKDAY($A$1+22),"Sun","Mon","Tue","Wed","Thu","Fri","Sat")) | Z6: =IF(Z5="","",CHOOSE(WEEKDAY($A$1+23),"Sun","Mon","Tue","Wed","Thu","Fri","Sat")) | AA6: =IF(AA5="","",CHOOSE(WEEKDAY($A$1+24),"Sun","Mon","Tue","Wed","Thu","Fri","Sat")) | AB6: =IF(AB5="","",CHOOSE(WEEKDAY($A$1+25),"Sun","Mon","Tue","Wed","Thu","Fri","Sat")) | AC6: =IF(AC5="","",CHOOSE(WEEKDAY($A$1+26),"Sun","Mon","Tue","Wed","Thu","Fri","Sat")) | AD6: =IF(AD5="","",CHOOSE(WEEKDAY($A$1+27),"Sun","Mon","Tue","Wed","Thu","Fri","Sat")) | AE6: =IF(AE5="","",CHOOSE(WEEKDAY($A$1+28),"Sun","Mon","Tue","Wed","Thu","Fri","Sat")) | AF6: =IF(AF5="","",CHOOSE(WEEKDAY($A$1+29),"Sun","Mon","Tue","Wed","Thu","Fri","Sat")) | AG6: =IF(AG5="","",CHOOSE(WEEKDAY($A$1+30),"Sun","Mon","Tue","Wed","Thu","Fri","Sat"))
B7: =IF(Jan!B7="","",Jan!B7) | AH7: =IF($B7="","",COUNTIF($C7:$AG7,"P")) | AI7: =IF($B7="","",COUNTIF($C7:$AG7,"L")) | AJ7: =IF($B7="","",COUNTIF($C7:$AG7,"A")) | AK7: =IF($B7="","",COUNTIF($C7:$AG7,"E")) | AL7: =IF($B7="","",COUNTIF($C7:$AG7,"S")) | AM7: =IF($B7="","",COUNTIF($C7:$AG7,"V")) | AN7: =IF(COUNTA($C7:$AG7)-COUNTIF($C7:$AG7,"H")=0,"",(AH7+AI7)/(COUNTA($C7:$AG7)-COUNTIF($C7:$AG7,"H")))
B8: =IF(Jan!B8="","",Jan!B8) | AH8: =IF($B8="","",COUNTIF($C8:$AG8,"P")) | AI8: =IF($B8="","",COUNTIF($C8:$AG8,"L")) | AJ8: =IF($B8="","",COUNTIF($C8:$AG8,"A")) | AK8: =IF($B8="","",COUNTIF($C8:$AG8,"E")) | AL8: =IF($B8="","",COUNTIF($C8:$AG8,"S")) | AM8: =IF($B8="","",COUNTIF($C8:$AG8,"V")) | AN8: =IF(COUNTA($C8:$AG8)-COUNTIF($C8:$AG8,"H")=0,"",(AH8+AI8)/(COUNTA($C8:$AG8)-COUNTIF($C8:$AG8,"H")))
B9: =IF(Jan!B9="","",Jan!B9) | AH9: =IF($B9="","",COUNTIF($C9:$AG9,"P")) | AI9: =IF($B9="","",COUNTIF($C9:$AG9,"L")) | AJ9: =IF($B9="","",COUNTIF($C9:$AG9,"A")) | AK9: =IF($B9="","",COUNTIF($C9:$AG9,"E")) | AL9: =IF($B9="","",COUNTIF($C9:$AG9,"S")) | AM9: =IF($B9="","",COUNTIF($C9:$AG9,"V")) | AN9: =IF(COUNTA($C9:$AG9)-COUNTIF($C9:$AG9,"H")=0,"",(AH9+AI9)/(COUNTA($C9:$AG9)-COUNTIF($C9:$AG9,"H")))
B10: =IF(Jan!B10="","",Jan!B10) | AH10: =IF($B10="","",COUNTIF($C10:$AG10,"P")) | AI10: =IF($B10="","",COUNTIF($C10:$AG10,"L")) | AJ10: =IF($B10="","",COUNTIF($C10:$AG10,"A")) | AK10: =IF($B10="","",COUNTIF($C10:$AG10,"E")) | AL10: =IF($B10="","",COUNTIF($C10:$AG10,"S")) | AM10: =IF($B10="","",COUNTIF($C10:$AG10,"V")) | AN10: =IF(COUNTA($C10:$AG10)-COUNTIF($C10:$AG10,"H")=0,"",(AH10+AI10)/(COUNTA($C10:$AG10)-COUNTIF($C10:$AG10,"H")))
B11: =IF(Jan!B11="","",Jan!B11) | AH11: =IF($B11="","",COUNTIF($C11:$AG11,"P")) | AI11: =IF($B11="","",COUNTIF($C11:$AG11,"L")) | AJ11: =IF($B11="","",COUNTIF($C11:$AG11,"A")) | AK11: =IF($B11="","",COUNTIF($C11:$AG11,"E")) | AL11: =IF($B11="","",COUNTIF($C11:$AG11,"S")) | AM11: =IF($B11="","",COUNTIF($C11:$AG11,"V")) | AN11: =IF(COUNTA($C11:$AG11)-COUNTIF($C11:$AG11,"H")=0,"",(AH11+AI11)/(COUNTA($C11:$AG11)-COUNTIF($C11:$AG11,"H")))
B12: =IF(Jan!B12="","",Jan!B12) | AH12: =IF($B12="","",COUNTIF($C12:$AG12,"P")) | AI12: =IF($B12="","",COUNTIF($C12:$AG12,"L")) | AJ12: =IF($B12="","",COUNTIF($C12:$AG12,"A")) | AK12: =IF($B12="","",COUNTIF($C12:$AG12,"E")) | AL12: =IF($B12="","",COUNTIF($C12:$AG12,"S")) | AM12: =IF($B12="","",COUNTIF($C12:$AG12,"V")) | AN12: =IF(COUNTA($C12:$AG12)-COUNTIF($C12:$AG12,"H")=0,"",(AH12+AI12)/(COUNTA($C12:$AG12)-COUNTIF($C12:$AG12,"H")))
B13: =IF(Jan!B13="","",Jan!B13) | AH13: =IF($B13="","",COUNTIF($C13:$AG13,"P")) | AI13: =IF($B13="","",COUNTIF($C13:$AG13,"L")) | AJ13: =IF($B13="","",COUNTIF($C13:$AG13,"A")) | AK13: =IF($B13="","",COUNTIF($C13:$AG13,"E")) | AL13: =IF($B13="","",COUNTIF($C13:$AG13,"S")) | AM13: =IF($B13="","",COUNTIF($C13:$AG13,"V")) | AN13: =IF(COUNTA($C13:$AG13)-COUNTIF($C13:$AG13,"H")=0,"",(AH13+AI13)/(COUNTA($C13:$AG13)-COUNTIF($C13:$AG13,"H")))
B14: =IF(Jan!B14="","",Jan!B14) | AH14: =IF($B14="","",COUNTIF($C14:$AG14,"P")) | AI14: =IF($B14="","",COUNTIF($C14:$AG14,"L")) | AJ14: =IF($B14="","",COUNTIF($C14:$AG14,"A")) | AK14: =IF($B14="","",COUNTIF($C14:$AG14,"E")) | AL14: =IF($B14="","",COUNTIF($C14:$AG14,"S")) | AM14: =IF($B14="","",COUNTIF($C14:$AG14,"V")) | AN14: =IF(COUNTA($C14:$AG14)-COUNTIF($C14:$AG14,"H")=0,"",(AH14+AI14)/(COUNTA($C14:$AG14)-COUNTIF($C14:$AG14,"H")))
B15: =IF(Jan!B15="","",Jan!B15) | AH15: =IF($B15="","",COUNTIF($C15:$AG15,"P")) | AI15: =IF($B15="","",COUNTIF($C15:$AG15,"L")) | AJ15: =IF($B15="","",COUNTIF($C15:$AG15,"A")) | AK15: =IF($B15="","",COUNTIF($C15:$AG15,"E")) | AL15: =IF($B15="","",COUNTIF($C15:$AG15,"S")) | AM15: =IF($B15="","",COUNTIF($C15:$AG15,"V")) | AN15: =IF(COUNTA($C15:$AG15)-COUNTIF($C15:$AG15,"H")=0,"",(AH15+AI15)/(COUNTA($C15:$AG15)-COUNTIF($C15:$AG15,"H")))
B16: =IF(Jan!B16="","",Jan!B16) | AH16: =IF($B16="","",COUNTIF($C16:$AG16,"P")) | AI16: =IF($B16="","",COUNTIF($C16:$AG16,"L")) | AJ16: =IF($B16="","",COUNTIF($C16:$AG16,"A")) | AK16: =IF($B16="","",COUNTIF($C16:$AG16,"E")) | AL16: =IF($B16="","",COUNTIF($C16:$AG16,"S")) | AM16: =IF($B16="","",COUNTIF($C16:$AG16,"V")) | AN16: =IF(COUNTA($C16:$AG16)-COUNTIF($C16:$AG16,"H")=0,"",(AH16+AI16)/(COUNTA($C16:$AG16)-COUNTIF($C16:$AG16,"H")))
B17: =IF(Jan!B17="","",Jan!B17) | AH17: =IF($B17="","",COUNTIF($C17:$AG17,"P")) | AI17: =IF($B17="","",COUNTIF($C17:$AG17,"L")) | AJ17: =IF($B17="","",COUNTIF($C17:$AG17,"A")) | AK17: =IF($B17="","",COUNTIF($C17:$AG17,"E")) | AL17: =IF($B17="","",COUNTIF($C17:$AG17,"S")) | AM17: =IF($B17="","",COUNTIF($C17:$AG17,"V")) | AN17: =IF(COUNTA($C17:$AG17)-COUNTIF($C17:$AG17,"H")=0,"",(AH17+AI17)/(COUNTA($C17:$AG17)-COUNTIF($C17:$AG17,"H")))
B18: =IF(Jan!B18="","",Jan!B18) | AH18: =IF($B18="","",COUNTIF($C18:$AG18,"P")) | AI18: =IF($B18="","",COUNTIF($C18:$AG18,"L")) | AJ18: =IF($B18="","",COUNTIF($C18:$AG18,"A")) | AK18: =IF($B18="","",COUNTIF($C18:$AG18,"E")) | AL18: =IF($B18="","",COUNTIF($C18:$AG18,"S")) | AM18: =IF($B18="","",COUNTIF($C18:$AG18,"V")) | AN18: =IF(COUNTA($C18:$AG18)-COUNTIF($C18:$AG18,"H")=0,"",(AH18+AI18)/(COUNTA($C18:$AG18)-COUNTIF($C18:$AG18,"H")))
... B31: =IF(Jan!B31="","",Jan!B31) | AH31: =IF($B31="","",COUNTIF($C31:$AG31,"P")) | AI31: =IF($B31="","",COUNTIF($C31:$AG31,"L")) | AJ31: =IF($B31="","",COUNTIF($C31:$AG31,"A")) | AK31: =IF($B31="","",COUNTIF($C31:$AG31,"E")) | AL31: =IF($B31="","",COUNTIF($C31:$AG31,"S")) | AM31: =IF($B31="","",COUNTIF($C31:$AG31,"V")) | AN31: =IF(COUNTA($C31:$AG31)-COUNTIF($C31:$AG31,"H")=0,"",(AH31+AI31)/(COUNTA($C31:$AG31)-COUNTIF($C31:$AG31,"H")))
B32: PRESENT (P+L) | C32: =IF(COUNTA(C7:C31)=0,"",COUNTIF(C7:C31,"P")+COUNTIF(C7:C31,"L")) | D32: =IF(COUNTA(D7:D31)=0,"",COUNTIF(D7:D31,"P")+COUNTIF(D7:D31,"L")) | E32: =IF(COUNTA(E7:E31)=0,"",COUNTIF(E7:E31,"P")+COUNTIF(E7:E31,"L")) | F32: =IF(COUNTA(F7:F31)=0,"",COUNTIF(F7:F31,"P")+COUNTIF(F7:F31,"L")) | G32: =IF(COUNTA(G7:G31)=0,"",COUNTIF(G7:G31,"P")+COUNTIF(G7:G31,"L")) | H32: =IF(COUNTA(H7:H31)=0,"",COUNTIF(H7:H31,"P")+COUNTIF(H7:H31,"L")) | I32: =IF(COUNTA(I7:I31)=0,"",COUNTIF(I7:I31,"P")+COUNTIF(I7:I31,"L")) | J32: =IF(COUNTA(J7:J31)=0,"",COUNTIF(J7:J31,"P")+COUNTIF(J7:J31,"L")) | ... AG32: =IF(COUNTA(AG7:AG31)=0,"",COUNTIF(AG7:AG31,"P")+COUNTIF(AG7:AG31,"L"))
B34: KEY | C34: P | D34: Present | G34: L | H34: Late | K34: A | L34: Absent | O34: E | P34: Excused | S34: S | T34: Sick | W34: V | X34: Vacation | AA34: H | AB34: Holiday | AH34: Rate = (P + L) ÷ marked days, holidays excluded
B36: Free template from niftyshelf.com · free for personal & commercial use

Sheet Jun
A1: =DATE(2027,6,1)
B2: June 2027 | AH2: =Jan!AH2
B3: Monthly attendance — P present · L late · A absent · E excused · S sick · V vacation · H holiday
B5: NAME | C5: =IF(MONTH($A$1+0)=6,DAY($A$1+0),"") | D5: =IF(MONTH($A$1+1)=6,DAY($A$1+1),"") | E5: =IF(MONTH($A$1+2)=6,DAY($A$1+2),"") | F5: =IF(MONTH($A$1+3)=6,DAY($A$1+3),"") | G5: =IF(MONTH($A$1+4)=6,DAY($A$1+4),"") | H5: =IF(MONTH($A$1+5)=6,DAY($A$1+5),"") | I5: =IF(MONTH($A$1+6)=6,DAY($A$1+6),"") | J5: =IF(MONTH($A$1+7)=6,DAY($A$1+7),"") | K5: =IF(MONTH($A$1+8)=6,DAY($A$1+8),"") | L5: =IF(MONTH($A$1+9)=6,DAY($A$1+9),"") | M5: =IF(MONTH($A$1+10)=6,DAY($A$1+10),"") | N5: =IF(MONTH($A$1+11)=6,DAY($A$1+11),"") | O5: =IF(MONTH($A$1+12)=6,DAY($A$1+12),"") | P5: =IF(MONTH($A$1+13)=6,DAY($A$1+13),"") | Q5: =IF(MONTH($A$1+14)=6,DAY($A$1+14),"") | R5: =IF(MONTH($A$1+15)=6,DAY($A$1+15),"") | S5: =IF(MONTH($A$1+16)=6,DAY($A$1+16),"") | T5: =IF(MONTH($A$1+17)=6,DAY($A$1+17),"") | U5: =IF(MONTH($A$1+18)=6,DAY($A$1+18),"") | V5: =IF(MONTH($A$1+19)=6,DAY($A$1+19),"") | W5: =IF(MONTH($A$1+20)=6,DAY($A$1+20),"") | X5: =IF(MONTH($A$1+21)=6,DAY($A$1+21),"") | Y5: =IF(MONTH($A$1+22)=6,DAY($A$1+22),"") | Z5: =IF(MONTH($A$1+23)=6,DAY($A$1+23),"") | AA5: =IF(MONTH($A$1+24)=6,DAY($A$1+24),"") | AB5: =IF(MONTH($A$1+25)=6,DAY($A$1+25),"") | AC5: =IF(MONTH($A$1+26)=6,DAY($A$1+26),"") | AD5: =IF(MONTH($A$1+27)=6,DAY($A$1+27),"") | AE5: =IF(MONTH($A$1+28)=6,DAY($A$1+28),"") | AF5: =IF(MONTH($A$1+29)=6,DAY($A$1+29),"") | AG5: =IF(MONTH($A$1+30)=6,DAY($A$1+30),"") | AH5: P | AI5: L | AJ5: A | AK5: E | AL5: S | AM5: V | AN5: RATE
C6: =IF(C5="","",CHOOSE(WEEKDAY($A$1+0),"Sun","Mon","Tue","Wed","Thu","Fri","Sat")) | D6: =IF(D5="","",CHOOSE(WEEKDAY($A$1+1),"Sun","Mon","Tue","Wed","Thu","Fri","Sat")) | E6: =IF(E5="","",CHOOSE(WEEKDAY($A$1+2),"Sun","Mon","Tue","Wed","Thu","Fri","Sat")) | F6: =IF(F5="","",CHOOSE(WEEKDAY($A$1+3),"Sun","Mon","Tue","Wed","Thu","Fri","Sat")) | G6: =IF(G5="","",CHOOSE(WEEKDAY($A$1+4),"Sun","Mon","Tue","Wed","Thu","Fri","Sat")) | H6: =IF(H5="","",CHOOSE(WEEKDAY($A$1+5),"Sun","Mon","Tue","Wed","Thu","Fri","Sat")) | I6: =IF(I5="","",CHOOSE(WEEKDAY($A$1+6),"Sun","Mon","Tue","Wed","Thu","Fri","Sat")) | J6: =IF(J5="","",CHOOSE(WEEKDAY($A$1+7),"Sun","Mon","Tue","Wed","Thu","Fri","Sat")) | K6: =IF(K5="","",CHOOSE(WEEKDAY($A$1+8),"Sun","Mon","Tue","Wed","Thu","Fri","Sat")) | L6: =IF(L5="","",CHOOSE(WEEKDAY($A$1+9),"Sun","Mon","Tue","Wed","Thu","Fri","Sat")) | M6: =IF(M5="","",CHOOSE(WEEKDAY($A$1+10),"Sun","Mon","Tue","Wed","Thu","Fri","Sat")) | N6: =IF(N5="","",CHOOSE(WEEKDAY($A$1+11),"Sun","Mon","Tue","Wed","Thu","Fri","Sat")) | O6: =IF(O5="","",CHOOSE(WEEKDAY($A$1+12),"Sun","Mon","Tue","Wed","Thu","Fri","Sat")) | P6: =IF(P5="","",CHOOSE(WEEKDAY($A$1+13),"Sun","Mon","Tue","Wed","Thu","Fri","Sat")) | Q6: =IF(Q5="","",CHOOSE(WEEKDAY($A$1+14),"Sun","Mon","Tue","Wed","Thu","Fri","Sat")) | R6: =IF(R5="","",CHOOSE(WEEKDAY($A$1+15),"Sun","Mon","Tue","Wed","Thu","Fri","Sat")) | S6: =IF(S5="","",CHOOSE(WEEKDAY($A$1+16),"Sun","Mon","Tue","Wed","Thu","Fri","Sat")) | T6: =IF(T5="","",CHOOSE(WEEKDAY($A$1+17),"Sun","Mon","Tue","Wed","Thu","Fri","Sat")) | U6: =IF(U5="","",CHOOSE(WEEKDAY($A$1+18),"Sun","Mon","Tue","Wed","Thu","Fri","Sat")) | V6: =IF(V5="","",CHOOSE(WEEKDAY($A$1+19),"Sun","Mon","Tue","Wed","Thu","Fri","Sat")) | W6: =IF(W5="","",CHOOSE(WEEKDAY($A$1+20),"Sun","Mon","Tue","Wed","Thu","Fri","Sat")) | X6: =IF(X5="","",CHOOSE(WEEKDAY($A$1+21),"Sun","Mon","Tue","Wed","Thu","Fri","Sat")) | Y6: =IF(Y5="","",CHOOSE(WEEKDAY($A$1+22),"Sun","Mon","Tue","Wed","Thu","Fri","Sat")) | Z6: =IF(Z5="","",CHOOSE(WEEKDAY($A$1+23),"Sun","Mon","Tue","Wed","Thu","Fri","Sat")) | AA6: =IF(AA5="","",CHOOSE(WEEKDAY($A$1+24),"Sun","Mon","Tue","Wed","Thu","Fri","Sat")) | AB6: =IF(AB5="","",CHOOSE(WEEKDAY($A$1+25),"Sun","Mon","Tue","Wed","Thu","Fri","Sat")) | AC6: =IF(AC5="","",CHOOSE(WEEKDAY($A$1+26),"Sun","Mon","Tue","Wed","Thu","Fri","Sat")) | AD6: =IF(AD5="","",CHOOSE(WEEKDAY($A$1+27),"Sun","Mon","Tue","Wed","Thu","Fri","Sat")) | AE6: =IF(AE5="","",CHOOSE(WEEKDAY($A$1+28),"Sun","Mon","Tue","Wed","Thu","Fri","Sat")) | AF6: =IF(AF5="","",CHOOSE(WEEKDAY($A$1+29),"Sun","Mon","Tue","Wed","Thu","Fri","Sat")) | AG6: =IF(AG5="","",CHOOSE(WEEKDAY($A$1+30),"Sun","Mon","Tue","Wed","Thu","Fri","Sat"))
B7: =IF(Jan!B7="","",Jan!B7) | AH7: =IF($B7="","",COUNTIF($C7:$AG7,"P")) | AI7: =IF($B7="","",COUNTIF($C7:$AG7,"L")) | AJ7: =IF($B7="","",COUNTIF($C7:$AG7,"A")) | AK7: =IF($B7="","",COUNTIF($C7:$AG7,"E")) | AL7: =IF($B7="","",COUNTIF($C7:$AG7,"S")) | AM7: =IF($B7="","",COUNTIF($C7:$AG7,"V")) | AN7: =IF(COUNTA($C7:$AG7)-COUNTIF($C7:$AG7,"H")=0,"",(AH7+AI7)/(COUNTA($C7:$AG7)-COUNTIF($C7:$AG7,"H")))
B8: =IF(Jan!B8="","",Jan!B8) | AH8: =IF($B8="","",COUNTIF($C8:$AG8,"P")) | AI8: =IF($B8="","",COUNTIF($C8:$AG8,"L")) | AJ8: =IF($B8="","",COUNTIF($C8:$AG8,"A")) | AK8: =IF($B8="","",COUNTIF($C8:$AG8,"E")) | AL8: =IF($B8="","",COUNTIF($C8:$AG8,"S")) | AM8: =IF($B8="","",COUNTIF($C8:$AG8,"V")) | AN8: =IF(COUNTA($C8:$AG8)-COUNTIF($C8:$AG8,"H")=0,"",(AH8+AI8)/(COUNTA($C8:$AG8)-COUNTIF($C8:$AG8,"H")))
B9: =IF(Jan!B9="","",Jan!B9) | AH9: =IF($B9="","",COUNTIF($C9:$AG9,"P")) | AI9: =IF($B9="","",COUNTIF($C9:$AG9,"L")) | AJ9: =IF($B9="","",COUNTIF($C9:$AG9,"A")) | AK9: =IF($B9="","",COUNTIF($C9:$AG9,"E")) | AL9: =IF($B9="","",COUNTIF($C9:$AG9,"S")) | AM9: =IF($B9="","",COUNTIF($C9:$AG9,"V")) | AN9: =IF(COUNTA($C9:$AG9)-COUNTIF($C9:$AG9,"H")=0,"",(AH9+AI9)/(COUNTA($C9:$AG9)-COUNTIF($C9:$AG9,"H")))
B10: =IF(Jan!B10="","",Jan!B10) | AH10: =IF($B10="","",COUNTIF($C10:$AG10,"P")) | AI10: =IF($B10="","",COUNTIF($C10:$AG10,"L")) | AJ10: =IF($B10="","",COUNTIF($C10:$AG10,"A")) | AK10: =IF($B10="","",COUNTIF($C10:$AG10,"E")) | AL10: =IF($B10="","",COUNTIF($C10:$AG10,"S")) | AM10: =IF($B10="","",COUNTIF($C10:$AG10,"V")) | AN10: =IF(COUNTA($C10:$AG10)-COUNTIF($C10:$AG10,"H")=0,"",(AH10+AI10)/(COUNTA($C10:$AG10)-COUNTIF($C10:$AG10,"H")))
B11: =IF(Jan!B11="","",Jan!B11) | AH11: =IF($B11="","",COUNTIF($C11:$AG11,"P")) | AI11: =IF($B11="","",COUNTIF($C11:$AG11,"L")) | AJ11: =IF($B11="","",COUNTIF($C11:$AG11,"A")) | AK11: =IF($B11="","",COUNTIF($C11:$AG11,"E")) | AL11: =IF($B11="","",COUNTIF($C11:$AG11,"S")) | AM11: =IF($B11="","",COUNTIF($C11:$AG11,"V")) | AN11: =IF(COUNTA($C11:$AG11)-COUNTIF($C11:$AG11,"H")=0,"",(AH11+AI11)/(COUNTA($C11:$AG11)-COUNTIF($C11:$AG11,"H")))
B12: =IF(Jan!B12="","",Jan!B12) | AH12: =IF($B12="","",COUNTIF($C12:$AG12,"P")) | AI12: =IF($B12="","",COUNTIF($C12:$AG12,"L")) | AJ12: =IF($B12="","",COUNTIF($C12:$AG12,"A")) | AK12: =IF($B12="","",COUNTIF($C12:$AG12,"E")) | AL12: =IF($B12="","",COUNTIF($C12:$AG12,"S")) | AM12: =IF($B12="","",COUNTIF($C12:$AG12,"V")) | AN12: =IF(COUNTA($C12:$AG12)-COUNTIF($C12:$AG12,"H")=0,"",(AH12+AI12)/(COUNTA($C12:$AG12)-COUNTIF($C12:$AG12,"H")))
B13: =IF(Jan!B13="","",Jan!B13) | AH13: =IF($B13="","",COUNTIF($C13:$AG13,"P")) | AI13: =IF($B13="","",COUNTIF($C13:$AG13,"L")) | AJ13: =IF($B13="","",COUNTIF($C13:$AG13,"A")) | AK13: =IF($B13="","",COUNTIF($C13:$AG13,"E")) | AL13: =IF($B13="","",COUNTIF($C13:$AG13,"S")) | AM13: =IF($B13="","",COUNTIF($C13:$AG13,"V")) | AN13: =IF(COUNTA($C13:$AG13)-COUNTIF($C13:$AG13,"H")=0,"",(AH13+AI13)/(COUNTA($C13:$AG13)-COUNTIF($C13:$AG13,"H")))
B14: =IF(Jan!B14="","",Jan!B14) | AH14: =IF($B14="","",COUNTIF($C14:$AG14,"P")) | AI14: =IF($B14="","",COUNTIF($C14:$AG14,"L")) | AJ14: =IF($B14="","",COUNTIF($C14:$AG14,"A")) | AK14: =IF($B14="","",COUNTIF($C14:$AG14,"E")) | AL14: =IF($B14="","",COUNTIF($C14:$AG14,"S")) | AM14: =IF($B14="","",COUNTIF($C14:$AG14,"V")) | AN14: =IF(COUNTA($C14:$AG14)-COUNTIF($C14:$AG14,"H")=0,"",(AH14+AI14)/(COUNTA($C14:$AG14)-COUNTIF($C14:$AG14,"H")))
B15: =IF(Jan!B15="","",Jan!B15) | AH15: =IF($B15="","",COUNTIF($C15:$AG15,"P")) | AI15: =IF($B15="","",COUNTIF($C15:$AG15,"L")) | AJ15: =IF($B15="","",COUNTIF($C15:$AG15,"A")) | AK15: =IF($B15="","",COUNTIF($C15:$AG15,"E")) | AL15: =IF($B15="","",COUNTIF($C15:$AG15,"S")) | AM15: =IF($B15="","",COUNTIF($C15:$AG15,"V")) | AN15: =IF(COUNTA($C15:$AG15)-COUNTIF($C15:$AG15,"H")=0,"",(AH15+AI15)/(COUNTA($C15:$AG15)-COUNTIF($C15:$AG15,"H")))
B16: =IF(Jan!B16="","",Jan!B16) | AH16: =IF($B16="","",COUNTIF($C16:$AG16,"P")) | AI16: =IF($B16="","",COUNTIF($C16:$AG16,"L")) | AJ16: =IF($B16="","",COUNTIF($C16:$AG16,"A")) | AK16: =IF($B16="","",COUNTIF($C16:$AG16,"E")) | AL16: =IF($B16="","",COUNTIF($C16:$AG16,"S")) | AM16: =IF($B16="","",COUNTIF($C16:$AG16,"V")) | AN16: =IF(COUNTA($C16:$AG16)-COUNTIF($C16:$AG16,"H")=0,"",(AH16+AI16)/(COUNTA($C16:$AG16)-COUNTIF($C16:$AG16,"H")))
B17: =IF(Jan!B17="","",Jan!B17) | AH17: =IF($B17="","",COUNTIF($C17:$AG17,"P")) | AI17: =IF($B17="","",COUNTIF($C17:$AG17,"L")) | AJ17: =IF($B17="","",COUNTIF($C17:$AG17,"A")) | AK17: =IF($B17="","",COUNTIF($C17:$AG17,"E")) | AL17: =IF($B17="","",COUNTIF($C17:$AG17,"S")) | AM17: =IF($B17="","",COUNTIF($C17:$AG17,"V")) | AN17: =IF(COUNTA($C17:$AG17)-COUNTIF($C17:$AG17,"H")=0,"",(AH17+AI17)/(COUNTA($C17:$AG17)-COUNTIF($C17:$AG17,"H")))
B18: =IF(Jan!B18="","",Jan!B18) | AH18: =IF($B18="","",COUNTIF($C18:$AG18,"P")) | AI18: =IF($B18="","",COUNTIF($C18:$AG18,"L")) | AJ18: =IF($B18="","",COUNTIF($C18:$AG18,"A")) | AK18: =IF($B18="","",COUNTIF($C18:$AG18,"E")) | AL18: =IF($B18="","",COUNTIF($C18:$AG18,"S")) | AM18: =IF($B18="","",COUNTIF($C18:$AG18,"V")) | AN18: =IF(COUNTA($C18:$AG18)-COUNTIF($C18:$AG18,"H")=0,"",(AH18+AI18)/(COUNTA($C18:$AG18)-COUNTIF($C18:$AG18,"H")))
... B31: =IF(Jan!B31="","",Jan!B31) | AH31: =IF($B31="","",COUNTIF($C31:$AG31,"P")) | AI31: =IF($B31="","",COUNTIF($C31:$AG31,"L")) | AJ31: =IF($B31="","",COUNTIF($C31:$AG31,"A")) | AK31: =IF($B31="","",COUNTIF($C31:$AG31,"E")) | AL31: =IF($B31="","",COUNTIF($C31:$AG31,"S")) | AM31: =IF($B31="","",COUNTIF($C31:$AG31,"V")) | AN31: =IF(COUNTA($C31:$AG31)-COUNTIF($C31:$AG31,"H")=0,"",(AH31+AI31)/(COUNTA($C31:$AG31)-COUNTIF($C31:$AG31,"H")))
B32: PRESENT (P+L) | C32: =IF(COUNTA(C7:C31)=0,"",COUNTIF(C7:C31,"P")+COUNTIF(C7:C31,"L")) | D32: =IF(COUNTA(D7:D31)=0,"",COUNTIF(D7:D31,"P")+COUNTIF(D7:D31,"L")) | E32: =IF(COUNTA(E7:E31)=0,"",COUNTIF(E7:E31,"P")+COUNTIF(E7:E31,"L")) | F32: =IF(COUNTA(F7:F31)=0,"",COUNTIF(F7:F31,"P")+COUNTIF(F7:F31,"L")) | G32: =IF(COUNTA(G7:G31)=0,"",COUNTIF(G7:G31,"P")+COUNTIF(G7:G31,"L")) | H32: =IF(COUNTA(H7:H31)=0,"",COUNTIF(H7:H31,"P")+COUNTIF(H7:H31,"L")) | I32: =IF(COUNTA(I7:I31)=0,"",COUNTIF(I7:I31,"P")+COUNTIF(I7:I31,"L")) | J32: =IF(COUNTA(J7:J31)=0,"",COUNTIF(J7:J31,"P")+COUNTIF(J7:J31,"L")) | ... AG32: =IF(COUNTA(AG7:AG31)=0,"",COUNTIF(AG7:AG31,"P")+COUNTIF(AG7:AG31,"L"))
B34: KEY | C34: P | D34: Present | G34: L | H34: Late | K34: A | L34: Absent | O34: E | P34: Excused | S34: S | T34: Sick | W34: V | X34: Vacation | AA34: H | AB34: Holiday | AH34: Rate = (P + L) ÷ marked days, holidays excluded
B36: Free template from niftyshelf.com · free for personal & commercial use

Sheet Jul
A1: =DATE(2027,7,1)
B2: July 2027 | AH2: =Jan!AH2
B3: Monthly attendance — P present · L late · A absent · E excused · S sick · V vacation · H holiday
B5: NAME | C5: =IF(MONTH($A$1+0)=7,DAY($A$1+0),"") | D5: =IF(MONTH($A$1+1)=7,DAY($A$1+1),"") | E5: =IF(MONTH($A$1+2)=7,DAY($A$1+2),"") | F5: =IF(MONTH($A$1+3)=7,DAY($A$1+3),"") | G5: =IF(MONTH($A$1+4)=7,DAY($A$1+4),"") | H5: =IF(MONTH($A$1+5)=7,DAY($A$1+5),"") | I5: =IF(MONTH($A$1+6)=7,DAY($A$1+6),"") | J5: =IF(MONTH($A$1+7)=7,DAY($A$1+7),"") | K5: =IF(MONTH($A$1+8)=7,DAY($A$1+8),"") | L5: =IF(MONTH($A$1+9)=7,DAY($A$1+9),"") | M5: =IF(MONTH($A$1+10)=7,DAY($A$1+10),"") | N5: =IF(MONTH($A$1+11)=7,DAY($A$1+11),"") | O5: =IF(MONTH($A$1+12)=7,DAY($A$1+12),"") | P5: =IF(MONTH($A$1+13)=7,DAY($A$1+13),"") | Q5: =IF(MONTH($A$1+14)=7,DAY($A$1+14),"") | R5: =IF(MONTH($A$1+15)=7,DAY($A$1+15),"") | S5: =IF(MONTH($A$1+16)=7,DAY($A$1+16),"") | T5: =IF(MONTH($A$1+17)=7,DAY($A$1+17),"") | U5: =IF(MONTH($A$1+18)=7,DAY($A$1+18),"") | V5: =IF(MONTH($A$1+19)=7,DAY($A$1+19),"") | W5: =IF(MONTH($A$1+20)=7,DAY($A$1+20),"") | X5: =IF(MONTH($A$1+21)=7,DAY($A$1+21),"") | Y5: =IF(MONTH($A$1+22)=7,DAY($A$1+22),"") | Z5: =IF(MONTH($A$1+23)=7,DAY($A$1+23),"") | AA5: =IF(MONTH($A$1+24)=7,DAY($A$1+24),"") | AB5: =IF(MONTH($A$1+25)=7,DAY($A$1+25),"") | AC5: =IF(MONTH($A$1+26)=7,DAY($A$1+26),"") | AD5: =IF(MONTH($A$1+27)=7,DAY($A$1+27),"") | AE5: =IF(MONTH($A$1+28)=7,DAY($A$1+28),"") | AF5: =IF(MONTH($A$1+29)=7,DAY($A$1+29),"") | AG5: =IF(MONTH($A$1+30)=7,DAY($A$1+30),"") | AH5: P | AI5: L | AJ5: A | AK5: E | AL5: S | AM5: V | AN5: RATE
C6: =IF(C5="","",CHOOSE(WEEKDAY($A$1+0),"Sun","Mon","Tue","Wed","Thu","Fri","Sat")) | D6: =IF(D5="","",CHOOSE(WEEKDAY($A$1+1),"Sun","Mon","Tue","Wed","Thu","Fri","Sat")) | E6: =IF(E5="","",CHOOSE(WEEKDAY($A$1+2),"Sun","Mon","Tue","Wed","Thu","Fri","Sat")) | F6: =IF(F5="","",CHOOSE(WEEKDAY($A$1+3),"Sun","Mon","Tue","Wed","Thu","Fri","Sat")) | G6: =IF(G5="","",CHOOSE(WEEKDAY($A$1+4),"Sun","Mon","Tue","Wed","Thu","Fri","Sat")) | H6: =IF(H5="","",CHOOSE(WEEKDAY($A$1+5),"Sun","Mon","Tue","Wed","Thu","Fri","Sat")) | I6: =IF(I5="","",CHOOSE(WEEKDAY($A$1+6),"Sun","Mon","Tue","Wed","Thu","Fri","Sat")) | J6: =IF(J5="","",CHOOSE(WEEKDAY($A$1+7),"Sun","Mon","Tue","Wed","Thu","Fri","Sat")) | K6: =IF(K5="","",CHOOSE(WEEKDAY($A$1+8),"Sun","Mon","Tue","Wed","Thu","Fri","Sat")) | L6: =IF(L5="","",CHOOSE(WEEKDAY($A$1+9),"Sun","Mon","Tue","Wed","Thu","Fri","Sat")) | M6: =IF(M5="","",CHOOSE(WEEKDAY($A$1+10),"Sun","Mon","Tue","Wed","Thu","Fri","Sat")) | N6: =IF(N5="","",CHOOSE(WEEKDAY($A$1+11),"Sun","Mon","Tue","Wed","Thu","Fri","Sat")) | O6: =IF(O5="","",CHOOSE(WEEKDAY($A$1+12),"Sun","Mon","Tue","Wed","Thu","Fri","Sat")) | P6: =IF(P5="","",CHOOSE(WEEKDAY($A$1+13),"Sun","Mon","Tue","Wed","Thu","Fri","Sat")) | Q6: =IF(Q5="","",CHOOSE(WEEKDAY($A$1+14),"Sun","Mon","Tue","Wed","Thu","Fri","Sat")) | R6: =IF(R5="","",CHOOSE(WEEKDAY($A$1+15),"Sun","Mon","Tue","Wed","Thu","Fri","Sat")) | S6: =IF(S5="","",CHOOSE(WEEKDAY($A$1+16),"Sun","Mon","Tue","Wed","Thu","Fri","Sat")) | T6: =IF(T5="","",CHOOSE(WEEKDAY($A$1+17),"Sun","Mon","Tue","Wed","Thu","Fri","Sat")) | U6: =IF(U5="","",CHOOSE(WEEKDAY($A$1+18),"Sun","Mon","Tue","Wed","Thu","Fri","Sat")) | V6: =IF(V5="","",CHOOSE(WEEKDAY($A$1+19),"Sun","Mon","Tue","Wed","Thu","Fri","Sat")) | W6: =IF(W5="","",CHOOSE(WEEKDAY($A$1+20),"Sun","Mon","Tue","Wed","Thu","Fri","Sat")) | X6: =IF(X5="","",CHOOSE(WEEKDAY($A$1+21),"Sun","Mon","Tue","Wed","Thu","Fri","Sat")) | Y6: =IF(Y5="","",CHOOSE(WEEKDAY($A$1+22),"Sun","Mon","Tue","Wed","Thu","Fri","Sat")) | Z6: =IF(Z5="","",CHOOSE(WEEKDAY($A$1+23),"Sun","Mon","Tue","Wed","Thu","Fri","Sat")) | AA6: =IF(AA5="","",CHOOSE(WEEKDAY($A$1+24),"Sun","Mon","Tue","Wed","Thu","Fri","Sat")) | AB6: =IF(AB5="","",CHOOSE(WEEKDAY($A$1+25),"Sun","Mon","Tue","Wed","Thu","Fri","Sat")) | AC6: =IF(AC5="","",CHOOSE(WEEKDAY($A$1+26),"Sun","Mon","Tue","Wed","Thu","Fri","Sat")) | AD6: =IF(AD5="","",CHOOSE(WEEKDAY($A$1+27),"Sun","Mon","Tue","Wed","Thu","Fri","Sat")) | AE6: =IF(AE5="","",CHOOSE(WEEKDAY($A$1+28),"Sun","Mon","Tue","Wed","Thu","Fri","Sat")) | AF6: =IF(AF5="","",CHOOSE(WEEKDAY($A$1+29),"Sun","Mon","Tue","Wed","Thu","Fri","Sat")) | AG6: =IF(AG5="","",CHOOSE(WEEKDAY($A$1+30),"Sun","Mon","Tue","Wed","Thu","Fri","Sat"))
B7: =IF(Jan!B7="","",Jan!B7) | AH7: =IF($B7="","",COUNTIF($C7:$AG7,"P")) | AI7: =IF($B7="","",COUNTIF($C7:$AG7,"L")) | AJ7: =IF($B7="","",COUNTIF($C7:$AG7,"A")) | AK7: =IF($B7="","",COUNTIF($C7:$AG7,"E")) | AL7: =IF($B7="","",COUNTIF($C7:$AG7,"S")) | AM7: =IF($B7="","",COUNTIF($C7:$AG7,"V")) | AN7: =IF(COUNTA($C7:$AG7)-COUNTIF($C7:$AG7,"H")=0,"",(AH7+AI7)/(COUNTA($C7:$AG7)-COUNTIF($C7:$AG7,"H")))
B8: =IF(Jan!B8="","",Jan!B8) | AH8: =IF($B8="","",COUNTIF($C8:$AG8,"P")) | AI8: =IF($B8="","",COUNTIF($C8:$AG8,"L")) | AJ8: =IF($B8="","",COUNTIF($C8:$AG8,"A")) | AK8: =IF($B8="","",COUNTIF($C8:$AG8,"E")) | AL8: =IF($B8="","",COUNTIF($C8:$AG8,"S")) | AM8: =IF($B8="","",COUNTIF($C8:$AG8,"V")) | AN8: =IF(COUNTA($C8:$AG8)-COUNTIF($C8:$AG8,"H")=0,"",(AH8+AI8)/(COUNTA($C8:$AG8)-COUNTIF($C8:$AG8,"H")))
B9: =IF(Jan!B9="","",Jan!B9) | AH9: =IF($B9="","",COUNTIF($C9:$AG9,"P")) | AI9: =IF($B9="","",COUNTIF($C9:$AG9,"L")) | AJ9: =IF($B9="","",COUNTIF($C9:$AG9,"A")) | AK9: =IF($B9="","",COUNTIF($C9:$AG9,"E")) | AL9: =IF($B9="","",COUNTIF($C9:$AG9,"S")) | AM9: =IF($B9="","",COUNTIF($C9:$AG9,"V")) | AN9: =IF(COUNTA($C9:$AG9)-COUNTIF($C9:$AG9,"H")=0,"",(AH9+AI9)/(COUNTA($C9:$AG9)-COUNTIF($C9:$AG9,"H")))
B10: =IF(Jan!B10="","",Jan!B10) | AH10: =IF($B10="","",COUNTIF($C10:$AG10,"P")) | AI10: =IF($B10="","",COUNTIF($C10:$AG10,"L")) | AJ10: =IF($B10="","",COUNTIF($C10:$AG10,"A")) | AK10: =IF($B10="","",COUNTIF($C10:$AG10,"E")) | AL10: =IF($B10="","",COUNTIF($C10:$AG10,"S")) | AM10: =IF($B10="","",COUNTIF($C10:$AG10,"V")) | AN10: =IF(COUNTA($C10:$AG10)-COUNTIF($C10:$AG10,"H")=0,"",(AH10+AI10)/(COUNTA($C10:$AG10)-COUNTIF($C10:$AG10,"H")))
B11: =IF(Jan!B11="","",Jan!B11) | AH11: =IF($B11="","",COUNTIF($C11:$AG11,"P")) | AI11: =IF($B11="","",COUNTIF($C11:$AG11,"L")) | AJ11: =IF($B11="","",COUNTIF($C11:$AG11,"A")) | AK11: =IF($B11="","",COUNTIF($C11:$AG11,"E")) | AL11: =IF($B11="","",COUNTIF($C11:$AG11,"S")) | AM11: =IF($B11="","",COUNTIF($C11:$AG11,"V")) | AN11: =IF(COUNTA($C11:$AG11)-COUNTIF($C11:$AG11,"H")=0,"",(AH11+AI11)/(COUNTA($C11:$AG11)-COUNTIF($C11:$AG11,"H")))
B12: =IF(Jan!B12="","",Jan!B12) | AH12: =IF($B12="","",COUNTIF($C12:$AG12,"P")) | AI12: =IF($B12="","",COUNTIF($C12:$AG12,"L")) | AJ12: =IF($B12="","",COUNTIF($C12:$AG12,"A")) | AK12: =IF($B12="","",COUNTIF($C12:$AG12,"E")) | AL12: =IF($B12="","",COUNTIF($C12:$AG12,"S")) | AM12: =IF($B12="","",COUNTIF($C12:$AG12,"V")) | AN12: =IF(COUNTA($C12:$AG12)-COUNTIF($C12:$AG12,"H")=0,"",(AH12+AI12)/(COUNTA($C12:$AG12)-COUNTIF($C12:$AG12,"H")))
B13: =IF(Jan!B13="","",Jan!B13) | AH13: =IF($B13="","",COUNTIF($C13:$AG13,"P")) | AI13: =IF($B13="","",COUNTIF($C13:$AG13,"L")) | AJ13: =IF($B13="","",COUNTIF($C13:$AG13,"A")) | AK13: =IF($B13="","",COUNTIF($C13:$AG13,"E")) | AL13: =IF($B13="","",COUNTIF($C13:$AG13,"S")) | AM13: =IF($B13="","",COUNTIF($C13:$AG13,"V")) | AN13: =IF(COUNTA($C13:$AG13)-COUNTIF($C13:$AG13,"H")=0,"",(AH13+AI13)/(COUNTA($C13:$AG13)-COUNTIF($C13:$AG13,"H")))
B14: =IF(Jan!B14="","",Jan!B14) | AH14: =IF($B14="","",COUNTIF($C14:$AG14,"P")) | AI14: =IF($B14="","",COUNTIF($C14:$AG14,"L")) | AJ14: =IF($B14="","",COUNTIF($C14:$AG14,"A")) | AK14: =IF($B14="","",COUNTIF($C14:$AG14,"E")) | AL14: =IF($B14="","",COUNTIF($C14:$AG14,"S")) | AM14: =IF($B14="","",COUNTIF($C14:$AG14,"V")) | AN14: =IF(COUNTA($C14:$AG14)-COUNTIF($C14:$AG14,"H")=0,"",(AH14+AI14)/(COUNTA($C14:$AG14)-COUNTIF($C14:$AG14,"H")))
B15: =IF(Jan!B15="","",Jan!B15) | AH15: =IF($B15="","",COUNTIF($C15:$AG15,"P")) | AI15: =IF($B15="","",COUNTIF($C15:$AG15,"L")) | AJ15: =IF($B15="","",COUNTIF($C15:$AG15,"A")) | AK15: =IF($B15="","",COUNTIF($C15:$AG15,"E")) | AL15: =IF($B15="","",COUNTIF($C15:$AG15,"S")) | AM15: =IF($B15="","",COUNTIF($C15:$AG15,"V")) | AN15: =IF(COUNTA($C15:$AG15)-COUNTIF($C15:$AG15,"H")=0,"",(AH15+AI15)/(COUNTA($C15:$AG15)-COUNTIF($C15:$AG15,"H")))
B16: =IF(Jan!B16="","",Jan!B16) | AH16: =IF($B16="","",COUNTIF($C16:$AG16,"P")) | AI16: =IF($B16="","",COUNTIF($C16:$AG16,"L")) | AJ16: =IF($B16="","",COUNTIF($C16:$AG16,"A")) | AK16: =IF($B16="","",COUNTIF($C16:$AG16,"E")) | AL16: =IF($B16="","",COUNTIF($C16:$AG16,"S")) | AM16: =IF($B16="","",COUNTIF($C16:$AG16,"V")) | AN16: =IF(COUNTA($C16:$AG16)-COUNTIF($C16:$AG16,"H")=0,"",(AH16+AI16)/(COUNTA($C16:$AG16)-COUNTIF($C16:$AG16,"H")))
B17: =IF(Jan!B17="","",Jan!B17) | AH17: =IF($B17="","",COUNTIF($C17:$AG17,"P")) | AI17: =IF($B17="","",COUNTIF($C17:$AG17,"L")) | AJ17: =IF($B17="","",COUNTIF($C17:$AG17,"A")) | AK17: =IF($B17="","",COUNTIF($C17:$AG17,"E")) | AL17: =IF($B17="","",COUNTIF($C17:$AG17,"S")) | AM17: =IF($B17="","",COUNTIF($C17:$AG17,"V")) | AN17: =IF(COUNTA($C17:$AG17)-COUNTIF($C17:$AG17,"H")=0,"",(AH17+AI17)/(COUNTA($C17:$AG17)-COUNTIF($C17:$AG17,"H")))
B18: =IF(Jan!B18="","",Jan!B18) | AH18: =IF($B18="","",COUNTIF($C18:$AG18,"P")) | AI18: =IF($B18="","",COUNTIF($C18:$AG18,"L")) | AJ18: =IF($B18="","",COUNTIF($C18:$AG18,"A")) | AK18: =IF($B18="","",COUNTIF($C18:$AG18,"E")) | AL18: =IF($B18="","",COUNTIF($C18:$AG18,"S")) | AM18: =IF($B18="","",COUNTIF($C18:$AG18,"V")) | AN18: =IF(COUNTA($C18:$AG18)-COUNTIF($C18:$AG18,"H")=0,"",(AH18+AI18)/(COUNTA($C18:$AG18)-COUNTIF($C18:$AG18,"H")))
... B31: =IF(Jan!B31="","",Jan!B31) | AH31: =IF($B31="","",COUNTIF($C31:$AG31,"P")) | AI31: =IF($B31="","",COUNTIF($C31:$AG31,"L")) | AJ31: =IF($B31="","",COUNTIF($C31:$AG31,"A")) | AK31: =IF($B31="","",COUNTIF($C31:$AG31,"E")) | AL31: =IF($B31="","",COUNTIF($C31:$AG31,"S")) | AM31: =IF($B31="","",COUNTIF($C31:$AG31,"V")) | AN31: =IF(COUNTA($C31:$AG31)-COUNTIF($C31:$AG31,"H")=0,"",(AH31+AI31)/(COUNTA($C31:$AG31)-COUNTIF($C31:$AG31,"H")))
B32: PRESENT (P+L) | C32: =IF(COUNTA(C7:C31)=0,"",COUNTIF(C7:C31,"P")+COUNTIF(C7:C31,"L")) | D32: =IF(COUNTA(D7:D31)=0,"",COUNTIF(D7:D31,"P")+COUNTIF(D7:D31,"L")) | E32: =IF(COUNTA(E7:E31)=0,"",COUNTIF(E7:E31,"P")+COUNTIF(E7:E31,"L")) | F32: =IF(COUNTA(F7:F31)=0,"",COUNTIF(F7:F31,"P")+COUNTIF(F7:F31,"L")) | G32: =IF(COUNTA(G7:G31)=0,"",COUNTIF(G7:G31,"P")+COUNTIF(G7:G31,"L")) | H32: =IF(COUNTA(H7:H31)=0,"",COUNTIF(H7:H31,"P")+COUNTIF(H7:H31,"L")) | I32: =IF(COUNTA(I7:I31)=0,"",COUNTIF(I7:I31,"P")+COUNTIF(I7:I31,"L")) | J32: =IF(COUNTA(J7:J31)=0,"",COUNTIF(J7:J31,"P")+COUNTIF(J7:J31,"L")) | ... AG32: =IF(COUNTA(AG7:AG31)=0,"",COUNTIF(AG7:AG31,"P")+COUNTIF(AG7:AG31,"L"))
B34: KEY | C34: P | D34: Present | G34: L | H34: Late | K34: A | L34: Absent | O34: E | P34: Excused | S34: S | T34: Sick | W34: V | X34: Vacation | AA34: H | AB34: Holiday | AH34: Rate = (P + L) ÷ marked days, holidays excluded
B36: Free template from niftyshelf.com · free for personal & commercial use

Sheet Aug
A1: =DATE(2027,8,1)
B2: August 2027 | AH2: =Jan!AH2
B3: Monthly attendance — P present · L late · A absent · E excused · S sick · V vacation · H holiday
B5: NAME | C5: =IF(MONTH($A$1+0)=8,DAY($A$1+0),"") | D5: =IF(MONTH($A$1+1)=8,DAY($A$1+1),"") | E5: =IF(MONTH($A$1+2)=8,DAY($A$1+2),"") | F5: =IF(MONTH($A$1+3)=8,DAY($A$1+3),"") | G5: =IF(MONTH($A$1+4)=8,DAY($A$1+4),"") | H5: =IF(MONTH($A$1+5)=8,DAY($A$1+5),"") | I5: =IF(MONTH($A$1+6)=8,DAY($A$1+6),"") | J5: =IF(MONTH($A$1+7)=8,DAY($A$1+7),"") | K5: =IF(MONTH($A$1+8)=8,DAY($A$1+8),"") | L5: =IF(MONTH($A$1+9)=8,DAY($A$1+9),"") | M5: =IF(MONTH($A$1+10)=8,DAY($A$1+10),"") | N5: =IF(MONTH($A$1+11)=8,DAY($A$1+11),"") | O5: =IF(MONTH($A$1+12)=8,DAY($A$1+12),"") | P5: =IF(MONTH($A$1+13)=8,DAY($A$1+13),"") | Q5: =IF(MONTH($A$1+14)=8,DAY($A$1+14),"") | R5: =IF(MONTH($A$1+15)=8,DAY($A$1+15),"") | S5: =IF(MONTH($A$1+16)=8,DAY($A$1+16),"") | T5: =IF(MONTH($A$1+17)=8,DAY($A$1+17),"") | U5: =IF(MONTH($A$1+18)=8,DAY($A$1+18),"") | V5: =IF(MONTH($A$1+19)=8,DAY($A$1+19),"") | W5: =IF(MONTH($A$1+20)=8,DAY($A$1+20),"") | X5: =IF(MONTH($A$1+21)=8,DAY($A$1+21),"") | Y5: =IF(MONTH($A$1+22)=8,DAY($A$1+22),"") | Z5: =IF(MONTH($A$1+23)=8,DAY($A$1+23),"") | AA5: =IF(MONTH($A$1+24)=8,DAY($A$1+24),"") | AB5: =IF(MONTH($A$1+25)=8,DAY($A$1+25),"") | AC5: =IF(MONTH($A$1+26)=8,DAY($A$1+26),"") | AD5: =IF(MONTH($A$1+27)=8,DAY($A$1+27),"") | AE5: =IF(MONTH($A$1+28)=8,DAY($A$1+28),"") | AF5: =IF(MONTH($A$1+29)=8,DAY($A$1+29),"") | AG5: =IF(MONTH($A$1+30)=8,DAY($A$1+30),"") | AH5: P | AI5: L | AJ5: A | AK5: E | AL5: S | AM5: V | AN5: RATE
C6: =IF(C5="","",CHOOSE(WEEKDAY($A$1+0),"Sun","Mon","Tue","Wed","Thu","Fri","Sat")) | D6: =IF(D5="","",CHOOSE(WEEKDAY($A$1+1),"Sun","Mon","Tue","Wed","Thu","Fri","Sat")) | E6: =IF(E5="","",CHOOSE(WEEKDAY($A$1+2),"Sun","Mon","Tue","Wed","Thu","Fri","Sat")) | F6: =IF(F5="","",CHOOSE(WEEKDAY($A$1+3),"Sun","Mon","Tue","Wed","Thu","Fri","Sat")) | G6: =IF(G5="","",CHOOSE(WEEKDAY($A$1+4),"Sun","Mon","Tue","Wed","Thu","Fri","Sat")) | H6: =IF(H5="","",CHOOSE(WEEKDAY($A$1+5),"Sun","Mon","Tue","Wed","Thu","Fri","Sat")) | I6: =IF(I5="","",CHOOSE(WEEKDAY($A$1+6),"Sun","Mon","Tue","Wed","Thu","Fri","Sat")) | J6: =IF(J5="","",CHOOSE(WEEKDAY($A$1+7),"Sun","Mon","Tue","Wed","Thu","Fri","Sat")) | K6: =IF(K5="","",CHOOSE(WEEKDAY($A$1+8),"Sun","Mon","Tue","Wed","Thu","Fri","Sat")) | L6: =IF(L5="","",CHOOSE(WEEKDAY($A$1+9),"Sun","Mon","Tue","Wed","Thu","Fri","Sat")) | M6: =IF(M5="","",CHOOSE(WEEKDAY($A$1+10),"Sun","Mon","Tue","Wed","Thu","Fri","Sat")) | N6: =IF(N5="","",CHOOSE(WEEKDAY($A$1+11),"Sun","Mon","Tue","Wed","Thu","Fri","Sat")) | O6: =IF(O5="","",CHOOSE(WEEKDAY($A$1+12),"Sun","Mon","Tue","Wed","Thu","Fri","Sat")) | P6: =IF(P5="","",CHOOSE(WEEKDAY($A$1+13),"Sun","Mon","Tue","Wed","Thu","Fri","Sat")) | Q6: =IF(Q5="","",CHOOSE(WEEKDAY($A$1+14),"Sun","Mon","Tue","Wed","Thu","Fri","Sat")) | R6: =IF(R5="","",CHOOSE(WEEKDAY($A$1+15),"Sun","Mon","Tue","Wed","Thu","Fri","Sat")) | S6: =IF(S5="","",CHOOSE(WEEKDAY($A$1+16),"Sun","Mon","Tue","Wed","Thu","Fri","Sat")) | T6: =IF(T5="","",CHOOSE(WEEKDAY($A$1+17),"Sun","Mon","Tue","Wed","Thu","Fri","Sat")) | U6: =IF(U5="","",CHOOSE(WEEKDAY($A$1+18),"Sun","Mon","Tue","Wed","Thu","Fri","Sat")) | V6: =IF(V5="","",CHOOSE(WEEKDAY($A$1+19),"Sun","Mon","Tue","Wed","Thu","Fri","Sat")) | W6: =IF(W5="","",CHOOSE(WEEKDAY($A$1+20),"Sun","Mon","Tue","Wed","Thu","Fri","Sat")) | X6: =IF(X5="","",CHOOSE(WEEKDAY($A$1+21),"Sun","Mon","Tue","Wed","Thu","Fri","Sat")) | Y6: =IF(Y5="","",CHOOSE(WEEKDAY($A$1+22),"Sun","Mon","Tue","Wed","Thu","Fri","Sat")) | Z6: =IF(Z5="","",CHOOSE(WEEKDAY($A$1+23),"Sun","Mon","Tue","Wed","Thu","Fri","Sat")) | AA6: =IF(AA5="","",CHOOSE(WEEKDAY($A$1+24),"Sun","Mon","Tue","Wed","Thu","Fri","Sat")) | AB6: =IF(AB5="","",CHOOSE(WEEKDAY($A$1+25),"Sun","Mon","Tue","Wed","Thu","Fri","Sat")) | AC6: =IF(AC5="","",CHOOSE(WEEKDAY($A$1+26),"Sun","Mon","Tue","Wed","Thu","Fri","Sat")) | AD6: =IF(AD5="","",CHOOSE(WEEKDAY($A$1+27),"Sun","Mon","Tue","Wed","Thu","Fri","Sat")) | AE6: =IF(AE5="","",CHOOSE(WEEKDAY($A$1+28),"Sun","Mon","Tue","Wed","Thu","Fri","Sat")) | AF6: =IF(AF5="","",CHOOSE(WEEKDAY($A$1+29),"Sun","Mon","Tue","Wed","Thu","Fri","Sat")) | AG6: =IF(AG5="","",CHOOSE(WEEKDAY($A$1+30),"Sun","Mon","Tue","Wed","Thu","Fri","Sat"))
B7: =IF(Jan!B7="","",Jan!B7) | AH7: =IF($B7="","",COUNTIF($C7:$AG7,"P")) | AI7: =IF($B7="","",COUNTIF($C7:$AG7,"L")) | AJ7: =IF($B7="","",COUNTIF($C7:$AG7,"A")) | AK7: =IF($B7="","",COUNTIF($C7:$AG7,"E")) | AL7: =IF($B7="","",COUNTIF($C7:$AG7,"S")) | AM7: =IF($B7="","",COUNTIF($C7:$AG7,"V")) | AN7: =IF(COUNTA($C7:$AG7)-COUNTIF($C7:$AG7,"H")=0,"",(AH7+AI7)/(COUNTA($C7:$AG7)-COUNTIF($C7:$AG7,"H")))
B8: =IF(Jan!B8="","",Jan!B8) | AH8: =IF($B8="","",COUNTIF($C8:$AG8,"P")) | AI8: =IF($B8="","",COUNTIF($C8:$AG8,"L")) | AJ8: =IF($B8="","",COUNTIF($C8:$AG8,"A")) | AK8: =IF($B8="","",COUNTIF($C8:$AG8,"E")) | AL8: =IF($B8="","",COUNTIF($C8:$AG8,"S")) | AM8: =IF($B8="","",COUNTIF($C8:$AG8,"V")) | AN8: =IF(COUNTA($C8:$AG8)-COUNTIF($C8:$AG8,"H")=0,"",(AH8+AI8)/(COUNTA($C8:$AG8)-COUNTIF($C8:$AG8,"H")))
B9: =IF(Jan!B9="","",Jan!B9) | AH9: =IF($B9="","",COUNTIF($C9:$AG9,"P")) | AI9: =IF($B9="","",COUNTIF($C9:$AG9,"L")) | AJ9: =IF($B9="","",COUNTIF($C9:$AG9,"A")) | AK9: =IF($B9="","",COUNTIF($C9:$AG9,"E")) | AL9: =IF($B9="","",COUNTIF($C9:$AG9,"S")) | AM9: =IF($B9="","",COUNTIF($C9:$AG9,"V")) | AN9: =IF(COUNTA($C9:$AG9)-COUNTIF($C9:$AG9,"H")=0,"",(AH9+AI9)/(COUNTA($C9:$AG9)-COUNTIF($C9:$AG9,"H")))
B10: =IF(Jan!B10="","",Jan!B10) | AH10: =IF($B10="","",COUNTIF($C10:$AG10,"P")) | AI10: =IF($B10="","",COUNTIF($C10:$AG10,"L")) | AJ10: =IF($B10="","",COUNTIF($C10:$AG10,"A")) | AK10: =IF($B10="","",COUNTIF($C10:$AG10,"E")) | AL10: =IF($B10="","",COUNTIF($C10:$AG10,"S")) | AM10: =IF($B10="","",COUNTIF($C10:$AG10,"V")) | AN10: =IF(COUNTA($C10:$AG10)-COUNTIF($C10:$AG10,"H")=0,"",(AH10+AI10)/(COUNTA($C10:$AG10)-COUNTIF($C10:$AG10,"H")))
B11: =IF(Jan!B11="","",Jan!B11) | AH11: =IF($B11="","",COUNTIF($C11:$AG11,"P")) | AI11: =IF($B11="","",COUNTIF($C11:$AG11,"L")) | AJ11: =IF($B11="","",COUNTIF($C11:$AG11,"A")) | AK11: =IF($B11="","",COUNTIF($C11:$AG11,"E")) | AL11: =IF($B11="","",COUNTIF($C11:$AG11,"S")) | AM11: =IF($B11="","",COUNTIF($C11:$AG11,"V")) | AN11: =IF(COUNTA($C11:$AG11)-COUNTIF($C11:$AG11,"H")=0,"",(AH11+AI11)/(COUNTA($C11:$AG11)-COUNTIF($C11:$AG11,"H")))
B12: =IF(Jan!B12="","",Jan!B12) | AH12: =IF($B12="","",COUNTIF($C12:$AG12,"P")) | AI12: =IF($B12="","",COUNTIF($C12:$AG12,"L")) | AJ12: =IF($B12="","",COUNTIF($C12:$AG12,"A")) | AK12: =IF($B12="","",COUNTIF($C12:$AG12,"E")) | AL12: =IF($B12="","",COUNTIF($C12:$AG12,"S")) | AM12: =IF($B12="","",COUNTIF($C12:$AG12,"V")) | AN12: =IF(COUNTA($C12:$AG12)-COUNTIF($C12:$AG12,"H")=0,"",(AH12+AI12)/(COUNTA($C12:$AG12)-COUNTIF($C12:$AG12,"H")))
B13: =IF(Jan!B13="","",Jan!B13) | AH13: =IF($B13="","",COUNTIF($C13:$AG13,"P")) | AI13: =IF($B13="","",COUNTIF($C13:$AG13,"L")) | AJ13: =IF($B13="","",COUNTIF($C13:$AG13,"A")) | AK13: =IF($B13="","",COUNTIF($C13:$AG13,"E")) | AL13: =IF($B13="","",COUNTIF($C13:$AG13,"S")) | AM13: =IF($B13="","",COUNTIF($C13:$AG13,"V")) | AN13: =IF(COUNTA($C13:$AG13)-COUNTIF($C13:$AG13,"H")=0,"",(AH13+AI13)/(COUNTA($C13:$AG13)-COUNTIF($C13:$AG13,"H")))
B14: =IF(Jan!B14="","",Jan!B14) | AH14: =IF($B14="","",COUNTIF($C14:$AG14,"P")) | AI14: =IF($B14="","",COUNTIF($C14:$AG14,"L")) | AJ14: =IF($B14="","",COUNTIF($C14:$AG14,"A")) | AK14: =IF($B14="","",COUNTIF($C14:$AG14,"E")) | AL14: =IF($B14="","",COUNTIF($C14:$AG14,"S")) | AM14: =IF($B14="","",COUNTIF($C14:$AG14,"V")) | AN14: =IF(COUNTA($C14:$AG14)-COUNTIF($C14:$AG14,"H")=0,"",(AH14+AI14)/(COUNTA($C14:$AG14)-COUNTIF($C14:$AG14,"H")))
B15: =IF(Jan!B15="","",Jan!B15) | AH15: =IF($B15="","",COUNTIF($C15:$AG15,"P")) | AI15: =IF($B15="","",COUNTIF($C15:$AG15,"L")) | AJ15: =IF($B15="","",COUNTIF($C15:$AG15,"A")) | AK15: =IF($B15="","",COUNTIF($C15:$AG15,"E")) | AL15: =IF($B15="","",COUNTIF($C15:$AG15,"S")) | AM15: =IF($B15="","",COUNTIF($C15:$AG15,"V")) | AN15: =IF(COUNTA($C15:$AG15)-COUNTIF($C15:$AG15,"H")=0,"",(AH15+AI15)/(COUNTA($C15:$AG15)-COUNTIF($C15:$AG15,"H")))
B16: =IF(Jan!B16="","",Jan!B16) | AH16: =IF($B16="","",COUNTIF($C16:$AG16,"P")) | AI16: =IF($B16="","",COUNTIF($C16:$AG16,"L")) | AJ16: =IF($B16="","",COUNTIF($C16:$AG16,"A")) | AK16: =IF($B16="","",COUNTIF($C16:$AG16,"E")) | AL16: =IF($B16="","",COUNTIF($C16:$AG16,"S")) | AM16: =IF($B16="","",COUNTIF($C16:$AG16,"V")) | AN16: =IF(COUNTA($C16:$AG16)-COUNTIF($C16:$AG16,"H")=0,"",(AH16+AI16)/(COUNTA($C16:$AG16)-COUNTIF($C16:$AG16,"H")))
B17: =IF(Jan!B17="","",Jan!B17) | AH17: =IF($B17="","",COUNTIF($C17:$AG17,"P")) | AI17: =IF($B17="","",COUNTIF($C17:$AG17,"L")) | AJ17: =IF($B17="","",COUNTIF($C17:$AG17,"A")) | AK17: =IF($B17="","",COUNTIF($C17:$AG17,"E")) | AL17: =IF($B17="","",COUNTIF($C17:$AG17,"S")) | AM17: =IF($B17="","",COUNTIF($C17:$AG17,"V")) | AN17: =IF(COUNTA($C17:$AG17)-COUNTIF($C17:$AG17,"H")=0,"",(AH17+AI17)/(COUNTA($C17:$AG17)-COUNTIF($C17:$AG17,"H")))
B18: =IF(Jan!B18="","",Jan!B18) | AH18: =IF($B18="","",COUNTIF($C18:$AG18,"P")) | AI18: =IF($B18="","",COUNTIF($C18:$AG18,"L")) | AJ18: =IF($B18="","",COUNTIF($C18:$AG18,"A")) | AK18: =IF($B18="","",COUNTIF($C18:$AG18,"E")) | AL18: =IF($B18="","",COUNTIF($C18:$AG18,"S")) | AM18: =IF($B18="","",COUNTIF($C18:$AG18,"V")) | AN18: =IF(COUNTA($C18:$AG18)-COUNTIF($C18:$AG18,"H")=0,"",(AH18+AI18)/(COUNTA($C18:$AG18)-COUNTIF($C18:$AG18,"H")))
... B31: =IF(Jan!B31="","",Jan!B31) | AH31: =IF($B31="","",COUNTIF($C31:$AG31,"P")) | AI31: =IF($B31="","",COUNTIF($C31:$AG31,"L")) | AJ31: =IF($B31="","",COUNTIF($C31:$AG31,"A")) | AK31: =IF($B31="","",COUNTIF($C31:$AG31,"E")) | AL31: =IF($B31="","",COUNTIF($C31:$AG31,"S")) | AM31: =IF($B31="","",COUNTIF($C31:$AG31,"V")) | AN31: =IF(COUNTA($C31:$AG31)-COUNTIF($C31:$AG31,"H")=0,"",(AH31+AI31)/(COUNTA($C31:$AG31)-COUNTIF($C31:$AG31,"H")))
B32: PRESENT (P+L) | C32: =IF(COUNTA(C7:C31)=0,"",COUNTIF(C7:C31,"P")+COUNTIF(C7:C31,"L")) | D32: =IF(COUNTA(D7:D31)=0,"",COUNTIF(D7:D31,"P")+COUNTIF(D7:D31,"L")) | E32: =IF(COUNTA(E7:E31)=0,"",COUNTIF(E7:E31,"P")+COUNTIF(E7:E31,"L")) | F32: =IF(COUNTA(F7:F31)=0,"",COUNTIF(F7:F31,"P")+COUNTIF(F7:F31,"L")) | G32: =IF(COUNTA(G7:G31)=0,"",COUNTIF(G7:G31,"P")+COUNTIF(G7:G31,"L")) | H32: =IF(COUNTA(H7:H31)=0,"",COUNTIF(H7:H31,"P")+COUNTIF(H7:H31,"L")) | I32: =IF(COUNTA(I7:I31)=0,"",COUNTIF(I7:I31,"P")+COUNTIF(I7:I31,"L")) | J32: =IF(COUNTA(J7:J31)=0,"",COUNTIF(J7:J31,"P")+COUNTIF(J7:J31,"L")) | ... AG32: =IF(COUNTA(AG7:AG31)=0,"",COUNTIF(AG7:AG31,"P")+COUNTIF(AG7:AG31,"L"))
B34: KEY | C34: P | D34: Present | G34: L | H34: Late | K34: A | L34: Absent | O34: E | P34: Excused | S34: S | T34: Sick | W34: V | X34: Vacation | AA34: H | AB34: Holiday | AH34: Rate = (P + L) ÷ marked days, holidays excluded
B36: Free template from niftyshelf.com · free for personal & commercial use

Sheet Sep
A1: =DATE(2027,9,1)
B2: September 2027 | AH2: =Jan!AH2
B3: Monthly attendance — P present · L late · A absent · E excused · S sick · V vacation · H holiday
B5: NAME | C5: =IF(MONTH($A$1+0)=9,DAY($A$1+0),"") | D5: =IF(MONTH($A$1+1)=9,DAY($A$1+1),"") | E5: =IF(MONTH($A$1+2)=9,DAY($A$1+2),"") | F5: =IF(MONTH($A$1+3)=9,DAY($A$1+3),"") | G5: =IF(MONTH($A$1+4)=9,DAY($A$1+4),"") | H5: =IF(MONTH($A$1+5)=9,DAY($A$1+5),"") | I5: =IF(MONTH($A$1+6)=9,DAY($A$1+6),"") | J5: =IF(MONTH($A$1+7)=9,DAY($A$1+7),"") | K5: =IF(MONTH($A$1+8)=9,DAY($A$1+8),"") | L5: =IF(MONTH($A$1+9)=9,DAY($A$1+9),"") | M5: =IF(MONTH($A$1+10)=9,DAY($A$1+10),"") | N5: =IF(MONTH($A$1+11)=9,DAY($A$1+11),"") | O5: =IF(MONTH($A$1+12)=9,DAY($A$1+12),"") | P5: =IF(MONTH($A$1+13)=9,DAY($A$1+13),"") | Q5: =IF(MONTH($A$1+14)=9,DAY($A$1+14),"") | R5: =IF(MONTH($A$1+15)=9,DAY($A$1+15),"") | S5: =IF(MONTH($A$1+16)=9,DAY($A$1+16),"") | T5: =IF(MONTH($A$1+17)=9,DAY($A$1+17),"") | U5: =IF(MONTH($A$1+18)=9,DAY($A$1+18),"") | V5: =IF(MONTH($A$1+19)=9,DAY($A$1+19),"") | W5: =IF(MONTH($A$1+20)=9,DAY($A$1+20),"") | X5: =IF(MONTH($A$1+21)=9,DAY($A$1+21),"") | Y5: =IF(MONTH($A$1+22)=9,DAY($A$1+22),"") | Z5: =IF(MONTH($A$1+23)=9,DAY($A$1+23),"") | AA5: =IF(MONTH($A$1+24)=9,DAY($A$1+24),"") | AB5: =IF(MONTH($A$1+25)=9,DAY($A$1+25),"") | AC5: =IF(MONTH($A$1+26)=9,DAY($A$1+26),"") | AD5: =IF(MONTH($A$1+27)=9,DAY($A$1+27),"") | AE5: =IF(MONTH($A$1+28)=9,DAY($A$1+28),"") | AF5: =IF(MONTH($A$1+29)=9,DAY($A$1+29),"") | AG5: =IF(MONTH($A$1+30)=9,DAY($A$1+30),"") | AH5: P | AI5: L | AJ5: A | AK5: E | AL5: S | AM5: V | AN5: RATE
C6: =IF(C5="","",CHOOSE(WEEKDAY($A$1+0),"Sun","Mon","Tue","Wed","Thu","Fri","Sat")) | D6: =IF(D5="","",CHOOSE(WEEKDAY($A$1+1),"Sun","Mon","Tue","Wed","Thu","Fri","Sat")) | E6: =IF(E5="","",CHOOSE(WEEKDAY($A$1+2),"Sun","Mon","Tue","Wed","Thu","Fri","Sat")) | F6: =IF(F5="","",CHOOSE(WEEKDAY($A$1+3),"Sun","Mon","Tue","Wed","Thu","Fri","Sat")) | G6: =IF(G5="","",CHOOSE(WEEKDAY($A$1+4),"Sun","Mon","Tue","Wed","Thu","Fri","Sat")) | H6: =IF(H5="","",CHOOSE(WEEKDAY($A$1+5),"Sun","Mon","Tue","Wed","Thu","Fri","Sat")) | I6: =IF(I5="","",CHOOSE(WEEKDAY($A$1+6),"Sun","Mon","Tue","Wed","Thu","Fri","Sat")) | J6: =IF(J5="","",CHOOSE(WEEKDAY($A$1+7),"Sun","Mon","Tue","Wed","Thu","Fri","Sat")) | K6: =IF(K5="","",CHOOSE(WEEKDAY($A$1+8),"Sun","Mon","Tue","Wed","Thu","Fri","Sat")) | L6: =IF(L5="","",CHOOSE(WEEKDAY($A$1+9),"Sun","Mon","Tue","Wed","Thu","Fri","Sat")) | M6: =IF(M5="","",CHOOSE(WEEKDAY($A$1+10),"Sun","Mon","Tue","Wed","Thu","Fri","Sat")) | N6: =IF(N5="","",CHOOSE(WEEKDAY($A$1+11),"Sun","Mon","Tue","Wed","Thu","Fri","Sat")) | O6: =IF(O5="","",CHOOSE(WEEKDAY($A$1+12),"Sun","Mon","Tue","Wed","Thu","Fri","Sat")) | P6: =IF(P5="","",CHOOSE(WEEKDAY($A$1+13),"Sun","Mon","Tue","Wed","Thu","Fri","Sat")) | Q6: =IF(Q5="","",CHOOSE(WEEKDAY($A$1+14),"Sun","Mon","Tue","Wed","Thu","Fri","Sat")) | R6: =IF(R5="","",CHOOSE(WEEKDAY($A$1+15),"Sun","Mon","Tue","Wed","Thu","Fri","Sat")) | S6: =IF(S5="","",CHOOSE(WEEKDAY($A$1+16),"Sun","Mon","Tue","Wed","Thu","Fri","Sat")) | T6: =IF(T5="","",CHOOSE(WEEKDAY($A$1+17),"Sun","Mon","Tue","Wed","Thu","Fri","Sat")) | U6: =IF(U5="","",CHOOSE(WEEKDAY($A$1+18),"Sun","Mon","Tue","Wed","Thu","Fri","Sat")) | V6: =IF(V5="","",CHOOSE(WEEKDAY($A$1+19),"Sun","Mon","Tue","Wed","Thu","Fri","Sat")) | W6: =IF(W5="","",CHOOSE(WEEKDAY($A$1+20),"Sun","Mon","Tue","Wed","Thu","Fri","Sat")) | X6: =IF(X5="","",CHOOSE(WEEKDAY($A$1+21),"Sun","Mon","Tue","Wed","Thu","Fri","Sat")) | Y6: =IF(Y5="","",CHOOSE(WEEKDAY($A$1+22),"Sun","Mon","Tue","Wed","Thu","Fri","Sat")) | Z6: =IF(Z5="","",CHOOSE(WEEKDAY($A$1+23),"Sun","Mon","Tue","Wed","Thu","Fri","Sat")) | AA6: =IF(AA5="","",CHOOSE(WEEKDAY($A$1+24),"Sun","Mon","Tue","Wed","Thu","Fri","Sat")) | AB6: =IF(AB5="","",CHOOSE(WEEKDAY($A$1+25),"Sun","Mon","Tue","Wed","Thu","Fri","Sat")) | AC6: =IF(AC5="","",CHOOSE(WEEKDAY($A$1+26),"Sun","Mon","Tue","Wed","Thu","Fri","Sat")) | AD6: =IF(AD5="","",CHOOSE(WEEKDAY($A$1+27),"Sun","Mon","Tue","Wed","Thu","Fri","Sat")) | AE6: =IF(AE5="","",CHOOSE(WEEKDAY($A$1+28),"Sun","Mon","Tue","Wed","Thu","Fri","Sat")) | AF6: =IF(AF5="","",CHOOSE(WEEKDAY($A$1+29),"Sun","Mon","Tue","Wed","Thu","Fri","Sat")) | AG6: =IF(AG5="","",CHOOSE(WEEKDAY($A$1+30),"Sun","Mon","Tue","Wed","Thu","Fri","Sat"))
B7: =IF(Jan!B7="","",Jan!B7) | AH7: =IF($B7="","",COUNTIF($C7:$AG7,"P")) | AI7: =IF($B7="","",COUNTIF($C7:$AG7,"L")) | AJ7: =IF($B7="","",COUNTIF($C7:$AG7,"A")) | AK7: =IF($B7="","",COUNTIF($C7:$AG7,"E")) | AL7: =IF($B7="","",COUNTIF($C7:$AG7,"S")) | AM7: =IF($B7="","",COUNTIF($C7:$AG7,"V")) | AN7: =IF(COUNTA($C7:$AG7)-COUNTIF($C7:$AG7,"H")=0,"",(AH7+AI7)/(COUNTA($C7:$AG7)-COUNTIF($C7:$AG7,"H")))
B8: =IF(Jan!B8="","",Jan!B8) | AH8: =IF($B8="","",COUNTIF($C8:$AG8,"P")) | AI8: =IF($B8="","",COUNTIF($C8:$AG8,"L")) | AJ8: =IF($B8="","",COUNTIF($C8:$AG8,"A")) | AK8: =IF($B8="","",COUNTIF($C8:$AG8,"E")) | AL8: =IF($B8="","",COUNTIF($C8:$AG8,"S")) | AM8: =IF($B8="","",COUNTIF($C8:$AG8,"V")) | AN8: =IF(COUNTA($C8:$AG8)-COUNTIF($C8:$AG8,"H")=0,"",(AH8+AI8)/(COUNTA($C8:$AG8)-COUNTIF($C8:$AG8,"H")))
B9: =IF(Jan!B9="","",Jan!B9) | AH9: =IF($B9="","",COUNTIF($C9:$AG9,"P")) | AI9: =IF($B9="","",COUNTIF($C9:$AG9,"L")) | AJ9: =IF($B9="","",COUNTIF($C9:$AG9,"A")) | AK9: =IF($B9="","",COUNTIF($C9:$AG9,"E")) | AL9: =IF($B9="","",COUNTIF($C9:$AG9,"S")) | AM9: =IF($B9="","",COUNTIF($C9:$AG9,"V")) | AN9: =IF(COUNTA($C9:$AG9)-COUNTIF($C9:$AG9,"H")=0,"",(AH9+AI9)/(COUNTA($C9:$AG9)-COUNTIF($C9:$AG9,"H")))
B10: =IF(Jan!B10="","",Jan!B10) | AH10: =IF($B10="","",COUNTIF($C10:$AG10,"P")) | AI10: =IF($B10="","",COUNTIF($C10:$AG10,"L")) | AJ10: =IF($B10="","",COUNTIF($C10:$AG10,"A")) | AK10: =IF($B10="","",COUNTIF($C10:$AG10,"E")) | AL10: =IF($B10="","",COUNTIF($C10:$AG10,"S")) | AM10: =IF($B10="","",COUNTIF($C10:$AG10,"V")) | AN10: =IF(COUNTA($C10:$AG10)-COUNTIF($C10:$AG10,"H")=0,"",(AH10+AI10)/(COUNTA($C10:$AG10)-COUNTIF($C10:$AG10,"H")))
B11: =IF(Jan!B11="","",Jan!B11) | AH11: =IF($B11="","",COUNTIF($C11:$AG11,"P")) | AI11: =IF($B11="","",COUNTIF($C11:$AG11,"L")) | AJ11: =IF($B11="","",COUNTIF($C11:$AG11,"A")) | AK11: =IF($B11="","",COUNTIF($C11:$AG11,"E")) | AL11: =IF($B11="","",COUNTIF($C11:$AG11,"S")) | AM11: =IF($B11="","",COUNTIF($C11:$AG11,"V")) | AN11: =IF(COUNTA($C11:$AG11)-COUNTIF($C11:$AG11,"H")=0,"",(AH11+AI11)/(COUNTA($C11:$AG11)-COUNTIF($C11:$AG11,"H")))
B12: =IF(Jan!B12="","",Jan!B12) | AH12: =IF($B12="","",COUNTIF($C12:$AG12,"P")) | AI12: =IF($B12="","",COUNTIF($C12:$AG12,"L")) | AJ12: =IF($B12="","",COUNTIF($C12:$AG12,"A")) | AK12: =IF($B12="","",COUNTIF($C12:$AG12,"E")) | AL12: =IF($B12="","",COUNTIF($C12:$AG12,"S")) | AM12: =IF($B12="","",COUNTIF($C12:$AG12,"V")) | AN12: =IF(COUNTA($C12:$AG12)-COUNTIF($C12:$AG12,"H")=0,"",(AH12+AI12)/(COUNTA($C12:$AG12)-COUNTIF($C12:$AG12,"H")))
B13: =IF(Jan!B13="","",Jan!B13) | AH13: =IF($B13="","",COUNTIF($C13:$AG13,"P")) | AI13: =IF($B13="","",COUNTIF($C13:$AG13,"L")) | AJ13: =IF($B13="","",COUNTIF($C13:$AG13,"A")) | AK13: =IF($B13="","",COUNTIF($C13:$AG13,"E")) | AL13: =IF($B13="","",COUNTIF($C13:$AG13,"S")) | AM13: =IF($B13="","",COUNTIF($C13:$AG13,"V")) | AN13: =IF(COUNTA($C13:$AG13)-COUNTIF($C13:$AG13,"H")=0,"",(AH13+AI13)/(COUNTA($C13:$AG13)-COUNTIF($C13:$AG13,"H")))
B14: =IF(Jan!B14="","",Jan!B14) | AH14: =IF($B14="","",COUNTIF($C14:$AG14,"P")) | AI14: =IF($B14="","",COUNTIF($C14:$AG14,"L")) | AJ14: =IF($B14="","",COUNTIF($C14:$AG14,"A")) | AK14: =IF($B14="","",COUNTIF($C14:$AG14,"E")) | AL14: =IF($B14="","",COUNTIF($C14:$AG14,"S")) | AM14: =IF($B14="","",COUNTIF($C14:$AG14,"V")) | AN14: =IF(COUNTA($C14:$AG14)-COUNTIF($C14:$AG14,"H")=0,"",(AH14+AI14)/(COUNTA($C14:$AG14)-COUNTIF($C14:$AG14,"H")))
B15: =IF(Jan!B15="","",Jan!B15) | AH15: =IF($B15="","",COUNTIF($C15:$AG15,"P")) | AI15: =IF($B15="","",COUNTIF($C15:$AG15,"L")) | AJ15: =IF($B15="","",COUNTIF($C15:$AG15,"A")) | AK15: =IF($B15="","",COUNTIF($C15:$AG15,"E")) | AL15: =IF($B15="","",COUNTIF($C15:$AG15,"S")) | AM15: =IF($B15="","",COUNTIF($C15:$AG15,"V")) | AN15: =IF(COUNTA($C15:$AG15)-COUNTIF($C15:$AG15,"H")=0,"",(AH15+AI15)/(COUNTA($C15:$AG15)-COUNTIF($C15:$AG15,"H")))
B16: =IF(Jan!B16="","",Jan!B16) | AH16: =IF($B16="","",COUNTIF($C16:$AG16,"P")) | AI16: =IF($B16="","",COUNTIF($C16:$AG16,"L")) | AJ16: =IF($B16="","",COUNTIF($C16:$AG16,"A")) | AK16: =IF($B16="","",COUNTIF($C16:$AG16,"E")) | AL16: =IF($B16="","",COUNTIF($C16:$AG16,"S")) | AM16: =IF($B16="","",COUNTIF($C16:$AG16,"V")) | AN16: =IF(COUNTA($C16:$AG16)-COUNTIF($C16:$AG16,"H")=0,"",(AH16+AI16)/(COUNTA($C16:$AG16)-COUNTIF($C16:$AG16,"H")))
B17: =IF(Jan!B17="","",Jan!B17) | AH17: =IF($B17="","",COUNTIF($C17:$AG17,"P")) | AI17: =IF($B17="","",COUNTIF($C17:$AG17,"L")) | AJ17: =IF($B17="","",COUNTIF($C17:$AG17,"A")) | AK17: =IF($B17="","",COUNTIF($C17:$AG17,"E")) | AL17: =IF($B17="","",COUNTIF($C17:$AG17,"S")) | AM17: =IF($B17="","",COUNTIF($C17:$AG17,"V")) | AN17: =IF(COUNTA($C17:$AG17)-COUNTIF($C17:$AG17,"H")=0,"",(AH17+AI17)/(COUNTA($C17:$AG17)-COUNTIF($C17:$AG17,"H")))
B18: =IF(Jan!B18="","",Jan!B18) | AH18: =IF($B18="","",COUNTIF($C18:$AG18,"P")) | AI18: =IF($B18="","",COUNTIF($C18:$AG18,"L")) | AJ18: =IF($B18="","",COUNTIF($C18:$AG18,"A")) | AK18: =IF($B18="","",COUNTIF($C18:$AG18,"E")) | AL18: =IF($B18="","",COUNTIF($C18:$AG18,"S")) | AM18: =IF($B18="","",COUNTIF($C18:$AG18,"V")) | AN18: =IF(COUNTA($C18:$AG18)-COUNTIF($C18:$AG18,"H")=0,"",(AH18+AI18)/(COUNTA($C18:$AG18)-COUNTIF($C18:$AG18,"H")))
... B31: =IF(Jan!B31="","",Jan!B31) | AH31: =IF($B31="","",COUNTIF($C31:$AG31,"P")) | AI31: =IF($B31="","",COUNTIF($C31:$AG31,"L")) | AJ31: =IF($B31="","",COUNTIF($C31:$AG31,"A")) | AK31: =IF($B31="","",COUNTIF($C31:$AG31,"E")) | AL31: =IF($B31="","",COUNTIF($C31:$AG31,"S")) | AM31: =IF($B31="","",COUNTIF($C31:$AG31,"V")) | AN31: =IF(COUNTA($C31:$AG31)-COUNTIF($C31:$AG31,"H")=0,"",(AH31+AI31)/(COUNTA($C31:$AG31)-COUNTIF($C31:$AG31,"H")))
B32: PRESENT (P+L) | C32: =IF(COUNTA(C7:C31)=0,"",COUNTIF(C7:C31,"P")+COUNTIF(C7:C31,"L")) | D32: =IF(COUNTA(D7:D31)=0,"",COUNTIF(D7:D31,"P")+COUNTIF(D7:D31,"L")) | E32: =IF(COUNTA(E7:E31)=0,"",COUNTIF(E7:E31,"P")+COUNTIF(E7:E31,"L")) | F32: =IF(COUNTA(F7:F31)=0,"",COUNTIF(F7:F31,"P")+COUNTIF(F7:F31,"L")) | G32: =IF(COUNTA(G7:G31)=0,"",COUNTIF(G7:G31,"P")+COUNTIF(G7:G31,"L")) | H32: =IF(COUNTA(H7:H31)=0,"",COUNTIF(H7:H31,"P")+COUNTIF(H7:H31,"L")) | I32: =IF(COUNTA(I7:I31)=0,"",COUNTIF(I7:I31,"P")+COUNTIF(I7:I31,"L")) | J32: =IF(COUNTA(J7:J31)=0,"",COUNTIF(J7:J31,"P")+COUNTIF(J7:J31,"L")) | ... AG32: =IF(COUNTA(AG7:AG31)=0,"",COUNTIF(AG7:AG31,"P")+COUNTIF(AG7:AG31,"L"))
B34: KEY | C34: P | D34: Present | G34: L | H34: Late | K34: A | L34: Absent | O34: E | P34: Excused | S34: S | T34: Sick | W34: V | X34: Vacation | AA34: H | AB34: Holiday | AH34: Rate = (P + L) ÷ marked days, holidays excluded
B36: Free template from niftyshelf.com · free for personal & commercial use

Sheet Oct
A1: =DATE(2027,10,1)
B2: October 2027 | AH2: =Jan!AH2
B3: Monthly attendance — P present · L late · A absent · E excused · S sick · V vacation · H holiday
B5: NAME | C5: =IF(MONTH($A$1+0)=10,DAY($A$1+0),"") | D5: =IF(MONTH($A$1+1)=10,DAY($A$1+1),"") | E5: =IF(MONTH($A$1+2)=10,DAY($A$1+2),"") | F5: =IF(MONTH($A$1+3)=10,DAY($A$1+3),"") | G5: =IF(MONTH($A$1+4)=10,DAY($A$1+4),"") | H5: =IF(MONTH($A$1+5)=10,DAY($A$1+5),"") | I5: =IF(MONTH($A$1+6)=10,DAY($A$1+6),"") | J5: =IF(MONTH($A$1+7)=10,DAY($A$1+7),"") | K5: =IF(MONTH($A$1+8)=10,DAY($A$1+8),"") | L5: =IF(MONTH($A$1+9)=10,DAY($A$1+9),"") | M5: =IF(MONTH($A$1+10)=10,DAY($A$1+10),"") | N5: =IF(MONTH($A$1+11)=10,DAY($A$1+11),"") | O5: =IF(MONTH($A$1+12)=10,DAY($A$1+12),"") | P5: =IF(MONTH($A$1+13)=10,DAY($A$1+13),"") | Q5: =IF(MONTH($A$1+14)=10,DAY($A$1+14),"") | R5: =IF(MONTH($A$1+15)=10,DAY($A$1+15),"") | S5: =IF(MONTH($A$1+16)=10,DAY($A$1+16),"") | T5: =IF(MONTH($A$1+17)=10,DAY($A$1+17),"") | U5: =IF(MONTH($A$1+18)=10,DAY($A$1+18),"") | V5: =IF(MONTH($A$1+19)=10,DAY($A$1+19),"") | W5: =IF(MONTH($A$1+20)=10,DAY($A$1+20),"") | X5: =IF(MONTH($A$1+21)=10,DAY($A$1+21),"") | Y5: =IF(MONTH($A$1+22)=10,DAY($A$1+22),"") | Z5: =IF(MONTH($A$1+23)=10,DAY($A$1+23),"") | AA5: =IF(MONTH($A$1+24)=10,DAY($A$1+24),"") | AB5: =IF(MONTH($A$1+25)=10,DAY($A$1+25),"") | AC5: =IF(MONTH($A$1+26)=10,DAY($A$1+26),"") | AD5: =IF(MONTH($A$1+27)=10,DAY($A$1+27),"") | AE5: =IF(MONTH($A$1+28)=10,DAY($A$1+28),"") | AF5: =IF(MONTH($A$1+29)=10,DAY($A$1+29),"") | AG5: =IF(MONTH($A$1+30)=10,DAY($A$1+30),"") | AH5: P | AI5: L | AJ5: A | AK5: E | AL5: S | AM5: V | AN5: RATE
C6: =IF(C5="","",CHOOSE(WEEKDAY($A$1+0),"Sun","Mon","Tue","Wed","Thu","Fri","Sat")) | D6: =IF(D5="","",CHOOSE(WEEKDAY($A$1+1),"Sun","Mon","Tue","Wed","Thu","Fri","Sat")) | E6: =IF(E5="","",CHOOSE(WEEKDAY($A$1+2),"Sun","Mon","Tue","Wed","Thu","Fri","Sat")) | F6: =IF(F5="","",CHOOSE(WEEKDAY($A$1+3),"Sun","Mon","Tue","Wed","Thu","Fri","Sat")) | G6: =IF(G5="","",CHOOSE(WEEKDAY($A$1+4),"Sun","Mon","Tue","Wed","Thu","Fri","Sat")) | H6: =IF(H5="","",CHOOSE(WEEKDAY($A$1+5),"Sun","Mon","Tue","Wed","Thu","Fri","Sat")) | I6: =IF(I5="","",CHOOSE(WEEKDAY($A$1+6),"Sun","Mon","Tue","Wed","Thu","Fri","Sat")) | J6: =IF(J5="","",CHOOSE(WEEKDAY($A$1+7),"Sun","Mon","Tue","Wed","Thu","Fri","Sat")) | K6: =IF(K5="","",CHOOSE(WEEKDAY($A$1+8),"Sun","Mon","Tue","Wed","Thu","Fri","Sat")) | L6: =IF(L5="","",CHOOSE(WEEKDAY($A$1+9),"Sun","Mon","Tue","Wed","Thu","Fri","Sat")) | M6: =IF(M5="","",CHOOSE(WEEKDAY($A$1+10),"Sun","Mon","Tue","Wed","Thu","Fri","Sat")) | N6: =IF(N5="","",CHOOSE(WEEKDAY($A$1+11),"Sun","Mon","Tue","Wed","Thu","Fri","Sat")) | O6: =IF(O5="","",CHOOSE(WEEKDAY($A$1+12),"Sun","Mon","Tue","Wed","Thu","Fri","Sat")) | P6: =IF(P5="","",CHOOSE(WEEKDAY($A$1+13),"Sun","Mon","Tue","Wed","Thu","Fri","Sat")) | Q6: =IF(Q5="","",CHOOSE(WEEKDAY($A$1+14),"Sun","Mon","Tue","Wed","Thu","Fri","Sat")) | R6: =IF(R5="","",CHOOSE(WEEKDAY($A$1+15),"Sun","Mon","Tue","Wed","Thu","Fri","Sat")) | S6: =IF(S5="","",CHOOSE(WEEKDAY($A$1+16),"Sun","Mon","Tue","Wed","Thu","Fri","Sat")) | T6: =IF(T5="","",CHOOSE(WEEKDAY($A$1+17),"Sun","Mon","Tue","Wed","Thu","Fri","Sat")) | U6: =IF(U5="","",CHOOSE(WEEKDAY($A$1+18),"Sun","Mon","Tue","Wed","Thu","Fri","Sat")) | V6: =IF(V5="","",CHOOSE(WEEKDAY($A$1+19),"Sun","Mon","Tue","Wed","Thu","Fri","Sat")) | W6: =IF(W5="","",CHOOSE(WEEKDAY($A$1+20),"Sun","Mon","Tue","Wed","Thu","Fri","Sat")) | X6: =IF(X5="","",CHOOSE(WEEKDAY($A$1+21),"Sun","Mon","Tue","Wed","Thu","Fri","Sat")) | Y6: =IF(Y5="","",CHOOSE(WEEKDAY($A$1+22),"Sun","Mon","Tue","Wed","Thu","Fri","Sat")) | Z6: =IF(Z5="","",CHOOSE(WEEKDAY($A$1+23),"Sun","Mon","Tue","Wed","Thu","Fri","Sat")) | AA6: =IF(AA5="","",CHOOSE(WEEKDAY($A$1+24),"Sun","Mon","Tue","Wed","Thu","Fri","Sat")) | AB6: =IF(AB5="","",CHOOSE(WEEKDAY($A$1+25),"Sun","Mon","Tue","Wed","Thu","Fri","Sat")) | AC6: =IF(AC5="","",CHOOSE(WEEKDAY($A$1+26),"Sun","Mon","Tue","Wed","Thu","Fri","Sat")) | AD6: =IF(AD5="","",CHOOSE(WEEKDAY($A$1+27),"Sun","Mon","Tue","Wed","Thu","Fri","Sat")) | AE6: =IF(AE5="","",CHOOSE(WEEKDAY($A$1+28),"Sun","Mon","Tue","Wed","Thu","Fri","Sat")) | AF6: =IF(AF5="","",CHOOSE(WEEKDAY($A$1+29),"Sun","Mon","Tue","Wed","Thu","Fri","Sat")) | AG6: =IF(AG5="","",CHOOSE(WEEKDAY($A$1+30),"Sun","Mon","Tue","Wed","Thu","Fri","Sat"))
B7: =IF(Jan!B7="","",Jan!B7) | AH7: =IF($B7="","",COUNTIF($C7:$AG7,"P")) | AI7: =IF($B7="","",COUNTIF($C7:$AG7,"L")) | AJ7: =IF($B7="","",COUNTIF($C7:$AG7,"A")) | AK7: =IF($B7="","",COUNTIF($C7:$AG7,"E")) | AL7: =IF($B7="","",COUNTIF($C7:$AG7,"S")) | AM7: =IF($B7="","",COUNTIF($C7:$AG7,"V")) | AN7: =IF(COUNTA($C7:$AG7)-COUNTIF($C7:$AG7,"H")=0,"",(AH7+AI7)/(COUNTA($C7:$AG7)-COUNTIF($C7:$AG7,"H")))
B8: =IF(Jan!B8="","",Jan!B8) | AH8: =IF($B8="","",COUNTIF($C8:$AG8,"P")) | AI8: =IF($B8="","",COUNTIF($C8:$AG8,"L")) | AJ8: =IF($B8="","",COUNTIF($C8:$AG8,"A")) | AK8: =IF($B8="","",COUNTIF($C8:$AG8,"E")) | AL8: =IF($B8="","",COUNTIF($C8:$AG8,"S")) | AM8: =IF($B8="","",COUNTIF($C8:$AG8,"V")) | AN8: =IF(COUNTA($C8:$AG8)-COUNTIF($C8:$AG8,"H")=0,"",(AH8+AI8)/(COUNTA($C8:$AG8)-COUNTIF($C8:$AG8,"H")))
B9: =IF(Jan!B9="","",Jan!B9) | AH9: =IF($B9="","",COUNTIF($C9:$AG9,"P")) | AI9: =IF($B9="","",COUNTIF($C9:$AG9,"L")) | AJ9: =IF($B9="","",COUNTIF($C9:$AG9,"A")) | AK9: =IF($B9="","",COUNTIF($C9:$AG9,"E")) | AL9: =IF($B9="","",COUNTIF($C9:$AG9,"S")) | AM9: =IF($B9="","",COUNTIF($C9:$AG9,"V")) | AN9: =IF(COUNTA($C9:$AG9)-COUNTIF($C9:$AG9,"H")=0,"",(AH9+AI9)/(COUNTA($C9:$AG9)-COUNTIF($C9:$AG9,"H")))
B10: =IF(Jan!B10="","",Jan!B10) | AH10: =IF($B10="","",COUNTIF($C10:$AG10,"P")) | AI10: =IF($B10="","",COUNTIF($C10:$AG10,"L")) | AJ10: =IF($B10="","",COUNTIF($C10:$AG10,"A")) | AK10: =IF($B10="","",COUNTIF($C10:$AG10,"E")) | AL10: =IF($B10="","",COUNTIF($C10:$AG10,"S")) | AM10: =IF($B10="","",COUNTIF($C10:$AG10,"V")) | AN10: =IF(COUNTA($C10:$AG10)-COUNTIF($C10:$AG10,"H")=0,"",(AH10+AI10)/(COUNTA($C10:$AG10)-COUNTIF($C10:$AG10,"H")))
B11: =IF(Jan!B11="","",Jan!B11) | AH11: =IF($B11="","",COUNTIF($C11:$AG11,"P")) | AI11: =IF($B11="","",COUNTIF($C11:$AG11,"L")) | AJ11: =IF($B11="","",COUNTIF($C11:$AG11,"A")) | AK11: =IF($B11="","",COUNTIF($C11:$AG11,"E")) | AL11: =IF($B11="","",COUNTIF($C11:$AG11,"S")) | AM11: =IF($B11="","",COUNTIF($C11:$AG11,"V")) | AN11: =IF(COUNTA($C11:$AG11)-COUNTIF($C11:$AG11,"H")=0,"",(AH11+AI11)/(COUNTA($C11:$AG11)-COUNTIF($C11:$AG11,"H")))
B12: =IF(Jan!B12="","",Jan!B12) | AH12: =IF($B12="","",COUNTIF($C12:$AG12,"P")) | AI12: =IF($B12="","",COUNTIF($C12:$AG12,"L")) | AJ12: =IF($B12="","",COUNTIF($C12:$AG12,"A")) | AK12: =IF($B12="","",COUNTIF($C12:$AG12,"E")) | AL12: =IF($B12="","",COUNTIF($C12:$AG12,"S")) | AM12: =IF($B12="","",COUNTIF($C12:$AG12,"V")) | AN12: =IF(COUNTA($C12:$AG12)-COUNTIF($C12:$AG12,"H")=0,"",(AH12+AI12)/(COUNTA($C12:$AG12)-COUNTIF($C12:$AG12,"H")))
B13: =IF(Jan!B13="","",Jan!B13) | AH13: =IF($B13="","",COUNTIF($C13:$AG13,"P")) | AI13: =IF($B13="","",COUNTIF($C13:$AG13,"L")) | AJ13: =IF($B13="","",COUNTIF($C13:$AG13,"A")) | AK13: =IF($B13="","",COUNTIF($C13:$AG13,"E")) | AL13: =IF($B13="","",COUNTIF($C13:$AG13,"S")) | AM13: =IF($B13="","",COUNTIF($C13:$AG13,"V")) | AN13: =IF(COUNTA($C13:$AG13)-COUNTIF($C13:$AG13,"H")=0,"",(AH13+AI13)/(COUNTA($C13:$AG13)-COUNTIF($C13:$AG13,"H")))
B14: =IF(Jan!B14="","",Jan!B14) | AH14: =IF($B14="","",COUNTIF($C14:$AG14,"P")) | AI14: =IF($B14="","",COUNTIF($C14:$AG14,"L")) | AJ14: =IF($B14="","",COUNTIF($C14:$AG14,"A")) | AK14: =IF($B14="","",COUNTIF($C14:$AG14,"E")) | AL14: =IF($B14="","",COUNTIF($C14:$AG14,"S")) | AM14: =IF($B14="","",COUNTIF($C14:$AG14,"V")) | AN14: =IF(COUNTA($C14:$AG14)-COUNTIF($C14:$AG14,"H")=0,"",(AH14+AI14)/(COUNTA($C14:$AG14)-COUNTIF($C14:$AG14,"H")))
B15: =IF(Jan!B15="","",Jan!B15) | AH15: =IF($B15="","",COUNTIF($C15:$AG15,"P")) | AI15: =IF($B15="","",COUNTIF($C15:$AG15,"L")) | AJ15: =IF($B15="","",COUNTIF($C15:$AG15,"A")) | AK15: =IF($B15="","",COUNTIF($C15:$AG15,"E")) | AL15: =IF($B15="","",COUNTIF($C15:$AG15,"S")) | AM15: =IF($B15="","",COUNTIF($C15:$AG15,"V")) | AN15: =IF(COUNTA($C15:$AG15)-COUNTIF($C15:$AG15,"H")=0,"",(AH15+AI15)/(COUNTA($C15:$AG15)-COUNTIF($C15:$AG15,"H")))
B16: =IF(Jan!B16="","",Jan!B16) | AH16: =IF($B16="","",COUNTIF($C16:$AG16,"P")) | AI16: =IF($B16="","",COUNTIF($C16:$AG16,"L")) | AJ16: =IF($B16="","",COUNTIF($C16:$AG16,"A")) | AK16: =IF($B16="","",COUNTIF($C16:$AG16,"E")) | AL16: =IF($B16="","",COUNTIF($C16:$AG16,"S")) | AM16: =IF($B16="","",COUNTIF($C16:$AG16,"V")) | AN16: =IF(COUNTA($C16:$AG16)-COUNTIF($C16:$AG16,"H")=0,"",(AH16+AI16)/(COUNTA($C16:$AG16)-COUNTIF($C16:$AG16,"H")))
B17: =IF(Jan!B17="","",Jan!B17) | AH17: =IF($B17="","",COUNTIF($C17:$AG17,"P")) | AI17: =IF($B17="","",COUNTIF($C17:$AG17,"L")) | AJ17: =IF($B17="","",COUNTIF($C17:$AG17,"A")) | AK17: =IF($B17="","",COUNTIF($C17:$AG17,"E")) | AL17: =IF($B17="","",COUNTIF($C17:$AG17,"S")) | AM17: =IF($B17="","",COUNTIF($C17:$AG17,"V")) | AN17: =IF(COUNTA($C17:$AG17)-COUNTIF($C17:$AG17,"H")=0,"",(AH17+AI17)/(COUNTA($C17:$AG17)-COUNTIF($C17:$AG17,"H")))
B18: =IF(Jan!B18="","",Jan!B18) | AH18: =IF($B18="","",COUNTIF($C18:$AG18,"P")) | AI18: =IF($B18="","",COUNTIF($C18:$AG18,"L")) | AJ18: =IF($B18="","",COUNTIF($C18:$AG18,"A")) | AK18: =IF($B18="","",COUNTIF($C18:$AG18,"E")) | AL18: =IF($B18="","",COUNTIF($C18:$AG18,"S")) | AM18: =IF($B18="","",COUNTIF($C18:$AG18,"V")) | AN18: =IF(COUNTA($C18:$AG18)-COUNTIF($C18:$AG18,"H")=0,"",(AH18+AI18)/(COUNTA($C18:$AG18)-COUNTIF($C18:$AG18,"H")))
... B31: =IF(Jan!B31="","",Jan!B31) | AH31: =IF($B31="","",COUNTIF($C31:$AG31,"P")) | AI31: =IF($B31="","",COUNTIF($C31:$AG31,"L")) | AJ31: =IF($B31="","",COUNTIF($C31:$AG31,"A")) | AK31: =IF($B31="","",COUNTIF($C31:$AG31,"E")) | AL31: =IF($B31="","",COUNTIF($C31:$AG31,"S")) | AM31: =IF($B31="","",COUNTIF($C31:$AG31,"V")) | AN31: =IF(COUNTA($C31:$AG31)-COUNTIF($C31:$AG31,"H")=0,"",(AH31+AI31)/(COUNTA($C31:$AG31)-COUNTIF($C31:$AG31,"H")))
B32: PRESENT (P+L) | C32: =IF(COUNTA(C7:C31)=0,"",COUNTIF(C7:C31,"P")+COUNTIF(C7:C31,"L")) | D32: =IF(COUNTA(D7:D31)=0,"",COUNTIF(D7:D31,"P")+COUNTIF(D7:D31,"L")) | E32: =IF(COUNTA(E7:E31)=0,"",COUNTIF(E7:E31,"P")+COUNTIF(E7:E31,"L")) | F32: =IF(COUNTA(F7:F31)=0,"",COUNTIF(F7:F31,"P")+COUNTIF(F7:F31,"L")) | G32: =IF(COUNTA(G7:G31)=0,"",COUNTIF(G7:G31,"P")+COUNTIF(G7:G31,"L")) | H32: =IF(COUNTA(H7:H31)=0,"",COUNTIF(H7:H31,"P")+COUNTIF(H7:H31,"L")) | I32: =IF(COUNTA(I7:I31)=0,"",COUNTIF(I7:I31,"P")+COUNTIF(I7:I31,"L")) | J32: =IF(COUNTA(J7:J31)=0,"",COUNTIF(J7:J31,"P")+COUNTIF(J7:J31,"L")) | ... AG32: =IF(COUNTA(AG7:AG31)=0,"",COUNTIF(AG7:AG31,"P")+COUNTIF(AG7:AG31,"L"))
B34: KEY | C34: P | D34: Present | G34: L | H34: Late | K34: A | L34: Absent | O34: E | P34: Excused | S34: S | T34: Sick | W34: V | X34: Vacation | AA34: H | AB34: Holiday | AH34: Rate = (P + L) ÷ marked days, holidays excluded
B36: Free template from niftyshelf.com · free for personal & commercial use

Sheet Nov
A1: =DATE(2027,11,1)
B2: November 2027 | AH2: =Jan!AH2
B3: Monthly attendance — P present · L late · A absent · E excused · S sick · V vacation · H holiday
B5: NAME | C5: =IF(MONTH($A$1+0)=11,DAY($A$1+0),"") | D5: =IF(MONTH($A$1+1)=11,DAY($A$1+1),"") | E5: =IF(MONTH($A$1+2)=11,DAY($A$1+2),"") | F5: =IF(MONTH($A$1+3)=11,DAY($A$1+3),"") | G5: =IF(MONTH($A$1+4)=11,DAY($A$1+4),"") | H5: =IF(MONTH($A$1+5)=11,DAY($A$1+5),"") | I5: =IF(MONTH($A$1+6)=11,DAY($A$1+6),"") | J5: =IF(MONTH($A$1+7)=11,DAY($A$1+7),"") | K5: =IF(MONTH($A$1+8)=11,DAY($A$1+8),"") | L5: =IF(MONTH($A$1+9)=11,DAY($A$1+9),"") | M5: =IF(MONTH($A$1+10)=11,DAY($A$1+10),"") | N5: =IF(MONTH($A$1+11)=11,DAY($A$1+11),"") | O5: =IF(MONTH($A$1+12)=11,DAY($A$1+12),"") | P5: =IF(MONTH($A$1+13)=11,DAY($A$1+13),"") | Q5: =IF(MONTH($A$1+14)=11,DAY($A$1+14),"") | R5: =IF(MONTH($A$1+15)=11,DAY($A$1+15),"") | S5: =IF(MONTH($A$1+16)=11,DAY($A$1+16),"") | T5: =IF(MONTH($A$1+17)=11,DAY($A$1+17),"") | U5: =IF(MONTH($A$1+18)=11,DAY($A$1+18),"") | V5: =IF(MONTH($A$1+19)=11,DAY($A$1+19),"") | W5: =IF(MONTH($A$1+20)=11,DAY($A$1+20),"") | X5: =IF(MONTH($A$1+21)=11,DAY($A$1+21),"") | Y5: =IF(MONTH($A$1+22)=11,DAY($A$1+22),"") | Z5: =IF(MONTH($A$1+23)=11,DAY($A$1+23),"") | AA5: =IF(MONTH($A$1+24)=11,DAY($A$1+24),"") | AB5: =IF(MONTH($A$1+25)=11,DAY($A$1+25),"") | AC5: =IF(MONTH($A$1+26)=11,DAY($A$1+26),"") | AD5: =IF(MONTH($A$1+27)=11,DAY($A$1+27),"") | AE5: =IF(MONTH($A$1+28)=11,DAY($A$1+28),"") | AF5: =IF(MONTH($A$1+29)=11,DAY($A$1+29),"") | AG5: =IF(MONTH($A$1+30)=11,DAY($A$1+30),"") | AH5: P | AI5: L | AJ5: A | AK5: E | AL5: S | AM5: V | AN5: RATE
C6: =IF(C5="","",CHOOSE(WEEKDAY($A$1+0),"Sun","Mon","Tue","Wed","Thu","Fri","Sat")) | D6: =IF(D5="","",CHOOSE(WEEKDAY($A$1+1),"Sun","Mon","Tue","Wed","Thu","Fri","Sat")) | E6: =IF(E5="","",CHOOSE(WEEKDAY($A$1+2),"Sun","Mon","Tue","Wed","Thu","Fri","Sat")) | F6: =IF(F5="","",CHOOSE(WEEKDAY($A$1+3),"Sun","Mon","Tue","Wed","Thu","Fri","Sat")) | G6: =IF(G5="","",CHOOSE(WEEKDAY($A$1+4),"Sun","Mon","Tue","Wed","Thu","Fri","Sat")) | H6: =IF(H5="","",CHOOSE(WEEKDAY($A$1+5),"Sun","Mon","Tue","Wed","Thu","Fri","Sat")) | I6: =IF(I5="","",CHOOSE(WEEKDAY($A$1+6),"Sun","Mon","Tue","Wed","Thu","Fri","Sat")) | J6: =IF(J5="","",CHOOSE(WEEKDAY($A$1+7),"Sun","Mon","Tue","Wed","Thu","Fri","Sat")) | K6: =IF(K5="","",CHOOSE(WEEKDAY($A$1+8),"Sun","Mon","Tue","Wed","Thu","Fri","Sat")) | L6: =IF(L5="","",CHOOSE(WEEKDAY($A$1+9),"Sun","Mon","Tue","Wed","Thu","Fri","Sat")) | M6: =IF(M5="","",CHOOSE(WEEKDAY($A$1+10),"Sun","Mon","Tue","Wed","Thu","Fri","Sat")) | N6: =IF(N5="","",CHOOSE(WEEKDAY($A$1+11),"Sun","Mon","Tue","Wed","Thu","Fri","Sat")) | O6: =IF(O5="","",CHOOSE(WEEKDAY($A$1+12),"Sun","Mon","Tue","Wed","Thu","Fri","Sat")) | P6: =IF(P5="","",CHOOSE(WEEKDAY($A$1+13),"Sun","Mon","Tue","Wed","Thu","Fri","Sat")) | Q6: =IF(Q5="","",CHOOSE(WEEKDAY($A$1+14),"Sun","Mon","Tue","Wed","Thu","Fri","Sat")) | R6: =IF(R5="","",CHOOSE(WEEKDAY($A$1+15),"Sun","Mon","Tue","Wed","Thu","Fri","Sat")) | S6: =IF(S5="","",CHOOSE(WEEKDAY($A$1+16),"Sun","Mon","Tue","Wed","Thu","Fri","Sat")) | T6: =IF(T5="","",CHOOSE(WEEKDAY($A$1+17),"Sun","Mon","Tue","Wed","Thu","Fri","Sat")) | U6: =IF(U5="","",CHOOSE(WEEKDAY($A$1+18),"Sun","Mon","Tue","Wed","Thu","Fri","Sat")) | V6: =IF(V5="","",CHOOSE(WEEKDAY($A$1+19),"Sun","Mon","Tue","Wed","Thu","Fri","Sat")) | W6: =IF(W5="","",CHOOSE(WEEKDAY($A$1+20),"Sun","Mon","Tue","Wed","Thu","Fri","Sat")) | X6: =IF(X5="","",CHOOSE(WEEKDAY($A$1+21),"Sun","Mon","Tue","Wed","Thu","Fri","Sat")) | Y6: =IF(Y5="","",CHOOSE(WEEKDAY($A$1+22),"Sun","Mon","Tue","Wed","Thu","Fri","Sat")) | Z6: =IF(Z5="","",CHOOSE(WEEKDAY($A$1+23),"Sun","Mon","Tue","Wed","Thu","Fri","Sat")) | AA6: =IF(AA5="","",CHOOSE(WEEKDAY($A$1+24),"Sun","Mon","Tue","Wed","Thu","Fri","Sat")) | AB6: =IF(AB5="","",CHOOSE(WEEKDAY($A$1+25),"Sun","Mon","Tue","Wed","Thu","Fri","Sat")) | AC6: =IF(AC5="","",CHOOSE(WEEKDAY($A$1+26),"Sun","Mon","Tue","Wed","Thu","Fri","Sat")) | AD6: =IF(AD5="","",CHOOSE(WEEKDAY($A$1+27),"Sun","Mon","Tue","Wed","Thu","Fri","Sat")) | AE6: =IF(AE5="","",CHOOSE(WEEKDAY($A$1+28),"Sun","Mon","Tue","Wed","Thu","Fri","Sat")) | AF6: =IF(AF5="","",CHOOSE(WEEKDAY($A$1+29),"Sun","Mon","Tue","Wed","Thu","Fri","Sat")) | AG6: =IF(AG5="","",CHOOSE(WEEKDAY($A$1+30),"Sun","Mon","Tue","Wed","Thu","Fri","Sat"))
B7: =IF(Jan!B7="","",Jan!B7) | AH7: =IF($B7="","",COUNTIF($C7:$AG7,"P")) | AI7: =IF($B7="","",COUNTIF($C7:$AG7,"L")) | AJ7: =IF($B7="","",COUNTIF($C7:$AG7,"A")) | AK7: =IF($B7="","",COUNTIF($C7:$AG7,"E")) | AL7: =IF($B7="","",COUNTIF($C7:$AG7,"S")) | AM7: =IF($B7="","",COUNTIF($C7:$AG7,"V")) | AN7: =IF(COUNTA($C7:$AG7)-COUNTIF($C7:$AG7,"H")=0,"",(AH7+AI7)/(COUNTA($C7:$AG7)-COUNTIF($C7:$AG7,"H")))
B8: =IF(Jan!B8="","",Jan!B8) | AH8: =IF($B8="","",COUNTIF($C8:$AG8,"P")) | AI8: =IF($B8="","",COUNTIF($C8:$AG8,"L")) | AJ8: =IF($B8="","",COUNTIF($C8:$AG8,"A")) | AK8: =IF($B8="","",COUNTIF($C8:$AG8,"E")) | AL8: =IF($B8="","",COUNTIF($C8:$AG8,"S")) | AM8: =IF($B8="","",COUNTIF($C8:$AG8,"V")) | AN8: =IF(COUNTA($C8:$AG8)-COUNTIF($C8:$AG8,"H")=0,"",(AH8+AI8)/(COUNTA($C8:$AG8)-COUNTIF($C8:$AG8,"H")))
B9: =IF(Jan!B9="","",Jan!B9) | AH9: =IF($B9="","",COUNTIF($C9:$AG9,"P")) | AI9: =IF($B9="","",COUNTIF($C9:$AG9,"L")) | AJ9: =IF($B9="","",COUNTIF($C9:$AG9,"A")) | AK9: =IF($B9="","",COUNTIF($C9:$AG9,"E")) | AL9: =IF($B9="","",COUNTIF($C9:$AG9,"S")) | AM9: =IF($B9="","",COUNTIF($C9:$AG9,"V")) | AN9: =IF(COUNTA($C9:$AG9)-COUNTIF($C9:$AG9,"H")=0,"",(AH9+AI9)/(COUNTA($C9:$AG9)-COUNTIF($C9:$AG9,"H")))
B10: =IF(Jan!B10="","",Jan!B10) | AH10: =IF($B10="","",COUNTIF($C10:$AG10,"P")) | AI10: =IF($B10="","",COUNTIF($C10:$AG10,"L")) | AJ10: =IF($B10="","",COUNTIF($C10:$AG10,"A")) | AK10: =IF($B10="","",COUNTIF($C10:$AG10,"E")) | AL10: =IF($B10="","",COUNTIF($C10:$AG10,"S")) | AM10: =IF($B10="","",COUNTIF($C10:$AG10,"V")) | AN10: =IF(COUNTA($C10:$AG10)-COUNTIF($C10:$AG10,"H")=0,"",(AH10+AI10)/(COUNTA($C10:$AG10)-COUNTIF($C10:$AG10,"H")))
B11: =IF(Jan!B11="","",Jan!B11) | AH11: =IF($B11="","",COUNTIF($C11:$AG11,"P")) | AI11: =IF($B11="","",COUNTIF($C11:$AG11,"L")) | AJ11: =IF($B11="","",COUNTIF($C11:$AG11,"A")) | AK11: =IF($B11="","",COUNTIF($C11:$AG11,"E")) | AL11: =IF($B11="","",COUNTIF($C11:$AG11,"S")) | AM11: =IF($B11="","",COUNTIF($C11:$AG11,"V")) | AN11: =IF(COUNTA($C11:$AG11)-COUNTIF($C11:$AG11,"H")=0,"",(AH11+AI11)/(COUNTA($C11:$AG11)-COUNTIF($C11:$AG11,"H")))
B12: =IF(Jan!B12="","",Jan!B12) | AH12: =IF($B12="","",COUNTIF($C12:$AG12,"P")) | AI12: =IF($B12="","",COUNTIF($C12:$AG12,"L")) | AJ12: =IF($B12="","",COUNTIF($C12:$AG12,"A")) | AK12: =IF($B12="","",COUNTIF($C12:$AG12,"E")) | AL12: =IF($B12="","",COUNTIF($C12:$AG12,"S")) | AM12: =IF($B12="","",COUNTIF($C12:$AG12,"V")) | AN12: =IF(COUNTA($C12:$AG12)-COUNTIF($C12:$AG12,"H")=0,"",(AH12+AI12)/(COUNTA($C12:$AG12)-COUNTIF($C12:$AG12,"H")))
B13: =IF(Jan!B13="","",Jan!B13) | AH13: =IF($B13="","",COUNTIF($C13:$AG13,"P")) | AI13: =IF($B13="","",COUNTIF($C13:$AG13,"L")) | AJ13: =IF($B13="","",COUNTIF($C13:$AG13,"A")) | AK13: =IF($B13="","",COUNTIF($C13:$AG13,"E")) | AL13: =IF($B13="","",COUNTIF($C13:$AG13,"S")) | AM13: =IF($B13="","",COUNTIF($C13:$AG13,"V")) | AN13: =IF(COUNTA($C13:$AG13)-COUNTIF($C13:$AG13,"H")=0,"",(AH13+AI13)/(COUNTA($C13:$AG13)-COUNTIF($C13:$AG13,"H")))
B14: =IF(Jan!B14="","",Jan!B14) | AH14: =IF($B14="","",COUNTIF($C14:$AG14,"P")) | AI14: =IF($B14="","",COUNTIF($C14:$AG14,"L")) | AJ14: =IF($B14="","",COUNTIF($C14:$AG14,"A")) | AK14: =IF($B14="","",COUNTIF($C14:$AG14,"E")) | AL14: =IF($B14="","",COUNTIF($C14:$AG14,"S")) | AM14: =IF($B14="","",COUNTIF($C14:$AG14,"V")) | AN14: =IF(COUNTA($C14:$AG14)-COUNTIF($C14:$AG14,"H")=0,"",(AH14+AI14)/(COUNTA($C14:$AG14)-COUNTIF($C14:$AG14,"H")))
B15: =IF(Jan!B15="","",Jan!B15) | AH15: =IF($B15="","",COUNTIF($C15:$AG15,"P")) | AI15: =IF($B15="","",COUNTIF($C15:$AG15,"L")) | AJ15: =IF($B15="","",COUNTIF($C15:$AG15,"A")) | AK15: =IF($B15="","",COUNTIF($C15:$AG15,"E")) | AL15: =IF($B15="","",COUNTIF($C15:$AG15,"S")) | AM15: =IF($B15="","",COUNTIF($C15:$AG15,"V")) | AN15: =IF(COUNTA($C15:$AG15)-COUNTIF($C15:$AG15,"H")=0,"",(AH15+AI15)/(COUNTA($C15:$AG15)-COUNTIF($C15:$AG15,"H")))
B16: =IF(Jan!B16="","",Jan!B16) | AH16: =IF($B16="","",COUNTIF($C16:$AG16,"P")) | AI16: =IF($B16="","",COUNTIF($C16:$AG16,"L")) | AJ16: =IF($B16="","",COUNTIF($C16:$AG16,"A")) | AK16: =IF($B16="","",COUNTIF($C16:$AG16,"E")) | AL16: =IF($B16="","",COUNTIF($C16:$AG16,"S")) | AM16: =IF($B16="","",COUNTIF($C16:$AG16,"V")) | AN16: =IF(COUNTA($C16:$AG16)-COUNTIF($C16:$AG16,"H")=0,"",(AH16+AI16)/(COUNTA($C16:$AG16)-COUNTIF($C16:$AG16,"H")))
B17: =IF(Jan!B17="","",Jan!B17) | AH17: =IF($B17="","",COUNTIF($C17:$AG17,"P")) | AI17: =IF($B17="","",COUNTIF($C17:$AG17,"L")) | AJ17: =IF($B17="","",COUNTIF($C17:$AG17,"A")) | AK17: =IF($B17="","",COUNTIF($C17:$AG17,"E")) | AL17: =IF($B17="","",COUNTIF($C17:$AG17,"S")) | AM17: =IF($B17="","",COUNTIF($C17:$AG17,"V")) | AN17: =IF(COUNTA($C17:$AG17)-COUNTIF($C17:$AG17,"H")=0,"",(AH17+AI17)/(COUNTA($C17:$AG17)-COUNTIF($C17:$AG17,"H")))
B18: =IF(Jan!B18="","",Jan!B18) | AH18: =IF($B18="","",COUNTIF($C18:$AG18,"P")) | AI18: =IF($B18="","",COUNTIF($C18:$AG18,"L")) | AJ18: =IF($B18="","",COUNTIF($C18:$AG18,"A")) | AK18: =IF($B18="","",COUNTIF($C18:$AG18,"E")) | AL18: =IF($B18="","",COUNTIF($C18:$AG18,"S")) | AM18: =IF($B18="","",COUNTIF($C18:$AG18,"V")) | AN18: =IF(COUNTA($C18:$AG18)-COUNTIF($C18:$AG18,"H")=0,"",(AH18+AI18)/(COUNTA($C18:$AG18)-COUNTIF($C18:$AG18,"H")))
... B31: =IF(Jan!B31="","",Jan!B31) | AH31: =IF($B31="","",COUNTIF($C31:$AG31,"P")) | AI31: =IF($B31="","",COUNTIF($C31:$AG31,"L")) | AJ31: =IF($B31="","",COUNTIF($C31:$AG31,"A")) | AK31: =IF($B31="","",COUNTIF($C31:$AG31,"E")) | AL31: =IF($B31="","",COUNTIF($C31:$AG31,"S")) | AM31: =IF($B31="","",COUNTIF($C31:$AG31,"V")) | AN31: =IF(COUNTA($C31:$AG31)-COUNTIF($C31:$AG31,"H")=0,"",(AH31+AI31)/(COUNTA($C31:$AG31)-COUNTIF($C31:$AG31,"H")))
B32: PRESENT (P+L) | C32: =IF(COUNTA(C7:C31)=0,"",COUNTIF(C7:C31,"P")+COUNTIF(C7:C31,"L")) | D32: =IF(COUNTA(D7:D31)=0,"",COUNTIF(D7:D31,"P")+COUNTIF(D7:D31,"L")) | E32: =IF(COUNTA(E7:E31)=0,"",COUNTIF(E7:E31,"P")+COUNTIF(E7:E31,"L")) | F32: =IF(COUNTA(F7:F31)=0,"",COUNTIF(F7:F31,"P")+COUNTIF(F7:F31,"L")) | G32: =IF(COUNTA(G7:G31)=0,"",COUNTIF(G7:G31,"P")+COUNTIF(G7:G31,"L")) | H32: =IF(COUNTA(H7:H31)=0,"",COUNTIF(H7:H31,"P")+COUNTIF(H7:H31,"L")) | I32: =IF(COUNTA(I7:I31)=0,"",COUNTIF(I7:I31,"P")+COUNTIF(I7:I31,"L")) | J32: =IF(COUNTA(J7:J31)=0,"",COUNTIF(J7:J31,"P")+COUNTIF(J7:J31,"L")) | ... AG32: =IF(COUNTA(AG7:AG31)=0,"",COUNTIF(AG7:AG31,"P")+COUNTIF(AG7:AG31,"L"))
B34: KEY | C34: P | D34: Present | G34: L | H34: Late | K34: A | L34: Absent | O34: E | P34: Excused | S34: S | T34: Sick | W34: V | X34: Vacation | AA34: H | AB34: Holiday | AH34: Rate = (P + L) ÷ marked days, holidays excluded
B36: Free template from niftyshelf.com · free for personal & commercial use

Sheet Dec
A1: =DATE(2027,12,1)
B2: December 2027 | AH2: =Jan!AH2
B3: Monthly attendance — P present · L late · A absent · E excused · S sick · V vacation · H holiday
B5: NAME | C5: =IF(MONTH($A$1+0)=12,DAY($A$1+0),"") | D5: =IF(MONTH($A$1+1)=12,DAY($A$1+1),"") | E5: =IF(MONTH($A$1+2)=12,DAY($A$1+2),"") | F5: =IF(MONTH($A$1+3)=12,DAY($A$1+3),"") | G5: =IF(MONTH($A$1+4)=12,DAY($A$1+4),"") | H5: =IF(MONTH($A$1+5)=12,DAY($A$1+5),"") | I5: =IF(MONTH($A$1+6)=12,DAY($A$1+6),"") | J5: =IF(MONTH($A$1+7)=12,DAY($A$1+7),"") | K5: =IF(MONTH($A$1+8)=12,DAY($A$1+8),"") | L5: =IF(MONTH($A$1+9)=12,DAY($A$1+9),"") | M5: =IF(MONTH($A$1+10)=12,DAY($A$1+10),"") | N5: =IF(MONTH($A$1+11)=12,DAY($A$1+11),"") | O5: =IF(MONTH($A$1+12)=12,DAY($A$1+12),"") | P5: =IF(MONTH($A$1+13)=12,DAY($A$1+13),"") | Q5: =IF(MONTH($A$1+14)=12,DAY($A$1+14),"") | R5: =IF(MONTH($A$1+15)=12,DAY($A$1+15),"") | S5: =IF(MONTH($A$1+16)=12,DAY($A$1+16),"") | T5: =IF(MONTH($A$1+17)=12,DAY($A$1+17),"") | U5: =IF(MONTH($A$1+18)=12,DAY($A$1+18),"") | V5: =IF(MONTH($A$1+19)=12,DAY($A$1+19),"") | W5: =IF(MONTH($A$1+20)=12,DAY($A$1+20),"") | X5: =IF(MONTH($A$1+21)=12,DAY($A$1+21),"") | Y5: =IF(MONTH($A$1+22)=12,DAY($A$1+22),"") | Z5: =IF(MONTH($A$1+23)=12,DAY($A$1+23),"") | AA5: =IF(MONTH($A$1+24)=12,DAY($A$1+24),"") | AB5: =IF(MONTH($A$1+25)=12,DAY($A$1+25),"") | AC5: =IF(MONTH($A$1+26)=12,DAY($A$1+26),"") | AD5: =IF(MONTH($A$1+27)=12,DAY($A$1+27),"") | AE5: =IF(MONTH($A$1+28)=12,DAY($A$1+28),"") | AF5: =IF(MONTH($A$1+29)=12,DAY($A$1+29),"") | AG5: =IF(MONTH($A$1+30)=12,DAY($A$1+30),"") | AH5: P | AI5: L | AJ5: A | AK5: E | AL5: S | AM5: V | AN5: RATE
C6: =IF(C5="","",CHOOSE(WEEKDAY($A$1+0),"Sun","Mon","Tue","Wed","Thu","Fri","Sat")) | D6: =IF(D5="","",CHOOSE(WEEKDAY($A$1+1),"Sun","Mon","Tue","Wed","Thu","Fri","Sat")) | E6: =IF(E5="","",CHOOSE(WEEKDAY($A$1+2),"Sun","Mon","Tue","Wed","Thu","Fri","Sat")) | F6: =IF(F5="","",CHOOSE(WEEKDAY($A$1+3),"Sun","Mon","Tue","Wed","Thu","Fri","Sat")) | G6: =IF(G5="","",CHOOSE(WEEKDAY($A$1+4),"Sun","Mon","Tue","Wed","Thu","Fri","Sat")) | H6: =IF(H5="","",CHOOSE(WEEKDAY($A$1+5),"Sun","Mon","Tue","Wed","Thu","Fri","Sat")) | I6: =IF(I5="","",CHOOSE(WEEKDAY($A$1+6),"Sun","Mon","Tue","Wed","Thu","Fri","Sat")) | J6: =IF(J5="","",CHOOSE(WEEKDAY($A$1+7),"Sun","Mon","Tue","Wed","Thu","Fri","Sat")) | K6: =IF(K5="","",CHOOSE(WEEKDAY($A$1+8),"Sun","Mon","Tue","Wed","Thu","Fri","Sat")) | L6: =IF(L5="","",CHOOSE(WEEKDAY($A$1+9),"Sun","Mon","Tue","Wed","Thu","Fri","Sat")) | M6: =IF(M5="","",CHOOSE(WEEKDAY($A$1+10),"Sun","Mon","Tue","Wed","Thu","Fri","Sat")) | N6: =IF(N5="","",CHOOSE(WEEKDAY($A$1+11),"Sun","Mon","Tue","Wed","Thu","Fri","Sat")) | O6: =IF(O5="","",CHOOSE(WEEKDAY($A$1+12),"Sun","Mon","Tue","Wed","Thu","Fri","Sat")) | P6: =IF(P5="","",CHOOSE(WEEKDAY($A$1+13),"Sun","Mon","Tue","Wed","Thu","Fri","Sat")) | Q6: =IF(Q5="","",CHOOSE(WEEKDAY($A$1+14),"Sun","Mon","Tue","Wed","Thu","Fri","Sat")) | R6: =IF(R5="","",CHOOSE(WEEKDAY($A$1+15),"Sun","Mon","Tue","Wed","Thu","Fri","Sat")) | S6: =IF(S5="","",CHOOSE(WEEKDAY($A$1+16),"Sun","Mon","Tue","Wed","Thu","Fri","Sat")) | T6: =IF(T5="","",CHOOSE(WEEKDAY($A$1+17),"Sun","Mon","Tue","Wed","Thu","Fri","Sat")) | U6: =IF(U5="","",CHOOSE(WEEKDAY($A$1+18),"Sun","Mon","Tue","Wed","Thu","Fri","Sat")) | V6: =IF(V5="","",CHOOSE(WEEKDAY($A$1+19),"Sun","Mon","Tue","Wed","Thu","Fri","Sat")) | W6: =IF(W5="","",CHOOSE(WEEKDAY($A$1+20),"Sun","Mon","Tue","Wed","Thu","Fri","Sat")) | X6: =IF(X5="","",CHOOSE(WEEKDAY($A$1+21),"Sun","Mon","Tue","Wed","Thu","Fri","Sat")) | Y6: =IF(Y5="","",CHOOSE(WEEKDAY($A$1+22),"Sun","Mon","Tue","Wed","Thu","Fri","Sat")) | Z6: =IF(Z5="","",CHOOSE(WEEKDAY($A$1+23),"Sun","Mon","Tue","Wed","Thu","Fri","Sat")) | AA6: =IF(AA5="","",CHOOSE(WEEKDAY($A$1+24),"Sun","Mon","Tue","Wed","Thu","Fri","Sat")) | AB6: =IF(AB5="","",CHOOSE(WEEKDAY($A$1+25),"Sun","Mon","Tue","Wed","Thu","Fri","Sat")) | AC6: =IF(AC5="","",CHOOSE(WEEKDAY($A$1+26),"Sun","Mon","Tue","Wed","Thu","Fri","Sat")) | AD6: =IF(AD5="","",CHOOSE(WEEKDAY($A$1+27),"Sun","Mon","Tue","Wed","Thu","Fri","Sat")) | AE6: =IF(AE5="","",CHOOSE(WEEKDAY($A$1+28),"Sun","Mon","Tue","Wed","Thu","Fri","Sat")) | AF6: =IF(AF5="","",CHOOSE(WEEKDAY($A$1+29),"Sun","Mon","Tue","Wed","Thu","Fri","Sat")) | AG6: =IF(AG5="","",CHOOSE(WEEKDAY($A$1+30),"Sun","Mon","Tue","Wed","Thu","Fri","Sat"))
B7: =IF(Jan!B7="","",Jan!B7) | AH7: =IF($B7="","",COUNTIF($C7:$AG7,"P")) | AI7: =IF($B7="","",COUNTIF($C7:$AG7,"L")) | AJ7: =IF($B7="","",COUNTIF($C7:$AG7,"A")) | AK7: =IF($B7="","",COUNTIF($C7:$AG7,"E")) | AL7: =IF($B7="","",COUNTIF($C7:$AG7,"S")) | AM7: =IF($B7="","",COUNTIF($C7:$AG7,"V")) | AN7: =IF(COUNTA($C7:$AG7)-COUNTIF($C7:$AG7,"H")=0,"",(AH7+AI7)/(COUNTA($C7:$AG7)-COUNTIF($C7:$AG7,"H")))
B8: =IF(Jan!B8="","",Jan!B8) | AH8: =IF($B8="","",COUNTIF($C8:$AG8,"P")) | AI8: =IF($B8="","",COUNTIF($C8:$AG8,"L")) | AJ8: =IF($B8="","",COUNTIF($C8:$AG8,"A")) | AK8: =IF($B8="","",COUNTIF($C8:$AG8,"E")) | AL8: =IF($B8="","",COUNTIF($C8:$AG8,"S")) | AM8: =IF($B8="","",COUNTIF($C8:$AG8,"V")) | AN8: =IF(COUNTA($C8:$AG8)-COUNTIF($C8:$AG8,"H")=0,"",(AH8+AI8)/(COUNTA($C8:$AG8)-COUNTIF($C8:$AG8,"H")))
B9: =IF(Jan!B9="","",Jan!B9) | AH9: =IF($B9="","",COUNTIF($C9:$AG9,"P")) | AI9: =IF($B9="","",COUNTIF($C9:$AG9,"L")) | AJ9: =IF($B9="","",COUNTIF($C9:$AG9,"A")) | AK9: =IF($B9="","",COUNTIF($C9:$AG9,"E")) | AL9: =IF($B9="","",COUNTIF($C9:$AG9,"S")) | AM9: =IF($B9="","",COUNTIF($C9:$AG9,"V")) | AN9: =IF(COUNTA($C9:$AG9)-COUNTIF($C9:$AG9,"H")=0,"",(AH9+AI9)/(COUNTA($C9:$AG9)-COUNTIF($C9:$AG9,"H")))
B10: =IF(Jan!B10="","",Jan!B10) | AH10: =IF($B10="","",COUNTIF($C10:$AG10,"P")) | AI10: =IF($B10="","",COUNTIF($C10:$AG10,"L")) | AJ10: =IF($B10="","",COUNTIF($C10:$AG10,"A")) | AK10: =IF($B10="","",COUNTIF($C10:$AG10,"E")) | AL10: =IF($B10="","",COUNTIF($C10:$AG10,"S")) | AM10: =IF($B10="","",COUNTIF($C10:$AG10,"V")) | AN10: =IF(COUNTA($C10:$AG10)-COUNTIF($C10:$AG10,"H")=0,"",(AH10+AI10)/(COUNTA($C10:$AG10)-COUNTIF($C10:$AG10,"H")))
B11: =IF(Jan!B11="","",Jan!B11) | AH11: =IF($B11="","",COUNTIF($C11:$AG11,"P")) | AI11: =IF($B11="","",COUNTIF($C11:$AG11,"L")) | AJ11: =IF($B11="","",COUNTIF($C11:$AG11,"A")) | AK11: =IF($B11="","",COUNTIF($C11:$AG11,"E")) | AL11: =IF($B11="","",COUNTIF($C11:$AG11,"S")) | AM11: =IF($B11="","",COUNTIF($C11:$AG11,"V")) | AN11: =IF(COUNTA($C11:$AG11)-COUNTIF($C11:$AG11,"H")=0,"",(AH11+AI11)/(COUNTA($C11:$AG11)-COUNTIF($C11:$AG11,"H")))
B12: =IF(Jan!B12="","",Jan!B12) | AH12: =IF($B12="","",COUNTIF($C12:$AG12,"P")) | AI12: =IF($B12="","",COUNTIF($C12:$AG12,"L")) | AJ12: =IF($B12="","",COUNTIF($C12:$AG12,"A")) | AK12: =IF($B12="","",COUNTIF($C12:$AG12,"E")) | AL12: =IF($B12="","",COUNTIF($C12:$AG12,"S")) | AM12: =IF($B12="","",COUNTIF($C12:$AG12,"V")) | AN12: =IF(COUNTA($C12:$AG12)-COUNTIF($C12:$AG12,"H")=0,"",(AH12+AI12)/(COUNTA($C12:$AG12)-COUNTIF($C12:$AG12,"H")))
B13: =IF(Jan!B13="","",Jan!B13) | AH13: =IF($B13="","",COUNTIF($C13:$AG13,"P")) | AI13: =IF($B13="","",COUNTIF($C13:$AG13,"L")) | AJ13: =IF($B13="","",COUNTIF($C13:$AG13,"A")) | AK13: =IF($B13="","",COUNTIF($C13:$AG13,"E")) | AL13: =IF($B13="","",COUNTIF($C13:$AG13,"S")) | AM13: =IF($B13="","",COUNTIF($C13:$AG13,"V")) | AN13: =IF(COUNTA($C13:$AG13)-COUNTIF($C13:$AG13,"H")=0,"",(AH13+AI13)/(COUNTA($C13:$AG13)-COUNTIF($C13:$AG13,"H")))
B14: =IF(Jan!B14="","",Jan!B14) | AH14: =IF($B14="","",COUNTIF($C14:$AG14,"P")) | AI14: =IF($B14="","",COUNTIF($C14:$AG14,"L")) | AJ14: =IF($B14="","",COUNTIF($C14:$AG14,"A")) | AK14: =IF($B14="","",COUNTIF($C14:$AG14,"E")) | AL14: =IF($B14="","",COUNTIF($C14:$AG14,"S")) | AM14: =IF($B14="","",COUNTIF($C14:$AG14,"V")) | AN14: =IF(COUNTA($C14:$AG14)-COUNTIF($C14:$AG14,"H")=0,"",(AH14+AI14)/(COUNTA($C14:$AG14)-COUNTIF($C14:$AG14,"H")))
B15: =IF(Jan!B15="","",Jan!B15) | AH15: =IF($B15="","",COUNTIF($C15:$AG15,"P")) | AI15: =IF($B15="","",COUNTIF($C15:$AG15,"L")) | AJ15: =IF($B15="","",COUNTIF($C15:$AG15,"A")) | AK15: =IF($B15="","",COUNTIF($C15:$AG15,"E")) | AL15: =IF($B15="","",COUNTIF($C15:$AG15,"S")) | AM15: =IF($B15="","",COUNTIF($C15:$AG15,"V")) | AN15: =IF(COUNTA($C15:$AG15)-COUNTIF($C15:$AG15,"H")=0,"",(AH15+AI15)/(COUNTA($C15:$AG15)-COUNTIF($C15:$AG15,"H")))
B16: =IF(Jan!B16="","",Jan!B16) | AH16: =IF($B16="","",COUNTIF($C16:$AG16,"P")) | AI16: =IF($B16="","",COUNTIF($C16:$AG16,"L")) | AJ16: =IF($B16="","",COUNTIF($C16:$AG16,"A")) | AK16: =IF($B16="","",COUNTIF($C16:$AG16,"E")) | AL16: =IF($B16="","",COUNTIF($C16:$AG16,"S")) | AM16: =IF($B16="","",COUNTIF($C16:$AG16,"V")) | AN16: =IF(COUNTA($C16:$AG16)-COUNTIF($C16:$AG16,"H")=0,"",(AH16+AI16)/(COUNTA($C16:$AG16)-COUNTIF($C16:$AG16,"H")))
B17: =IF(Jan!B17="","",Jan!B17) | AH17: =IF($B17="","",COUNTIF($C17:$AG17,"P")) | AI17: =IF($B17="","",COUNTIF($C17:$AG17,"L")) | AJ17: =IF($B17="","",COUNTIF($C17:$AG17,"A")) | AK17: =IF($B17="","",COUNTIF($C17:$AG17,"E")) | AL17: =IF($B17="","",COUNTIF($C17:$AG17,"S")) | AM17: =IF($B17="","",COUNTIF($C17:$AG17,"V")) | AN17: =IF(COUNTA($C17:$AG17)-COUNTIF($C17:$AG17,"H")=0,"",(AH17+AI17)/(COUNTA($C17:$AG17)-COUNTIF($C17:$AG17,"H")))
B18: =IF(Jan!B18="","",Jan!B18) | AH18: =IF($B18="","",COUNTIF($C18:$AG18,"P")) | AI18: =IF($B18="","",COUNTIF($C18:$AG18,"L")) | AJ18: =IF($B18="","",COUNTIF($C18:$AG18,"A")) | AK18: =IF($B18="","",COUNTIF($C18:$AG18,"E")) | AL18: =IF($B18="","",COUNTIF($C18:$AG18,"S")) | AM18: =IF($B18="","",COUNTIF($C18:$AG18,"V")) | AN18: =IF(COUNTA($C18:$AG18)-COUNTIF($C18:$AG18,"H")=0,"",(AH18+AI18)/(COUNTA($C18:$AG18)-COUNTIF($C18:$AG18,"H")))
... B31: =IF(Jan!B31="","",Jan!B31) | AH31: =IF($B31="","",COUNTIF($C31:$AG31,"P")) | AI31: =IF($B31="","",COUNTIF($C31:$AG31,"L")) | AJ31: =IF($B31="","",COUNTIF($C31:$AG31,"A")) | AK31: =IF($B31="","",COUNTIF($C31:$AG31,"E")) | AL31: =IF($B31="","",COUNTIF($C31:$AG31,"S")) | AM31: =IF($B31="","",COUNTIF($C31:$AG31,"V")) | AN31: =IF(COUNTA($C31:$AG31)-COUNTIF($C31:$AG31,"H")=0,"",(AH31+AI31)/(COUNTA($C31:$AG31)-COUNTIF($C31:$AG31,"H")))
B32: PRESENT (P+L) | C32: =IF(COUNTA(C7:C31)=0,"",COUNTIF(C7:C31,"P")+COUNTIF(C7:C31,"L")) | D32: =IF(COUNTA(D7:D31)=0,"",COUNTIF(D7:D31,"P")+COUNTIF(D7:D31,"L")) | E32: =IF(COUNTA(E7:E31)=0,"",COUNTIF(E7:E31,"P")+COUNTIF(E7:E31,"L")) | F32: =IF(COUNTA(F7:F31)=0,"",COUNTIF(F7:F31,"P")+COUNTIF(F7:F31,"L")) | G32: =IF(COUNTA(G7:G31)=0,"",COUNTIF(G7:G31,"P")+COUNTIF(G7:G31,"L")) | H32: =IF(COUNTA(H7:H31)=0,"",COUNTIF(H7:H31,"P")+COUNTIF(H7:H31,"L")) | I32: =IF(COUNTA(I7:I31)=0,"",COUNTIF(I7:I31,"P")+COUNTIF(I7:I31,"L")) | J32: =IF(COUNTA(J7:J31)=0,"",COUNTIF(J7:J31,"P")+COUNTIF(J7:J31,"L")) | ... AG32: =IF(COUNTA(AG7:AG31)=0,"",COUNTIF(AG7:AG31,"P")+COUNTIF(AG7:AG31,"L"))
B34: KEY | C34: P | D34: Present | G34: L | H34: Late | K34: A | L34: Absent | O34: E | P34: Excused | S34: S | T34: Sick | W34: V | X34: Vacation | AA34: H | AB34: Holiday | AH34: Rate = (P + L) ÷ marked days, holidays excluded
B36: Free template from niftyshelf.com · free for personal & commercial use

Sheet Year summary
B2: Attendance 2027 — year summary
B3: Totals across all twelve months update automatically.
B5: NAME | C5: PRESENT | D5: LATE | E5: ABSENT | F5: EXCUSED | G5: SICK | H5: VACATION | I5: DAYS | J5: RATE
B6: =IF(Jan!B7="","",Jan!B7) | C6: =IF($B6="","",N(Jan!AH7)+N(Feb!AH7)+N(Mar!AH7)+N(Apr!AH7)+N(May!AH7)+N(Jun!AH7)+N(Jul!AH7)+N(Aug!AH7)+N(Sep!AH7)+N(Oct!AH7)+N(Nov!AH7)+N(Dec!AH7)) | D6: =IF($B6="","",N(Jan!AI7)+N(Feb!AI7)+N(Mar!AI7)+N(Apr!AI7)+N(May!AI7)+N(Jun!AI7)+N(Jul!AI7)+N(Aug!AI7)+N(Sep!AI7)+N(Oct!AI7)+N(Nov!AI7)+N(Dec!AI7)) | E6: =IF($B6="","",N(Jan!AJ7)+N(Feb!AJ7)+N(Mar!AJ7)+N(Apr!AJ7)+N(May!AJ7)+N(Jun!AJ7)+N(Jul!AJ7)+N(Aug!AJ7)+N(Sep!AJ7)+N(Oct!AJ7)+N(Nov!AJ7)+N(Dec!AJ7)) | F6: =IF($B6="","",N(Jan!AK7)+N(Feb!AK7)+N(Mar!AK7)+N(Apr!AK7)+N(May!AK7)+N(Jun!AK7)+N(Jul!AK7)+N(Aug!AK7)+N(Sep!AK7)+N(Oct!AK7)+N(Nov!AK7)+N(Dec!AK7)) | G6: =IF($B6="","",N(Jan!AL7)+N(Feb!AL7)+N(Mar!AL7)+N(Apr!AL7)+N(May!AL7)+N(Jun!AL7)+N(Jul!AL7)+N(Aug!AL7)+N(Sep!AL7)+N(Oct!AL7)+N(Nov!AL7)+N(Dec!AL7)) | H6: =IF($B6="","",N(Jan!AM7)+N(Feb!AM7)+N(Mar!AM7)+N(Apr!AM7)+N(May!AM7)+N(Jun!AM7)+N(Jul!AM7)+N(Aug!AM7)+N(Sep!AM7)+N(Oct!AM7)+N(Nov!AM7)+N(Dec!AM7)) | I6: =IF($B6="","",SUM(C6:H6)) | J6: =IF(OR($B6="",N(I6)=0),"",(C6+D6)/I6)
B7: =IF(Jan!B8="","",Jan!B8) | C7: =IF($B7="","",N(Jan!AH8)+N(Feb!AH8)+N(Mar!AH8)+N(Apr!AH8)+N(May!AH8)+N(Jun!AH8)+N(Jul!AH8)+N(Aug!AH8)+N(Sep!AH8)+N(Oct!AH8)+N(Nov!AH8)+N(Dec!AH8)) | D7: =IF($B7="","",N(Jan!AI8)+N(Feb!AI8)+N(Mar!AI8)+N(Apr!AI8)+N(May!AI8)+N(Jun!AI8)+N(Jul!AI8)+N(Aug!AI8)+N(Sep!AI8)+N(Oct!AI8)+N(Nov!AI8)+N(Dec!AI8)) | E7: =IF($B7="","",N(Jan!AJ8)+N(Feb!AJ8)+N(Mar!AJ8)+N(Apr!AJ8)+N(May!AJ8)+N(Jun!AJ8)+N(Jul!AJ8)+N(Aug!AJ8)+N(Sep!AJ8)+N(Oct!AJ8)+N(Nov!AJ8)+N(Dec!AJ8)) | F7: =IF($B7="","",N(Jan!AK8)+N(Feb!AK8)+N(Mar!AK8)+N(Apr!AK8)+N(May!AK8)+N(Jun!AK8)+N(Jul!AK8)+N(Aug!AK8)+N(Sep!AK8)+N(Oct!AK8)+N(Nov!AK8)+N(Dec!AK8)) | G7: =IF($B7="","",N(Jan!AL8)+N(Feb!AL8)+N(Mar!AL8)+N(Apr!AL8)+N(May!AL8)+N(Jun!AL8)+N(Jul!AL8)+N(Aug!AL8)+N(Sep!AL8)+N(Oct!AL8)+N(Nov!AL8)+N(Dec!AL8)) | H7: =IF($B7="","",N(Jan!AM8)+N(Feb!AM8)+N(Mar!AM8)+N(Apr!AM8)+N(May!AM8)+N(Jun!AM8)+N(Jul!AM8)+N(Aug!AM8)+N(Sep!AM8)+N(Oct!AM8)+N(Nov!AM8)+N(Dec!AM8)) | I7: =IF($B7="","",SUM(C7:H7)) | J7: =IF(OR($B7="",N(I7)=0),"",(C7+D7)/I7)
B8: =IF(Jan!B9="","",Jan!B9) | C8: =IF($B8="","",N(Jan!AH9)+N(Feb!AH9)+N(Mar!AH9)+N(Apr!AH9)+N(May!AH9)+N(Jun!AH9)+N(Jul!AH9)+N(Aug!AH9)+N(Sep!AH9)+N(Oct!AH9)+N(Nov!AH9)+N(Dec!AH9)) | D8: =IF($B8="","",N(Jan!AI9)+N(Feb!AI9)+N(Mar!AI9)+N(Apr!AI9)+N(May!AI9)+N(Jun!AI9)+N(Jul!AI9)+N(Aug!AI9)+N(Sep!AI9)+N(Oct!AI9)+N(Nov!AI9)+N(Dec!AI9)) | E8: =IF($B8="","",N(Jan!AJ9)+N(Feb!AJ9)+N(Mar!AJ9)+N(Apr!AJ9)+N(May!AJ9)+N(Jun!AJ9)+N(Jul!AJ9)+N(Aug!AJ9)+N(Sep!AJ9)+N(Oct!AJ9)+N(Nov!AJ9)+N(Dec!AJ9)) | F8: =IF($B8="","",N(Jan!AK9)+N(Feb!AK9)+N(Mar!AK9)+N(Apr!AK9)+N(May!AK9)+N(Jun!AK9)+N(Jul!AK9)+N(Aug!AK9)+N(Sep!AK9)+N(Oct!AK9)+N(Nov!AK9)+N(Dec!AK9)) | G8: =IF($B8="","",N(Jan!AL9)+N(Feb!AL9)+N(Mar!AL9)+N(Apr!AL9)+N(May!AL9)+N(Jun!AL9)+N(Jul!AL9)+N(Aug!AL9)+N(Sep!AL9)+N(Oct!AL9)+N(Nov!AL9)+N(Dec!AL9)) | H8: =IF($B8="","",N(Jan!AM9)+N(Feb!AM9)+N(Mar!AM9)+N(Apr!AM9)+N(May!AM9)+N(Jun!AM9)+N(Jul!AM9)+N(Aug!AM9)+N(Sep!AM9)+N(Oct!AM9)+N(Nov!AM9)+N(Dec!AM9)) | I8: =IF($B8="","",SUM(C8:H8)) | J8: =IF(OR($B8="",N(I8)=0),"",(C8+D8)/I8)
B9: =IF(Jan!B10="","",Jan!B10) | C9: =IF($B9="","",N(Jan!AH10)+N(Feb!AH10)+N(Mar!AH10)+N(Apr!AH10)+N(May!AH10)+N(Jun!AH10)+N(Jul!AH10)+N(Aug!AH10)+N(Sep!AH10)+N(Oct!AH10)+N(Nov!AH10)+N(Dec!AH10)) | D9: =IF($B9="","",N(Jan!AI10)+N(Feb!AI10)+N(Mar!AI10)+N(Apr!AI10)+N(May!AI10)+N(Jun!AI10)+N(Jul!AI10)+N(Aug!AI10)+N(Sep!AI10)+N(Oct!AI10)+N(Nov!AI10)+N(Dec!AI10)) | E9: =IF($B9="","",N(Jan!AJ10)+N(Feb!AJ10)+N(Mar!AJ10)+N(Apr!AJ10)+N(May!AJ10)+N(Jun!AJ10)+N(Jul!AJ10)+N(Aug!AJ10)+N(Sep!AJ10)+N(Oct!AJ10)+N(Nov!AJ10)+N(Dec!AJ10)) | F9: =IF($B9="","",N(Jan!AK10)+N(Feb!AK10)+N(Mar!AK10)+N(Apr!AK10)+N(May!AK10)+N(Jun!AK10)+N(Jul!AK10)+N(Aug!AK10)+N(Sep!AK10)+N(Oct!AK10)+N(Nov!AK10)+N(Dec!AK10)) | G9: =IF($B9="","",N(Jan!AL10)+N(Feb!AL10)+N(Mar!AL10)+N(Apr!AL10)+N(May!AL10)+N(Jun!AL10)+N(Jul!AL10)+N(Aug!AL10)+N(Sep!AL10)+N(Oct!AL10)+N(Nov!AL10)+N(Dec!AL10)) | H9: =IF($B9="","",N(Jan!AM10)+N(Feb!AM10)+N(Mar!AM10)+N(Apr!AM10)+N(May!AM10)+N(Jun!AM10)+N(Jul!AM10)+N(Aug!AM10)+N(Sep!AM10)+N(Oct!AM10)+N(Nov!AM10)+N(Dec!AM10)) | I9: =IF($B9="","",SUM(C9:H9)) | J9: =IF(OR($B9="",N(I9)=0),"",(C9+D9)/I9)
B10: =IF(Jan!B11="","",Jan!B11) | C10: =IF($B10="","",N(Jan!AH11)+N(Feb!AH11)+N(Mar!AH11)+N(Apr!AH11)+N(May!AH11)+N(Jun!AH11)+N(Jul!AH11)+N(Aug!AH11)+N(Sep!AH11)+N(Oct!AH11)+N(Nov!AH11)+N(Dec!AH11)) | D10: =IF($B10="","",N(Jan!AI11)+N(Feb!AI11)+N(Mar!AI11)+N(Apr!AI11)+N(May!AI11)+N(Jun!AI11)+N(Jul!AI11)+N(Aug!AI11)+N(Sep!AI11)+N(Oct!AI11)+N(Nov!AI11)+N(Dec!AI11)) | E10: =IF($B10="","",N(Jan!AJ11)+N(Feb!AJ11)+N(Mar!AJ11)+N(Apr!AJ11)+N(May!AJ11)+N(Jun!AJ11)+N(Jul!AJ11)+N(Aug!AJ11)+N(Sep!AJ11)+N(Oct!AJ11)+N(Nov!AJ11)+N(Dec!AJ11)) | F10: =IF($B10="","",N(Jan!AK11)+N(Feb!AK11)+N(Mar!AK11)+N(Apr!AK11)+N(May!AK11)+N(Jun!AK11)+N(Jul!AK11)+N(Aug!AK11)+N(Sep!AK11)+N(Oct!AK11)+N(Nov!AK11)+N(Dec!AK11)) | G10: =IF($B10="","",N(Jan!AL11)+N(Feb!AL11)+N(Mar!AL11)+N(Apr!AL11)+N(May!AL11)+N(Jun!AL11)+N(Jul!AL11)+N(Aug!AL11)+N(Sep!AL11)+N(Oct!AL11)+N(Nov!AL11)+N(Dec!AL11)) | H10: =IF($B10="","",N(Jan!AM11)+N(Feb!AM11)+N(Mar!AM11)+N(Apr!AM11)+N(May!AM11)+N(Jun!AM11)+N(Jul!AM11)+N(Aug!AM11)+N(Sep!AM11)+N(Oct!AM11)+N(Nov!AM11)+N(Dec!AM11)) | I10: =IF($B10="","",SUM(C10:H10)) | J10: =IF(OR($B10="",N(I10)=0),"",(C10+D10)/I10)
B11: =IF(Jan!B12="","",Jan!B12) | C11: =IF($B11="","",N(Jan!AH12)+N(Feb!AH12)+N(Mar!AH12)+N(Apr!AH12)+N(May!AH12)+N(Jun!AH12)+N(Jul!AH12)+N(Aug!AH12)+N(Sep!AH12)+N(Oct!AH12)+N(Nov!AH12)+N(Dec!AH12)) | D11: =IF($B11="","",N(Jan!AI12)+N(Feb!AI12)+N(Mar!AI12)+N(Apr!AI12)+N(May!AI12)+N(Jun!AI12)+N(Jul!AI12)+N(Aug!AI12)+N(Sep!AI12)+N(Oct!AI12)+N(Nov!AI12)+N(Dec!AI12)) | E11: =IF($B11="","",N(Jan!AJ12)+N(Feb!AJ12)+N(Mar!AJ12)+N(Apr!AJ12)+N(May!AJ12)+N(Jun!AJ12)+N(Jul!AJ12)+N(Aug!AJ12)+N(Sep!AJ12)+N(Oct!AJ12)+N(Nov!AJ12)+N(Dec!AJ12)) | F11: =IF($B11="","",N(Jan!AK12)+N(Feb!AK12)+N(Mar!AK12)+N(Apr!AK12)+N(May!AK12)+N(Jun!AK12)+N(Jul!AK12)+N(Aug!AK12)+N(Sep!AK12)+N(Oct!AK12)+N(Nov!AK12)+N(Dec!AK12)) | G11: =IF($B11="","",N(Jan!AL12)+N(Feb!AL12)+N(Mar!AL12)+N(Apr!AL12)+N(May!AL12)+N(Jun!AL12)+N(Jul!AL12)+N(Aug!AL12)+N(Sep!AL12)+N(Oct!AL12)+N(Nov!AL12)+N(Dec!AL12)) | H11: =IF($B11="","",N(Jan!AM12)+N(Feb!AM12)+N(Mar!AM12)+N(Apr!AM12)+N(May!AM12)+N(Jun!AM12)+N(Jul!AM12)+N(Aug!AM12)+N(Sep!AM12)+N(Oct!AM12)+N(Nov!AM12)+N(Dec!AM12)) | I11: =IF($B11="","",SUM(C11:H11)) | J11: =IF(OR($B11="",N(I11)=0),"",(C11+D11)/I11)
B12: =IF(Jan!B13="","",Jan!B13) | C12: =IF($B12="","",N(Jan!AH13)+N(Feb!AH13)+N(Mar!AH13)+N(Apr!AH13)+N(May!AH13)+N(Jun!AH13)+N(Jul!AH13)+N(Aug!AH13)+N(Sep!AH13)+N(Oct!AH13)+N(Nov!AH13)+N(Dec!AH13)) | D12: =IF($B12="","",N(Jan!AI13)+N(Feb!AI13)+N(Mar!AI13)+N(Apr!AI13)+N(May!AI13)+N(Jun!AI13)+N(Jul!AI13)+N(Aug!AI13)+N(Sep!AI13)+N(Oct!AI13)+N(Nov!AI13)+N(Dec!AI13)) | E12: =IF($B12="","",N(Jan!AJ13)+N(Feb!AJ13)+N(Mar!AJ13)+N(Apr!AJ13)+N(May!AJ13)+N(Jun!AJ13)+N(Jul!AJ13)+N(Aug!AJ13)+N(Sep!AJ13)+N(Oct!AJ13)+N(Nov!AJ13)+N(Dec!AJ13)) | F12: =IF($B12="","",N(Jan!AK13)+N(Feb!AK13)+N(Mar!AK13)+N(Apr!AK13)+N(May!AK13)+N(Jun!AK13)+N(Jul!AK13)+N(Aug!AK13)+N(Sep!AK13)+N(Oct!AK13)+N(Nov!AK13)+N(Dec!AK13)) | G12: =IF($B12="","",N(Jan!AL13)+N(Feb!AL13)+N(Mar!AL13)+N(Apr!AL13)+N(May!AL13)+N(Jun!AL13)+N(Jul!AL13)+N(Aug!AL13)+N(Sep!AL13)+N(Oct!AL13)+N(Nov!AL13)+N(Dec!AL13)) | H12: =IF($B12="","",N(Jan!AM13)+N(Feb!AM13)+N(Mar!AM13)+N(Apr!AM13)+N(May!AM13)+N(Jun!AM13)+N(Jul!AM13)+N(Aug!AM13)+N(Sep!AM13)+N(Oct!AM13)+N(Nov!AM13)+N(Dec!AM13)) | I12: =IF($B12="","",SUM(C12:H12)) | J12: =IF(OR($B12="",N(I12)=0),"",(C12+D12)/I12)
B13: =IF(Jan!B14="","",Jan!B14) | C13: =IF($B13="","",N(Jan!AH14)+N(Feb!AH14)+N(Mar!AH14)+N(Apr!AH14)+N(May!AH14)+N(Jun!AH14)+N(Jul!AH14)+N(Aug!AH14)+N(Sep!AH14)+N(Oct!AH14)+N(Nov!AH14)+N(Dec!AH14)) | D13: =IF($B13="","",N(Jan!AI14)+N(Feb!AI14)+N(Mar!AI14)+N(Apr!AI14)+N(May!AI14)+N(Jun!AI14)+N(Jul!AI14)+N(Aug!AI14)+N(Sep!AI14)+N(Oct!AI14)+N(Nov!AI14)+N(Dec!AI14)) | E13: =IF($B13="","",N(Jan!AJ14)+N(Feb!AJ14)+N(Mar!AJ14)+N(Apr!AJ14)+N(May!AJ14)+N(Jun!AJ14)+N(Jul!AJ14)+N(Aug!AJ14)+N(Sep!AJ14)+N(Oct!AJ14)+N(Nov!AJ14)+N(Dec!AJ14)) | F13: =IF($B13="","",N(Jan!AK14)+N(Feb!AK14)+N(Mar!AK14)+N(Apr!AK14)+N(May!AK14)+N(Jun!AK14)+N(Jul!AK14)+N(Aug!AK14)+N(Sep!AK14)+N(Oct!AK14)+N(Nov!AK14)+N(Dec!AK14)) | G13: =IF($B13="","",N(Jan!AL14)+N(Feb!AL14)+N(Mar!AL14)+N(Apr!AL14)+N(May!AL14)+N(Jun!AL14)+N(Jul!AL14)+N(Aug!AL14)+N(Sep!AL14)+N(Oct!AL14)+N(Nov!AL14)+N(Dec!AL14)) | H13: =IF($B13="","",N(Jan!AM14)+N(Feb!AM14)+N(Mar!AM14)+N(Apr!AM14)+N(May!AM14)+N(Jun!AM14)+N(Jul!AM14)+N(Aug!AM14)+N(Sep!AM14)+N(Oct!AM14)+N(Nov!AM14)+N(Dec!AM14)) | I13: =IF($B13="","",SUM(C13:H13)) | J13: =IF(OR($B13="",N(I13)=0),"",(C13+D13)/I13)
B14: =IF(Jan!B15="","",Jan!B15) | C14: =IF($B14="","",N(Jan!AH15)+N(Feb!AH15)+N(Mar!AH15)+N(Apr!AH15)+N(May!AH15)+N(Jun!AH15)+N(Jul!AH15)+N(Aug!AH15)+N(Sep!AH15)+N(Oct!AH15)+N(Nov!AH15)+N(Dec!AH15)) | D14: =IF($B14="","",N(Jan!AI15)+N(Feb!AI15)+N(Mar!AI15)+N(Apr!AI15)+N(May!AI15)+N(Jun!AI15)+N(Jul!AI15)+N(Aug!AI15)+N(Sep!AI15)+N(Oct!AI15)+N(Nov!AI15)+N(Dec!AI15)) | E14: =IF($B14="","",N(Jan!AJ15)+N(Feb!AJ15)+N(Mar!AJ15)+N(Apr!AJ15)+N(May!AJ15)+N(Jun!AJ15)+N(Jul!AJ15)+N(Aug!AJ15)+N(Sep!AJ15)+N(Oct!AJ15)+N(Nov!AJ15)+N(Dec!AJ15)) | F14: =IF($B14="","",N(Jan!AK15)+N(Feb!AK15)+N(Mar!AK15)+N(Apr!AK15)+N(May!AK15)+N(Jun!AK15)+N(Jul!AK15)+N(Aug!AK15)+N(Sep!AK15)+N(Oct!AK15)+N(Nov!AK15)+N(Dec!AK15)) | G14: =IF($B14="","",N(Jan!AL15)+N(Feb!AL15)+N(Mar!AL15)+N(Apr!AL15)+N(May!AL15)+N(Jun!AL15)+N(Jul!AL15)+N(Aug!AL15)+N(Sep!AL15)+N(Oct!AL15)+N(Nov!AL15)+N(Dec!AL15)) | H14: =IF($B14="","",N(Jan!AM15)+N(Feb!AM15)+N(Mar!AM15)+N(Apr!AM15)+N(May!AM15)+N(Jun!AM15)+N(Jul!AM15)+N(Aug!AM15)+N(Sep!AM15)+N(Oct!AM15)+N(Nov!AM15)+N(Dec!AM15)) | I14: =IF($B14="","",SUM(C14:H14)) | J14: =IF(OR($B14="",N(I14)=0),"",(C14+D14)/I14)
B15: =IF(Jan!B16="","",Jan!B16) | C15: =IF($B15="","",N(Jan!AH16)+N(Feb!AH16)+N(Mar!AH16)+N(Apr!AH16)+N(May!AH16)+N(Jun!AH16)+N(Jul!AH16)+N(Aug!AH16)+N(Sep!AH16)+N(Oct!AH16)+N(Nov!AH16)+N(Dec!AH16)) | D15: =IF($B15="","",N(Jan!AI16)+N(Feb!AI16)+N(Mar!AI16)+N(Apr!AI16)+N(May!AI16)+N(Jun!AI16)+N(Jul!AI16)+N(Aug!AI16)+N(Sep!AI16)+N(Oct!AI16)+N(Nov!AI16)+N(Dec!AI16)) | E15: =IF($B15="","",N(Jan!AJ16)+N(Feb!AJ16)+N(Mar!AJ16)+N(Apr!AJ16)+N(May!AJ16)+N(Jun!AJ16)+N(Jul!AJ16)+N(Aug!AJ16)+N(Sep!AJ16)+N(Oct!AJ16)+N(Nov!AJ16)+N(Dec!AJ16)) | F15: =IF($B15="","",N(Jan!AK16)+N(Feb!AK16)+N(Mar!AK16)+N(Apr!AK16)+N(May!AK16)+N(Jun!AK16)+N(Jul!AK16)+N(Aug!AK16)+N(Sep!AK16)+N(Oct!AK16)+N(Nov!AK16)+N(Dec!AK16)) | G15: =IF($B15="","",N(Jan!AL16)+N(Feb!AL16)+N(Mar!AL16)+N(Apr!AL16)+N(May!AL16)+N(Jun!AL16)+N(Jul!AL16)+N(Aug!AL16)+N(Sep!AL16)+N(Oct!AL16)+N(Nov!AL16)+N(Dec!AL16)) | H15: =IF($B15="","",N(Jan!AM16)+N(Feb!AM16)+N(Mar!AM16)+N(Apr!AM16)+N(May!AM16)+N(Jun!AM16)+N(Jul!AM16)+N(Aug!AM16)+N(Sep!AM16)+N(Oct!AM16)+N(Nov!AM16)+N(Dec!AM16)) | I15: =IF($B15="","",SUM(C15:H15)) | J15: =IF(OR($B15="",N(I15)=0),"",(C15+D15)/I15)
B16: =IF(Jan!B17="","",Jan!B17) | C16: =IF($B16="","",N(Jan!AH17)+N(Feb!AH17)+N(Mar!AH17)+N(Apr!AH17)+N(May!AH17)+N(Jun!AH17)+N(Jul!AH17)+N(Aug!AH17)+N(Sep!AH17)+N(Oct!AH17)+N(Nov!AH17)+N(Dec!AH17)) | D16: =IF($B16="","",N(Jan!AI17)+N(Feb!AI17)+N(Mar!AI17)+N(Apr!AI17)+N(May!AI17)+N(Jun!AI17)+N(Jul!AI17)+N(Aug!AI17)+N(Sep!AI17)+N(Oct!AI17)+N(Nov!AI17)+N(Dec!AI17)) | E16: =IF($B16="","",N(Jan!AJ17)+N(Feb!AJ17)+N(Mar!AJ17)+N(Apr!AJ17)+N(May!AJ17)+N(Jun!AJ17)+N(Jul!AJ17)+N(Aug!AJ17)+N(Sep!AJ17)+N(Oct!AJ17)+N(Nov!AJ17)+N(Dec!AJ17)) | F16: =IF($B16="","",N(Jan!AK17)+N(Feb!AK17)+N(Mar!AK17)+N(Apr!AK17)+N(May!AK17)+N(Jun!AK17)+N(Jul!AK17)+N(Aug!AK17)+N(Sep!AK17)+N(Oct!AK17)+N(Nov!AK17)+N(Dec!AK17)) | G16: =IF($B16="","",N(Jan!AL17)+N(Feb!AL17)+N(Mar!AL17)+N(Apr!AL17)+N(May!AL17)+N(Jun!AL17)+N(Jul!AL17)+N(Aug!AL17)+N(Sep!AL17)+N(Oct!AL17)+N(Nov!AL17)+N(Dec!AL17)) | H16: =IF($B16="","",N(Jan!AM17)+N(Feb!AM17)+N(Mar!AM17)+N(Apr!AM17)+N(May!AM17)+N(Jun!AM17)+N(Jul!AM17)+N(Aug!AM17)+N(Sep!AM17)+N(Oct!AM17)+N(Nov!AM17)+N(Dec!AM17)) | I16: =IF($B16="","",SUM(C16:H16)) | J16: =IF(OR($B16="",N(I16)=0),"",(C16+D16)/I16)
B17: =IF(Jan!B18="","",Jan!B18) | C17: =IF($B17="","",N(Jan!AH18)+N(Feb!AH18)+N(Mar!AH18)+N(Apr!AH18)+N(May!AH18)+N(Jun!AH18)+N(Jul!AH18)+N(Aug!AH18)+N(Sep!AH18)+N(Oct!AH18)+N(Nov!AH18)+N(Dec!AH18)) | D17: =IF($B17="","",N(Jan!AI18)+N(Feb!AI18)+N(Mar!AI18)+N(Apr!AI18)+N(May!AI18)+N(Jun!AI18)+N(Jul!AI18)+N(Aug!AI18)+N(Sep!AI18)+N(Oct!AI18)+N(Nov!AI18)+N(Dec!AI18)) | E17: =IF($B17="","",N(Jan!AJ18)+N(Feb!AJ18)+N(Mar!AJ18)+N(Apr!AJ18)+N(May!AJ18)+N(Jun!AJ18)+N(Jul!AJ18)+N(Aug!AJ18)+N(Sep!AJ18)+N(Oct!AJ18)+N(Nov!AJ18)+N(Dec!AJ18)) | F17: =IF($B17="","",N(Jan!AK18)+N(Feb!AK18)+N(Mar!AK18)+N(Apr!AK18)+N(May!AK18)+N(Jun!AK18)+N(Jul!AK18)+N(Aug!AK18)+N(Sep!AK18)+N(Oct!AK18)+N(Nov!AK18)+N(Dec!AK18)) | G17: =IF($B17="","",N(Jan!AL18)+N(Feb!AL18)+N(Mar!AL18)+N(Apr!AL18)+N(May!AL18)+N(Jun!AL18)+N(Jul!AL18)+N(Aug!AL18)+N(Sep!AL18)+N(Oct!AL18)+N(Nov!AL18)+N(Dec!AL18)) | H17: =IF($B17="","",N(Jan!AM18)+N(Feb!AM18)+N(Mar!AM18)+N(Apr!AM18)+N(May!AM18)+N(Jun!AM18)+N(Jul!AM18)+N(Aug!AM18)+N(Sep!AM18)+N(Oct!AM18)+N(Nov!AM18)+N(Dec!AM18)) | I17: =IF($B17="","",SUM(C17:H17)) | J17: =IF(OR($B17="",N(I17)=0),"",(C17+D17)/I17)
... B30: =IF(Jan!B31="","",Jan!B31) | C30: =IF($B30="","",N(Jan!AH31)+N(Feb!AH31)+N(Mar!AH31)+N(Apr!AH31)+N(May!AH31)+N(Jun!AH31)+N(Jul!AH31)+N(Aug!AH31)+N(Sep!AH31)+N(Oct!AH31)+N(Nov!AH31)+N(Dec!AH31)) | D30: =IF($B30="","",N(Jan!AI31)+N(Feb!AI31)+N(Mar!AI31)+N(Apr!AI31)+N(May!AI31)+N(Jun!AI31)+N(Jul!AI31)+N(Aug!AI31)+N(Sep!AI31)+N(Oct!AI31)+N(Nov!AI31)+N(Dec!AI31)) | E30: =IF($B30="","",N(Jan!AJ31)+N(Feb!AJ31)+N(Mar!AJ31)+N(Apr!AJ31)+N(May!AJ31)+N(Jun!AJ31)+N(Jul!AJ31)+N(Aug!AJ31)+N(Sep!AJ31)+N(Oct!AJ31)+N(Nov!AJ31)+N(Dec!AJ31)) | F30: =IF($B30="","",N(Jan!AK31)+N(Feb!AK31)+N(Mar!AK31)+N(Apr!AK31)+N(May!AK31)+N(Jun!AK31)+N(Jul!AK31)+N(Aug!AK31)+N(Sep!AK31)+N(Oct!AK31)+N(Nov!AK31)+N(Dec!AK31)) | G30: =IF($B30="","",N(Jan!AL31)+N(Feb!AL31)+N(Mar!AL31)+N(Apr!AL31)+N(May!AL31)+N(Jun!AL31)+N(Jul!AL31)+N(Aug!AL31)+N(Sep!AL31)+N(Oct!AL31)+N(Nov!AL31)+N(Dec!AL31)) | H30: =IF($B30="","",N(Jan!AM31)+N(Feb!AM31)+N(Mar!AM31)+N(Apr!AM31)+N(May!AM31)+N(Jun!AM31)+N(Jul!AM31)+N(Aug!AM31)+N(Sep!AM31)+N(Oct!AM31)+N(Nov!AM31)+N(Dec!AM31)) | I30: =IF($B30="","",SUM(C30:H30)) | J30: =IF(OR($B30="",N(I30)=0),"",(C30+D30)/I30)

Sheet How to use
B2: How to use this 2027 attendance tracker
B3: Quick guide
B5: 1 | C5: Type your team or class name and everyone's names on the Jan tab — every other month and the summary pick them up.
B6: 2 | C6: Each month tab already has the right dates and weekdays for 2027. Weekends are shaded; days that don't exist in a month are grayed out.
B7: 3 | C7: Mark each day with a code from the dropdown: P present, L late, A absent, E excused, S sick, V vacation, H holiday.
B8: 4 | C8: Counts and the attendance rate update per person. Rates under 90% turn red.
B9: 5 | C9: The Year summary tab adds up all twelve months.
C11: Tinted cells are inputs — type over them. White cells calculate automatically.
C14: Works in Excel, Google Sheets (File → Import), Numbers and LibreOffice.
C15: Free template from niftyshelf.com — free for personal and commercial use.
