Workbook

Sheet Jan
A1: =DATE(2027,1,1)
B2: January 2027 | AH2: Team / Class name
B3: Monthly attendance — P present · L late · A absent · E excused · S sick · V vacation · H holiday
B5: NAME | C5: =IF(MONTH($A$1+0)=1,DAY($A$1+0),"") | D5: =IF(MONTH($A$1+1)=1,DAY($A$1+1),"") | E5: =IF(MONTH($A$1+2)=1,DAY($A$1+2),"") | F5: =IF(MONTH($A$1+3)=1,DAY($A$1+3),"") | G5: =IF(MONTH($A$1+4)=1,DAY($A$1+4),"") | H5: =IF(MONTH($A$1+5)=1,DAY($A$1+5),"") | I5: =IF(MONTH($A$1+6)=1,DAY($A$1+6),"") | J5: =IF(MONTH($A$1+7)=1,DAY($A$1+7),"") | K5: =IF(MONTH($A$1+8)=1,DAY($A$1+8),"") | L5: =IF(MONTH($A$1+9)=1,DAY($A$1+9),"") | M5: =IF(MONTH($A$1+10)=1,DAY($A$1+10),"") | N5: =IF(MONTH($A$1+11)=1,DAY($A$1+11),"") | O5: =IF(MONTH($A$1+12)=1,DAY($A$1+12),"") | P5: =IF(MONTH($A$1+13)=1,DAY($A$1+13),"") | Q5: =IF(MONTH($A$1+14)=1,DAY($A$1+14),"") | R5: =IF(MONTH($A$1+15)=1,DAY($A$1+15),"") | S5: =IF(MONTH($A$1+16)=1,DAY($A$1+16),"") | T5: =IF(MONTH($A$1+17)=1,DAY($A$1+17),"") | U5: =IF(MONTH($A$1+18)=1,DAY($A$1+18),"") | V5: =IF(MONTH($A$1+19)=1,DAY($A$1+19),"") | W5: =IF(MONTH($A$1+20)=1,DAY($A$1+20),"") | X5: =IF(MONTH($A$1+21)=1,DAY($A$1+21),"") | Y5: =IF(MONTH($A$1+22)=1,DAY($A$1+22),"") | Z5: =IF(MONTH($A$1+23)=1,DAY($A$1+23),"") | AA5: =IF(MONTH($A$1+24)=1,DAY($A$1+24),"") | AB5: =IF(MONTH($A$1+25)=1,DAY($A$1+25),"") | AC5: =IF(MONTH($A$1+26)=1,DAY($A$1+26),"") | AD5: =IF(MONTH($A$1+27)=1,DAY($A$1+27),"") | AE5: =IF(MONTH($A$1+28)=1,DAY($A$1+28),"") | AF5: =IF(MONTH($A$1+29)=1,DAY($A$1+29),"") | AG5: =IF(MONTH($A$1+30)=1,DAY($A$1+30),"") | AH5: P | AI5: L | AJ5: A | AK5: E | AL5: S | AM5: V | AN5: RATE
C6: =IF(C5="","",CHOOSE(WEEKDAY($A$1+0),"Sun","Mon","Tue","Wed","Thu","Fri","Sat")) | D6: =IF(D5="","",CHOOSE(WEEKDAY($A$1+1),"Sun","Mon","Tue","Wed","Thu","Fri","Sat")) | E6: =IF(E5="","",CHOOSE(WEEKDAY($A$1+2),"Sun","Mon","Tue","Wed","Thu","Fri","Sat")) | F6: =IF(F5="","",CHOOSE(WEEKDAY($A$1+3),"Sun","Mon","Tue","Wed","Thu","Fri","Sat")) | G6: =IF(G5="","",CHOOSE(WEEKDAY($A$1+4),"Sun","Mon","Tue","Wed","Thu","Fri","Sat")) | H6: =IF(H5="","",CHOOSE(WEEKDAY($A$1+5),"Sun","Mon","Tue","Wed","Thu","Fri","Sat")) | I6: =IF(I5="","",CHOOSE(WEEKDAY($A$1+6),"Sun","Mon","Tue","Wed","Thu","Fri","Sat")) | J6: =IF(J5="","",CHOOSE(WEEKDAY($A$1+7),"Sun","Mon","Tue","Wed","Thu","Fri","Sat")) | K6: =IF(K5="","",CHOOSE(WEEKDAY($A$1+8),"Sun","Mon","Tue","Wed","Thu","Fri","Sat")) | L6: =IF(L5="","",CHOOSE(WEEKDAY($A$1+9),"Sun","Mon","Tue","Wed","Thu","Fri","Sat")) | M6: =IF(M5="","",CHOOSE(WEEKDAY($A$1+10),"Sun","Mon","Tue","Wed","Thu","Fri","Sat")) | N6: =IF(N5="","",CHOOSE(WEEKDAY($A$1+11),"Sun","Mon","Tue","Wed","Thu","Fri","Sat")) | O6: =IF(O5="","",CHOOSE(WEEKDAY($A$1+12),"Sun","Mon","Tue","Wed","Thu","Fri","Sat")) | P6: =IF(P5="","",CHOOSE(WEEKDAY($A$1+13),"Sun","Mon","Tue","Wed","Thu","Fri","Sat")) | Q6: =IF(Q5="","",CHOOSE(WEEKDAY($A$1+14),"Sun","Mon","Tue","Wed","Thu","Fri","Sat")) | R6: =IF(R5="","",CHOOSE(WEEKDAY($A$1+15),"Sun","Mon","Tue","Wed","Thu","Fri","Sat")) | S6: =IF(S5="","",CHOOSE(WEEKDAY($A$1+16),"Sun","Mon","Tue","Wed","Thu","Fri","Sat")) | T6: =IF(T5="","",CHOOSE(WEEKDAY($A$1+17),"Sun","Mon","Tue","Wed","Thu","Fri","Sat")) | U6: =IF(U5="","",CHOOSE(WEEKDAY($A$1+18),"Sun","Mon","Tue","Wed","Thu","Fri","Sat")) | V6: =IF(V5="","",CHOOSE(WEEKDAY($A$1+19),"Sun","Mon","Tue","Wed","Thu","Fri","Sat")) | W6: =IF(W5="","",CHOOSE(WEEKDAY($A$1+20),"Sun","Mon","Tue","Wed","Thu","Fri","Sat")) | X6: =IF(X5="","",CHOOSE(WEEKDAY($A$1+21),"Sun","Mon","Tue","Wed","Thu","Fri","Sat")) | Y6: =IF(Y5="","",CHOOSE(WEEKDAY($A$1+22),"Sun","Mon","Tue","Wed","Thu","Fri","Sat")) | Z6: =IF(Z5="","",CHOOSE(WEEKDAY($A$1+23),"Sun","Mon","Tue","Wed","Thu","Fri","Sat")) | AA6: =IF(AA5="","",CHOOSE(WEEKDAY($A$1+24),"Sun","Mon","Tue","Wed","Thu","Fri","Sat")) | AB6: =IF(AB5="","",CHOOSE(WEEKDAY($A$1+25),"Sun","Mon","Tue","Wed","Thu","Fri","Sat")) | AC6: =IF(AC5="","",CHOOSE(WEEKDAY($A$1+26),"Sun","Mon","Tue","Wed","Thu","Fri","Sat")) | AD6: =IF(AD5="","",CHOOSE(WEEKDAY($A$1+27),"Sun","Mon","Tue","Wed","Thu","Fri","Sat")) | AE6: =IF(AE5="","",CHOOSE(WEEKDAY($A$1+28),"Sun","Mon","Tue","Wed","Thu","Fri","Sat")) | AF6: =IF(AF5="","",CHOOSE(WEEKDAY($A$1+29),"Sun","Mon","Tue","Wed","Thu","Fri","Sat")) | AG6: =IF(AG5="","",CHOOSE(WEEKDAY($A$1+30),"Sun","Mon","Tue","Wed","Thu","Fri","Sat"))
B7: Avery Johnson | C7: H | F7: P | G7: P | H7: P | I7: P | J7: P | M7: P | N7: P | O7: P | P7: P | Q7: P | T7: H | U7: P | V7: P | W7: P | X7: P | AH7: =IF($B7="","",COUNTIF($C7:$AG7,"P")) | AI7: =IF($B7="","",COUNTIF($C7:$AG7,"L")) | AJ7: =IF($B7="","",COUNTIF($C7:$AG7,"A")) | AK7: =IF($B7="","",COUNTIF($C7:$AG7,"E")) | AL7: =IF($B7="","",COUNTIF($C7:$AG7,"S")) | AM7: =IF($B7="","",COUNTIF($C7:$AG7,"V")) | AN7: =IF(COUNTA($C7:$AG7)-COUNTIF($C7:$AG7,"H")=0,"",(AH7+AI7)/(COUNTA($C7:$AG7)-COUNTIF($C7:$AG7,"H")))
B8: Ben Carter | C8: H | F8: P | G8: P | H8: P | I8: A | J8: P | M8: P | N8: S | O8: P | P8: P | Q8: P | T8: H | U8: P | V8: P | W8: P | X8: P | AH8: =IF($B8="","",COUNTIF($C8:$AG8,"P")) | AI8: =IF($B8="","",COUNTIF($C8:$AG8,"L")) | AJ8: =IF($B8="","",COUNTIF($C8:$AG8,"A")) | AK8: =IF($B8="","",COUNTIF($C8:$AG8,"E")) | AL8: =IF($B8="","",COUNTIF($C8:$AG8,"S")) | AM8: =IF($B8="","",COUNTIF($C8:$AG8,"V")) | AN8: =IF(COUNTA($C8:$AG8)-COUNTIF($C8:$AG8,"H")=0,"",(AH8+AI8)/(COUNTA($C8:$AG8)-COUNTIF($C8:$AG8,"H")))
B9: Chloe Diaz | C9: H | F9: P | G9: P | H9: P | I9: P | J9: P | M9: P | N9: P | O9: P | P9: P | Q9: P | T9: H | U9: P | V9: P | W9: P | X9: P | AH9: =IF($B9="","",COUNTIF($C9:$AG9,"P")) | AI9: =IF($B9="","",COUNTIF($C9:$AG9,"L")) | AJ9: =IF($B9="","",COUNTIF($C9:$AG9,"A")) | AK9: =IF($B9="","",COUNTIF($C9:$AG9,"E")) | AL9: =IF($B9="","",COUNTIF($C9:$AG9,"S")) | AM9: =IF($B9="","",COUNTIF($C9:$AG9,"V")) | AN9: =IF(COUNTA($C9:$AG9)-COUNTIF($C9:$AG9,"H")=0,"",(AH9+AI9)/(COUNTA($C9:$AG9)-COUNTIF($C9:$AG9,"H")))
B10: Daniel Kim | C10: H | F10: P | G10: P | H10: P | I10: P | J10: P | M10: P | N10: P | O10: P | P10: S | Q10: P | T10: H | U10: P | V10: P | W10: P | X10: P | AH10: =IF($B10="","",COUNTIF($C10:$AG10,"P")) | AI10: =IF($B10="","",COUNTIF($C10:$AG10,"L")) | AJ10: =IF($B10="","",COUNTIF($C10:$AG10,"A")) | AK10: =IF($B10="","",COUNTIF($C10:$AG10,"E")) | AL10: =IF($B10="","",COUNTIF($C10:$AG10,"S")) | AM10: =IF($B10="","",COUNTIF($C10:$AG10,"V")) | AN10: =IF(COUNTA($C10:$AG10)-COUNTIF($C10:$AG10,"H")=0,"",(AH10+AI10)/(COUNTA($C10:$AG10)-COUNTIF($C10:$AG10,"H")))
B11: Ella Novak | C11: H | F11: P | G11: P | H11: P | I11: P | J11: P | M11: P | N11: P | O11: P | P11: P | Q11: P | T11: H | U11: P | V11: A | W11: P | X11: P | AH11: =IF($B11="","",COUNTIF($C11:$AG11,"P")) | AI11: =IF($B11="","",COUNTIF($C11:$AG11,"L")) | AJ11: =IF($B11="","",COUNTIF($C11:$AG11,"A")) | AK11: =IF($B11="","",COUNTIF($C11:$AG11,"E")) | AL11: =IF($B11="","",COUNTIF($C11:$AG11,"S")) | AM11: =IF($B11="","",COUNTIF($C11:$AG11,"V")) | AN11: =IF(COUNTA($C11:$AG11)-COUNTIF($C11:$AG11,"H")=0,"",(AH11+AI11)/(COUNTA($C11:$AG11)-COUNTIF($C11:$AG11,"H")))
B12: Felix Grant | C12: H | F12: P | G12: P | H12: P | I12: E | J12: P | M12: P | N12: P | O12: P | P12: P | Q12: P | T12: H | U12: P | V12: P | W12: P | X12: P | AH12: =IF($B12="","",COUNTIF($C12:$AG12,"P")) | AI12: =IF($B12="","",COUNTIF($C12:$AG12,"L")) | AJ12: =IF($B12="","",COUNTIF($C12:$AG12,"A")) | AK12: =IF($B12="","",COUNTIF($C12:$AG12,"E")) | AL12: =IF($B12="","",COUNTIF($C12:$AG12,"S")) | AM12: =IF($B12="","",COUNTIF($C12:$AG12,"V")) | AN12: =IF(COUNTA($C12:$AG12)-COUNTIF($C12:$AG12,"H")=0,"",(AH12+AI12)/(COUNTA($C12:$AG12)-COUNTIF($C12:$AG12,"H")))
B13: Grace Liu | C13: H | F13: P | G13: P | H13: P | I13: P | J13: P | M13: P | N13: P | O13: L | P13: P | Q13: P | T13: H | U13: P | V13: P | W13: P | X13: L | AH13: =IF($B13="","",COUNTIF($C13:$AG13,"P")) | AI13: =IF($B13="","",COUNTIF($C13:$AG13,"L")) | AJ13: =IF($B13="","",COUNTIF($C13:$AG13,"A")) | AK13: =IF($B13="","",COUNTIF($C13:$AG13,"E")) | AL13: =IF($B13="","",COUNTIF($C13:$AG13,"S")) | AM13: =IF($B13="","",COUNTIF($C13:$AG13,"V")) | AN13: =IF(COUNTA($C13:$AG13)-COUNTIF($C13:$AG13,"H")=0,"",(AH13+AI13)/(COUNTA($C13:$AG13)-COUNTIF($C13:$AG13,"H")))
B14: Henry Adams | C14: H | F14: A | G14: P | H14: P | I14: P | J14: P | M14: P | N14: P | O14: P | P14: P | Q14: P | T14: H | U14: P | V14: P | W14: A | X14: P | AH14: =IF($B14="","",COUNTIF($C14:$AG14,"P")) | AI14: =IF($B14="","",COUNTIF($C14:$AG14,"L")) | AJ14: =IF($B14="","",COUNTIF($C14:$AG14,"A")) | AK14: =IF($B14="","",COUNTIF($C14:$AG14,"E")) | AL14: =IF($B14="","",COUNTIF($C14:$AG14,"S")) | AM14: =IF($B14="","",COUNTIF($C14:$AG14,"V")) | AN14: =IF(COUNTA($C14:$AG14)-COUNTIF($C14:$AG14,"H")=0,"",(AH14+AI14)/(COUNTA($C14:$AG14)-COUNTIF($C14:$AG14,"H")))
B15: Isla Moreno | C15: H | F15: P | G15: P | H15: P | I15: P | J15: L | M15: P | N15: P | O15: P | P15: P | Q15: P | T15: H | U15: P | V15: P | W15: P | X15: P | AH15: =IF($B15="","",COUNTIF($C15:$AG15,"P")) | AI15: =IF($B15="","",COUNTIF($C15:$AG15,"L")) | AJ15: =IF($B15="","",COUNTIF($C15:$AG15,"A")) | AK15: =IF($B15="","",COUNTIF($C15:$AG15,"E")) | AL15: =IF($B15="","",COUNTIF($C15:$AG15,"S")) | AM15: =IF($B15="","",COUNTIF($C15:$AG15,"V")) | AN15: =IF(COUNTA($C15:$AG15)-COUNTIF($C15:$AG15,"H")=0,"",(AH15+AI15)/(COUNTA($C15:$AG15)-COUNTIF($C15:$AG15,"H")))
B16: Jack Turner | C16: H | F16: P | G16: P | H16: P | I16: P | J16: P | M16: P | N16: P | O16: P | P16: P | Q16: P | T16: H | U16: P | V16: P | W16: P | X16: P | AH16: =IF($B16="","",COUNTIF($C16:$AG16,"P")) | AI16: =IF($B16="","",COUNTIF($C16:$AG16,"L")) | AJ16: =IF($B16="","",COUNTIF($C16:$AG16,"A")) | AK16: =IF($B16="","",COUNTIF($C16:$AG16,"E")) | AL16: =IF($B16="","",COUNTIF($C16:$AG16,"S")) | AM16: =IF($B16="","",COUNTIF($C16:$AG16,"V")) | AN16: =IF(COUNTA($C16:$AG16)-COUNTIF($C16:$AG16,"H")=0,"",(AH16+AI16)/(COUNTA($C16:$AG16)-COUNTIF($C16:$AG16,"H")))
B17: Kara Singh | C17: H | F17: P | G17: P | H17: P | I17: E | J17: P | M17: P | N17: P | O17: P | P17: P | Q17: P | T17: H | U17: P | V17: P | W17: P | X17: A | AH17: =IF($B17="","",COUNTIF($C17:$AG17,"P")) | AI17: =IF($B17="","",COUNTIF($C17:$AG17,"L")) | AJ17: =IF($B17="","",COUNTIF($C17:$AG17,"A")) | AK17: =IF($B17="","",COUNTIF($C17:$AG17,"E")) | AL17: =IF($B17="","",COUNTIF($C17:$AG17,"S")) | AM17: =IF($B17="","",COUNTIF($C17:$AG17,"V")) | AN17: =IF(COUNTA($C17:$AG17)-COUNTIF($C17:$AG17,"H")=0,"",(AH17+AI17)/(COUNTA($C17:$AG17)-COUNTIF($C17:$AG17,"H")))
B18: Leo Martin | C18: H | F18: P | G18: P | H18: P | I18: P | J18: P | M18: S | N18: P | O18: P | P18: P | Q18: P | T18: H | U18: P | V18: P | W18: P | X18: P | AH18: =IF($B18="","",COUNTIF($C18:$AG18,"P")) | AI18: =IF($B18="","",COUNTIF($C18:$AG18,"L")) | AJ18: =IF($B18="","",COUNTIF($C18:$AG18,"A")) | AK18: =IF($B18="","",COUNTIF($C18:$AG18,"E")) | AL18: =IF($B18="","",COUNTIF($C18:$AG18,"S")) | AM18: =IF($B18="","",COUNTIF($C18:$AG18,"V")) | AN18: =IF(COUNTA($C18:$AG18)-COUNTIF($C18:$AG18,"H")=0,"",(AH18+AI18)/(COUNTA($C18:$AG18)-COUNTIF($C18:$AG18,"H")))
AH19: =IF($B19="","",COUNTIF($C19:$AG19,"P")) | AI19: =IF($B19="","",COUNTIF($C19:$AG19,"L")) | AJ19: =IF($B19="","",COUNTIF($C19:$AG19,"A")) | AK19: =IF($B19="","",COUNTIF($C19:$AG19,"E")) | AL19: =IF($B19="","",COUNTIF($C19:$AG19,"S")) | AM19: =IF($B19="","",COUNTIF($C19:$AG19,"V")) | AN19: =IF(COUNTA($C19:$AG19)-COUNTIF($C19:$AG19,"H")=0,"",(AH19+AI19)/(COUNTA($C19:$AG19)-COUNTIF($C19:$AG19,"H")))
AH20: =IF($B20="","",COUNTIF($C20:$AG20,"P")) | AI20: =IF($B20="","",COUNTIF($C20:$AG20,"L")) | AJ20: =IF($B20="","",COUNTIF($C20:$AG20,"A")) | AK20: =IF($B20="","",COUNTIF($C20:$AG20,"E")) | AL20: =IF($B20="","",COUNTIF($C20:$AG20,"S")) | AM20: =IF($B20="","",COUNTIF($C20:$AG20,"V")) | AN20: =IF(COUNTA($C20:$AG20)-COUNTIF($C20:$AG20,"H")=0,"",(AH20+AI20)/(COUNTA($C20:$AG20)-COUNTIF($C20:$AG20,"H")))
AH21: =IF($B21="","",COUNTIF($C21:$AG21,"P")) | AI21: =IF($B21="","",COUNTIF($C21:$AG21,"L")) | AJ21: =IF($B21="","",COUNTIF($C21:$AG21,"A")) | AK21: =IF($B21="","",COUNTIF($C21:$AG21,"E")) | AL21: =IF($B21="","",COUNTIF($C21:$AG21,"S")) | AM21: =IF($B21="","",COUNTIF($C21:$AG21,"V")) | AN21: =IF(COUNTA($C21:$AG21)-COUNTIF($C21:$AG21,"H")=0,"",(AH21+AI21)/(COUNTA($C21:$AG21)-COUNTIF($C21:$AG21,"H")))
AH22: =IF($B22="","",COUNTIF($C22:$AG22,"P")) | AI22: =IF($B22="","",COUNTIF($C22:$AG22,"L")) | AJ22: =IF($B22="","",COUNTIF($C22:$AG22,"A")) | AK22: =IF($B22="","",COUNTIF($C22:$AG22,"E")) | AL22: =IF($B22="","",COUNTIF($C22:$AG22,"S")) | AM22: =IF($B22="","",COUNTIF($C22:$AG22,"V")) | AN22: =IF(COUNTA($C22:$AG22)-COUNTIF($C22:$AG22,"H")=0,"",(AH22+AI22)/(COUNTA($C22:$AG22)-COUNTIF($C22:$AG22,"H")))
AH23: =IF($B23="","",COUNTIF($C23:$AG23,"P")) | AI23: =IF($B23="","",COUNTIF($C23:$AG23,"L")) | AJ23: =IF($B23="","",COUNTIF($C23:$AG23,"A")) | AK23: =IF($B23="","",COUNTIF($C23:$AG23,"E")) | AL23: =IF($B23="","",COUNTIF($C23:$AG23,"S")) | AM23: =IF($B23="","",COUNTIF($C23:$AG23,"V")) | AN23: =IF(COUNTA($C23:$AG23)-COUNTIF($C23:$AG23,"H")=0,"",(AH23+AI23)/(COUNTA($C23:$AG23)-COUNTIF($C23:$AG23,"H")))
AH24: =IF($B24="","",COUNTIF($C24:$AG24,"P")) | AI24: =IF($B24="","",COUNTIF($C24:$AG24,"L")) | AJ24: =IF($B24="","",COUNTIF($C24:$AG24,"A")) | AK24: =IF($B24="","",COUNTIF($C24:$AG24,"E")) | AL24: =IF($B24="","",COUNTIF($C24:$AG24,"S")) | AM24: =IF($B24="","",COUNTIF($C24:$AG24,"V")) | AN24: =IF(COUNTA($C24:$AG24)-COUNTIF($C24:$AG24,"H")=0,"",(AH24+AI24)/(COUNTA($C24:$AG24)-COUNTIF($C24:$AG24,"H")))
AH25: =IF($B25="","",COUNTIF($C25:$AG25,"P")) | AI25: =IF($B25="","",COUNTIF($C25:$AG25,"L")) | AJ25: =IF($B25="","",COUNTIF($C25:$AG25,"A")) | AK25: =IF($B25="","",COUNTIF($C25:$AG25,"E")) | AL25: =IF($B25="","",COUNTIF($C25:$AG25,"S")) | AM25: =IF($B25="","",COUNTIF($C25:$AG25,"V")) | AN25: =IF(COUNTA($C25:$AG25)-COUNTIF($C25:$AG25,"H")=0,"",(AH25+AI25)/(COUNTA($C25:$AG25)-COUNTIF($C25:$AG25,"H")))
AH26: =IF($B26="","",COUNTIF($C26:$AG26,"P")) | AI26: =IF($B26="","",COUNTIF($C26:$AG26,"L")) | AJ26: =IF($B26="","",COUNTIF($C26:$AG26,"A")) | AK26: =IF($B26="","",COUNTIF($C26:$AG26,"E")) | AL26: =IF($B26="","",COUNTIF($C26:$AG26,"S")) | AM26: =IF($B26="","",COUNTIF($C26:$AG26,"V")) | AN26: =IF(COUNTA($C26:$AG26)-COUNTIF($C26:$AG26,"H")=0,"",(AH26+AI26)/(COUNTA($C26:$AG26)-COUNTIF($C26:$AG26,"H")))
AH27: =IF($B27="","",COUNTIF($C27:$AG27,"P")) | AI27: =IF($B27="","",COUNTIF($C27:$AG27,"L")) | AJ27: =IF($B27="","",COUNTIF($C27:$AG27,"A")) | AK27: =IF($B27="","",COUNTIF($C27:$AG27,"E")) | AL27: =IF($B27="","",COUNTIF($C27:$AG27,"S")) | AM27: =IF($B27="","",COUNTIF($C27:$AG27,"V")) | AN27: =IF(COUNTA($C27:$AG27)-COUNTIF($C27:$AG27,"H")=0,"",(AH27+AI27)/(COUNTA($C27:$AG27)-COUNTIF($C27:$AG27,"H")))
AH28: =IF($B28="","",COUNTIF($C28:$AG28,"P")) | AI28: =IF($B28="","",COUNTIF($C28:$AG28,"L")) | AJ28: =IF($B28="","",COUNTIF($C28:$AG28,"A")) | AK28: =IF($B28="","",COUNTIF($C28:$AG28,"E")) | AL28: =IF($B28="","",COUNTIF($C28:$AG28,"S")) | AM28: =IF($B28="","",COUNTIF($C28:$AG28,"V")) | AN28: =IF(COUNTA($C28:$AG28)-COUNTIF($C28:$AG28,"H")=0,"",(AH28+AI28)/(COUNTA($C28:$AG28)-COUNTIF($C28:$AG28,"H")))
AH29: =IF($B29="","",COUNTIF($C29:$AG29,"P")) | AI29: =IF($B29="","",COUNTIF($C29:$AG29,"L")) | AJ29: =IF($B29="","",COUNTIF($C29:$AG29,"A")) | AK29: =IF($B29="","",COUNTIF($C29:$AG29,"E")) | AL29: =IF($B29="","",COUNTIF($C29:$AG29,"S")) | AM29: =IF($B29="","",COUNTIF($C29:$AG29,"V")) | AN29: =IF(COUNTA($C29:$AG29)-COUNTIF($C29:$AG29,"H")=0,"",(AH29+AI29)/(COUNTA($C29:$AG29)-COUNTIF($C29:$AG29,"H")))
AH30: =IF($B30="","",COUNTIF($C30:$AG30,"P")) | AI30: =IF($B30="","",COUNTIF($C30:$AG30,"L")) | AJ30: =IF($B30="","",COUNTIF($C30:$AG30,"A")) | AK30: =IF($B30="","",COUNTIF($C30:$AG30,"E")) | AL30: =IF($B30="","",COUNTIF($C30:$AG30,"S")) | AM30: =IF($B30="","",COUNTIF($C30:$AG30,"V")) | AN30: =IF(COUNTA($C30:$AG30)-COUNTIF($C30:$AG30,"H")=0,"",(AH30+AI30)/(COUNTA($C30:$AG30)-COUNTIF($C30:$AG30,"H")))
AH31: =IF($B31="","",COUNTIF($C31:$AG31,"P")) | AI31: =IF($B31="","",COUNTIF($C31:$AG31,"L")) | AJ31: =IF($B31="","",COUNTIF($C31:$AG31,"A")) | AK31: =IF($B31="","",COUNTIF($C31:$AG31,"E")) | AL31: =IF($B31="","",COUNTIF($C31:$AG31,"S")) | AM31: =IF($B31="","",COUNTIF($C31:$AG31,"V")) | AN31: =IF(COUNTA($C31:$AG31)-COUNTIF($C31:$AG31,"H")=0,"",(AH31+AI31)/(COUNTA($C31:$AG31)-COUNTIF($C31:$AG31,"H")))
B32: PRESENT (P+L) | C32: =IF(COUNTA(C7:C31)=0,"",COUNTIF(C7:C31,"P")+COUNTIF(C7:C31,"L")) | D32: =IF(COUNTA(D7:D31)=0,"",COUNTIF(D7:D31,"P")+COUNTIF(D7:D31,"L")) | E32: =IF(COUNTA(E7:E31)=0,"",COUNTIF(E7:E31,"P")+COUNTIF(E7:E31,"L")) | F32: =IF(COUNTA(F7:F31)=0,"",COUNTIF(F7:F31,"P")+COUNTIF(F7:F31,"L")) | G32: =IF(COUNTA(G7:G31)=0,"",COUNTIF(G7:G31,"P")+COUNTIF(G7:G31,"L")) | H32: =IF(COUNTA(H7:H31)=0,"",COUNTIF(H7:H31,"P")+COUNTIF(H7:H31,"L")) | I32: =IF(COUNTA(I7:I31)=0,"",COUNTIF(I7:I31,"P")+COUNTIF(I7:I31,"L")) | J32: =IF(COUNTA(J7:J31)=0,"",COUNTIF(J7:J31,"P")+COUNTIF(J7:J31,"L")) | ... AG32: =IF(COUNTA(AG7:AG31)=0,"",COUNTIF(AG7:AG31,"P")+COUNTIF(AG7:AG31,"L"))
B34: KEY | C34: P | D34: Present | G34: L | H34: Late | K34: A | L34: Absent | O34: E | P34: Excused | S34: S | T34: Sick | W34: V | X34: Vacation | AA34: H | AB34: Holiday | AH34: Rate = (P + L) ÷ marked days, holidays excluded
B36: Free template from niftyshelf.com · free for personal & commercial use

Sheet Feb
A1: =DATE(2027,2,1)
B2: February 2027 | AH2: =Jan!AH2
B3: Monthly attendance — P present · L late · A absent · E excused · S sick · V vacation · H holiday
B5: NAME | C5: =IF(MONTH($A$1+0)=2,DAY($A$1+0),"") | D5: =IF(MONTH($A$1+1)=2,DAY($A$1+1),"") | E5: =IF(MONTH($A$1+2)=2,DAY($A$1+2),"") | F5: =IF(MONTH($A$1+3)=2,DAY($A$1+3),"") | G5: =IF(MONTH($A$1+4)=2,DAY($A$1+4),"") | H5: =IF(MONTH($A$1+5)=2,DAY($A$1+5),"") | I5: =IF(MONTH($A$1+6)=2,DAY($A$1+6),"") | J5: =IF(MONTH($A$1+7)=2,DAY($A$1+7),"") | K5: =IF(MONTH($A$1+8)=2,DAY($A$1+8),"") | L5: =IF(MONTH($A$1+9)=2,DAY($A$1+9),"") | M5: =IF(MONTH($A$1+10)=2,DAY($A$1+10),"") | N5: =IF(MONTH($A$1+11)=2,DAY($A$1+11),"") | O5: =IF(MONTH($A$1+12)=2,DAY($A$1+12),"") | P5: =IF(MONTH($A$1+13)=2,DAY($A$1+13),"") | Q5: =IF(MONTH($A$1+14)=2,DAY($A$1+14),"") | R5: =IF(MONTH($A$1+15)=2,DAY($A$1+15),"") | S5: =IF(MONTH($A$1+16)=2,DAY($A$1+16),"") | T5: =IF(MONTH($A$1+17)=2,DAY($A$1+17),"") | U5: =IF(MONTH($A$1+18)=2,DAY($A$1+18),"") | V5: =IF(MONTH($A$1+19)=2,DAY($A$1+19),"") | W5: =IF(MONTH($A$1+20)=2,DAY($A$1+20),"") | X5: =IF(MONTH($A$1+21)=2,DAY($A$1+21),"") | Y5: =IF(MONTH($A$1+22)=2,DAY($A$1+22),"") | Z5: =IF(MONTH($A$1+23)=2,DAY($A$1+23),"") | AA5: =IF(MONTH($A$1+24)=2,DAY($A$1+24),"") | AB5: =IF(MONTH($A$1+25)=2,DAY($A$1+25),"") | AC5: =IF(MONTH($A$1+26)=2,DAY($A$1+26),"") | AD5: =IF(MONTH($A$1+27)=2,DAY($A$1+27),"") | AE5: =IF(MONTH($A$1+28)=2,DAY($A$1+28),"") | AF5: =IF(MONTH($A$1+29)=2,DAY($A$1+29),"") | AG5: =IF(MONTH($A$1+30)=2,DAY($A$1+30),"") | AH5: P | AI5: L | AJ5: A | AK5: E | AL5: S | AM5: V | AN5: RATE
C6: =IF(C5="","",CHOOSE(WEEKDAY($A$1+0),"Sun","Mon","Tue","Wed","Thu","Fri","Sat")) | D6: =IF(D5="","",CHOOSE(WEEKDAY($A$1+1),"Sun","Mon","Tue","Wed","Thu","Fri","Sat")) | E6: =IF(E5="","",CHOOSE(WEEKDAY($A$1+2),"Sun","Mon","Tue","Wed","Thu","Fri","Sat")) | F6: =IF(F5="","",CHOOSE(WEEKDAY($A$1+3),"Sun","Mon","Tue","Wed","Thu","Fri","Sat")) | G6: =IF(G5="","",CHOOSE(WEEKDAY($A$1+4),"Sun","Mon","Tue","Wed","Thu","Fri","Sat")) | H6: =IF(H5="","",CHOOSE(WEEKDAY($A$1+5),"Sun","Mon","Tue","Wed","Thu","Fri","Sat")) | I6: =IF(I5="","",CHOOSE(WEEKDAY($A$1+6),"Sun","Mon","Tue","Wed","Thu","Fri","Sat")) | J6: =IF(J5="","",CHOOSE(WEEKDAY($A$1+7),"Sun","Mon","Tue","Wed","Thu","Fri","Sat")) | K6: =IF(K5="","",CHOOSE(WEEKDAY($A$1+8),"Sun","Mon","Tue","Wed","Thu","Fri","Sat")) | L6: =IF(L5="","",CHOOSE(WEEKDAY($A$1+9),"Sun","Mon","Tue","Wed","Thu","Fri","Sat")) | M6: =IF(M5="","",CHOOSE(WEEKDAY($A$1+10),"Sun","Mon","Tue","Wed","Thu","Fri","Sat")) | N6: =IF(N5="","",CHOOSE(WEEKDAY($A$1+11),"Sun","Mon","Tue","Wed","Thu","Fri","Sat")) | O6: =IF(O5="","",CHOOSE(WEEKDAY($A$1+12),"Sun","Mon","Tue","Wed","Thu","Fri","Sat")) | P6: =IF(P5="","",CHOOSE(WEEKDAY($A$1+13),"Sun","Mon","Tue","Wed","Thu","Fri","Sat")) | Q6: =IF(Q5="","",CHOOSE(WEEKDAY($A$1+14),"Sun","Mon","Tue","Wed","Thu","Fri","Sat")) | R6: =IF(R5="","",CHOOSE(WEEKDAY($A$1+15),"Sun","Mon","Tue","Wed","Thu","Fri","Sat")) | S6: =IF(S5="","",CHOOSE(WEEKDAY($A$1+16),"Sun","Mon","Tue","Wed","Thu","Fri","Sat")) | T6: =IF(T5="","",CHOOSE(WEEKDAY($A$1+17),"Sun","Mon","Tue","Wed","Thu","Fri","Sat")) | U6: =IF(U5="","",CHOOSE(WEEKDAY($A$1+18),"Sun","Mon","Tue","Wed","Thu","Fri","Sat")) | V6: =IF(V5="","",CHOOSE(WEEKDAY($A$1+19),"Sun","Mon","Tue","Wed","Thu","Fri","Sat")) | W6: =IF(W5="","",CHOOSE(WEEKDAY($A$1+20),"Sun","Mon","Tue","Wed","Thu","Fri","Sat")) | X6: =IF(X5="","",CHOOSE(WEEKDAY($A$1+21),"Sun","Mon","Tue","Wed","Thu","Fri","Sat")) | Y6: =IF(Y5="","",CHOOSE(WEEKDAY($A$1+22),"Sun","Mon","Tue","Wed","Thu","Fri","Sat")) | Z6: =IF(Z5="","",CHOOSE(WEEKDAY($A$1+23),"Sun","Mon","Tue","Wed","Thu","Fri","Sat")) | AA6: =IF(AA5="","",CHOOSE(WEEKDAY($A$1+24),"Sun","Mon","Tue","Wed","Thu","Fri","Sat")) | AB6: =IF(AB5="","",CHOOSE(WEEKDAY($A$1+25),"Sun","Mon","Tue","Wed","Thu","Fri","Sat")) | AC6: =IF(AC5="","",CHOOSE(WEEKDAY($A$1+26),"Sun","Mon","Tue","Wed","Thu","Fri","Sat")) | AD6: =IF(AD5="","",CHOOSE(WEEKDAY($A$1+27),"Sun","Mon","Tue","Wed","Thu","Fri","Sat")) | AE6: =IF(AE5="","",CHOOSE(WEEKDAY($A$1+28),"Sun","Mon","Tue","Wed","Thu","Fri","Sat")) | AF6: =IF(AF5="","",CHOOSE(WEEKDAY($A$1+29),"Sun","Mon","Tue","Wed","Thu","Fri","Sat")) | AG6: =IF(AG5="","",CHOOSE(WEEKDAY($A$1+30),"Sun","Mon","Tue","Wed","Thu","Fri","Sat"))
B7: =IF(Jan!B7="","",Jan!B7) | AH7: =IF($B7="","",COUNTIF($C7:$AG7,"P")) | AI7: =IF($B7="","",COUNTIF($C7:$AG7,"L")) | AJ7: =IF($B7="","",COUNTIF($C7:$AG7,"A")) | AK7: =IF($B7="","",COUNTIF($C7:$AG7,"E")) | AL7: =IF($B7="","",COUNTIF($C7:$AG7,"S")) | AM7: =IF($B7="","",COUNTIF($C7:$AG7,"V")) | AN7: =IF(COUNTA($C7:$AG7)-COUNTIF($C7:$AG7,"H")=0,"",(AH7+AI7)/(COUNTA($C7:$AG7)-COUNTIF($C7:$AG7,"H")))
B8: =IF(Jan!B8="","",Jan!B8) | AH8: =IF($B8="","",COUNTIF($C8:$AG8,"P")) | AI8: =IF($B8="","",COUNTIF($C8:$AG8,"L")) | AJ8: =IF($B8="","",COUNTIF($C8:$AG8,"A")) | AK8: =IF($B8="","",COUNTIF($C8:$AG8,"E")) | AL8: =IF($B8="","",COUNTIF($C8:$AG8,"S")) | AM8: =IF($B8="","",COUNTIF($C8:$AG8,"V")) | AN8: =IF(COUNTA($C8:$AG8)-COUNTIF($C8:$AG8,"H")=0,"",(AH8+AI8)/(COUNTA($C8:$AG8)-COUNTIF($C8:$AG8,"H")))
B9: =IF(Jan!B9="","",Jan!B9) | AH9: =IF($B9="","",COUNTIF($C9:$AG9,"P")) | AI9: =IF($B9="","",COUNTIF($C9:$AG9,"L")) | AJ9: =IF($B9="","",COUNTIF($C9:$AG9,"A")) | AK9: =IF($B9="","",COUNTIF($C9:$AG9,"E")) | AL9: =IF($B9="","",COUNTIF($C9:$AG9,"S")) | AM9: =IF($B9="","",COUNTIF($C9:$AG9,"V")) | AN9: =IF(COUNTA($C9:$AG9)-COUNTIF($C9:$AG9,"H")=0,"",(AH9+AI9)/(COUNTA($C9:$AG9)-COUNTIF($C9:$AG9,"H")))
B10: =IF(Jan!B10="","",Jan!B10) | AH10: =IF($B10="","",COUNTIF($C10:$AG10,"P")) | AI10: =IF($B10="","",COUNTIF($C10:$AG10,"L")) | AJ10: =IF($B10="","",COUNTIF($C10:$AG10,"A")) | AK10: =IF($B10="","",COUNTIF($C10:$AG10,"E")) | AL10: =IF($B10="","",COUNTIF($C10:$AG10,"S")) | AM10: =IF($B10="","",COUNTIF($C10:$AG10,"V")) | AN10: =IF(COUNTA($C10:$AG10)-COUNTIF($C10:$AG10,"H")=0,"",(AH10+AI10)/(COUNTA($C10:$AG10)-COUNTIF($C10:$AG10,"H")))
B11: =IF(Jan!B11="","",Jan!B11) | AH11: =IF($B11="","",COUNTIF($C11:$AG11,"P")) | AI11: =IF($B11="","",COUNTIF($C11:$AG11,"L")) | AJ11: =IF($B11="","",COUNTIF($C11:$AG11,"A")) | AK11: =IF($B11="","",COUNTIF($C11:$AG11,"E")) | AL11: =IF($B11="","",COUNTIF($C11:$AG11,"S")) | AM11: =IF($B11="","",COUNTIF($C11:$AG11,"V")) | AN11: =IF(COUNTA($C11:$AG11)-COUNTIF($C11:$AG11,"H")=0,"",(AH11+AI11)/(COUNTA($C11:$AG11)-COUNTIF($C11:$AG11,"H")))
B12: =IF(Jan!B12="","",Jan!B12) | AH12: =IF($B12="","",COUNTIF($C12:$AG12,"P")) | AI12: =IF($B12="","",COUNTIF($C12:$AG12,"L")) | AJ12: =IF($B12="","",COUNTIF($C12:$AG12,"A")) | AK12: =IF($B12="","",COUNTIF($C12:$AG12,"E")) | AL12: =IF($B12="","",COUNTIF($C12:$AG12,"S")) | AM12: =IF($B12="","",COUNTIF($C12:$AG12,"V")) | AN12: =IF(COUNTA($C12:$AG12)-COUNTIF($C12:$AG12,"H")=0,"",(AH12+AI12)/(COUNTA($C12:$AG12)-COUNTIF($C12:$AG12,"H")))
B13: =IF(Jan!B13="","",Jan!B13) | AH13: =IF($B13="","",COUNTIF($C13:$AG13,"P")) | AI13: =IF($B13="","",COUNTIF($C13:$AG13,"L")) | AJ13: =IF($B13="","",COUNTIF($C13:$AG13,"A")) | AK13: =IF($B13="","",COUNTIF($C13:$AG13,"E")) | AL13: =IF($B13="","",COUNTIF($C13:$AG13,"S")) | AM13: =IF($B13="","",COUNTIF($C13:$AG13,"V")) | AN13: =IF(COUNTA($C13:$AG13)-COUNTIF($C13:$AG13,"H")=0,"",(AH13+AI13)/(COUNTA($C13:$AG13)-COUNTIF($C13:$AG13,"H")))
B14: =IF(Jan!B14="","",Jan!B14) | AH14: =IF($B14="","",COUNTIF($C14:$AG14,"P")) | AI14: =IF($B14="","",COUNTIF($C14:$AG14,"L")) | AJ14: =IF($B14="","",COUNTIF($C14:$AG14,"A")) | AK14: =IF($B14="","",COUNTIF($C14:$AG14,"E")) | AL14: =IF($B14="","",COUNTIF($C14:$AG14,"S")) | AM14: =IF($B14="","",COUNTIF($C14:$AG14,"V")) | AN14: =IF(COUNTA($C14:$AG14)-COUNTIF($C14:$AG14,"H")=0,"",(AH14+AI14)/(COUNTA($C14:$AG14)-COUNTIF($C14:$AG14,"H")))
B15: =IF(Jan!B15="","",Jan!B15) | AH15: =IF($B15="","",COUNTIF($C15:$AG15,"P")) | AI15: =IF($B15="","",COUNTIF($C15:$AG15,"L")) | AJ15: =IF($B15="","",COUNTIF($C15:$AG15,"A")) | AK15: =IF($B15="","",COUNTIF($C15:$AG15,"E")) | AL15: =IF($B15="","",COUNTIF($C15:$AG15,"S")) | AM15: =IF($B15="","",COUNTIF($C15:$AG15,"V")) | AN15: =IF(COUNTA($C15:$AG15)-COUNTIF($C15:$AG15,"H")=0,"",(AH15+AI15)/(COUNTA($C15:$AG15)-COUNTIF($C15:$AG15,"H")))
B16: =IF(Jan!B16="","",Jan!B16) | AH16: =IF($B16="","",COUNTIF($C16:$AG16,"P")) | AI16: =IF($B16="","",COUNTIF($C16:$AG16,"L")) | AJ16: =IF($B16="","",COUNTIF($C16:$AG16,"A")) | AK16: =IF($B16="","",COUNTIF($C16:$AG16,"E")) | AL16: =IF($B16="","",COUNTIF($C16:$AG16,"S")) | AM16: =IF($B16="","",COUNTIF($C16:$AG16,"V")) | AN16: =IF(COUNTA($C16:$AG16)-COUNTIF($C16:$AG16,"H")=0,"",(AH16+AI16)/(COUNTA($C16:$AG16)-COUNTIF($C16:$AG16,"H")))
B17: =IF(Jan!B17="","",Jan!B17) | AH17: =IF($B17="","",COUNTIF($C17:$AG17,"P")) | AI17: =IF($B17="","",COUNTIF($C17:$AG17,"L")) | AJ17: =IF($B17="","",COUNTIF($C17:$AG17,"A")) | AK17: =IF($B17="","",COUNTIF($C17:$AG17,"E")) | AL17: =IF($B17="","",COUNTIF($C17:$AG17,"S")) | AM17: =IF($B17="","",COUNTIF($C17:$AG17,"V")) | AN17: =IF(COUNTA($C17:$AG17)-COUNTIF($C17:$AG17,"H")=0,"",(AH17+AI17)/(COUNTA($C17:$AG17)-COUNTIF($C17:$AG17,"H")))
B18: =IF(Jan!B18="","",Jan!B18) | AH18: =IF($B18="","",COUNTIF($C18:$AG18,"P")) | AI18: =IF($B18="","",COUNTIF($C18:$AG18,"L")) | AJ18: =IF($B18="","",COUNTIF($C18:$AG18,"A")) | AK18: =IF($B18="","",COUNTIF($C18:$AG18,"E")) | AL18: =IF($B18="","",COUNTIF($C18:$AG18,"S")) | AM18: =IF($B18="","",COUNTIF($C18:$AG18,"V")) | AN18: =IF(COUNTA($C18:$AG18)-COUNTIF($C18:$AG18,"H")=0,"",(AH18+AI18)/(COUNTA($C18:$AG18)-COUNTIF($C18:$AG18,"H")))
... B31: =IF(Jan!B31="","",Jan!B31) | AH31: =IF($B31="","",COUNTIF($C31:$AG31,"P")) | AI31: =IF($B31="","",COUNTIF($C31:$AG31,"L")) | AJ31: =IF($B31="","",COUNTIF($C31:$AG31,"A")) | AK31: =IF($B31="","",COUNTIF($C31:$AG31,"E")) | AL31: =IF($B31="","",COUNTIF($C31:$AG31,"S")) | AM31: =IF($B31="","",COUNTIF($C31:$AG31,"V")) | AN31: =IF(COUNTA($C31:$AG31)-COUNTIF($C31:$AG31,"H")=0,"",(AH31+AI31)/(COUNTA($C31:$AG31)-COUNTIF($C31:$AG31,"H")))
B32: PRESENT (P+L) | C32: =IF(COUNTA(C7:C31)=0,"",COUNTIF(C7:C31,"P")+COUNTIF(C7:C31,"L")) | D32: =IF(COUNTA(D7:D31)=0,"",COUNTIF(D7:D31,"P")+COUNTIF(D7:D31,"L")) | E32: =IF(COUNTA(E7:E31)=0,"",COUNTIF(E7:E31,"P")+COUNTIF(E7:E31,"L")) | F32: =IF(COUNTA(F7:F31)=0,"",COUNTIF(F7:F31,"P")+COUNTIF(F7:F31,"L")) | G32: =IF(COUNTA(G7:G31)=0,"",COUNTIF(G7:G31,"P")+COUNTIF(G7:G31,"L")) | H32: =IF(COUNTA(H7:H31)=0,"",COUNTIF(H7:H31,"P")+COUNTIF(H7:H31,"L")) | I32: =IF(COUNTA(I7:I31)=0,"",COUNTIF(I7:I31,"P")+COUNTIF(I7:I31,"L")) | J32: =IF(COUNTA(J7:J31)=0,"",COUNTIF(J7:J31,"P")+COUNTIF(J7:J31,"L")) | ... AG32: =IF(COUNTA(AG7:AG31)=0,"",COUNTIF(AG7:AG31,"P")+COUNTIF(AG7:AG31,"L"))
B34: KEY | C34: P | D34: Present | G34: L | H34: Late | K34: A | L34: Absent | O34: E | P34: Excused | S34: S | T34: Sick | W34: V | X34: Vacation | AA34: H | AB34: Holiday | AH34: Rate = (P + L) ÷ marked days, holidays excluded
B36: Free template from niftyshelf.com · free for personal & commercial use

Sheet Mar
A1: =DATE(2027,3,1)
B2: March 2027 | AH2: =Jan!AH2
B3: Monthly attendance — P present · L late · A absent · E excused · S sick · V vacation · H holiday
B5: NAME | C5: =IF(MONTH($A$1+0)=3,DAY($A$1+0),"") | D5: =IF(MONTH($A$1+1)=3,DAY($A$1+1),"") | E5: =IF(MONTH($A$1+2)=3,DAY($A$1+2),"") | F5: =IF(MONTH($A$1+3)=3,DAY($A$1+3),"") | G5: =IF(MONTH($A$1+4)=3,DAY($A$1+4),"") | H5: =IF(MONTH($A$1+5)=3,DAY($A$1+5),"") | I5: =IF(MONTH($A$1+6)=3,DAY($A$1+6),"") | J5: =IF(MONTH($A$1+7)=3,DAY($A$1+7),"") | K5: =IF(MONTH($A$1+8)=3,DAY($A$1+8),"") | L5: =IF(MONTH($A$1+9)=3,DAY($A$1+9),"") | M5: =IF(MONTH($A$1+10)=3,DAY($A$1+10),"") | N5: =IF(MONTH($A$1+11)=3,DAY($A$1+11),"") | O5: =IF(MONTH($A$1+12)=3,DAY($A$1+12),"") | P5: =IF(MONTH($A$1+13)=3,DAY($A$1+13),"") | Q5: =IF(MONTH($A$1+14)=3,DAY($A$1+14),"") | R5: =IF(MONTH($A$1+15)=3,DAY($A$1+15),"") | S5: =IF(MONTH($A$1+16)=3,DAY($A$1+16),"") | T5: =IF(MONTH($A$1+17)=3,DAY($A$1+17),"") | U5: =IF(MONTH($A$1+18)=3,DAY($A$1+18),"") | V5: =IF(MONTH($A$1+19)=3,DAY($A$1+19),"") | W5: =IF(MONTH($A$1+20)=3,DAY($A$1+20),"") | X5: =IF(MONTH($A$1+21)=3,DAY($A$1+21),"") | Y5: =IF(MONTH($A$1+22)=3,DAY($A$1+22),"") | Z5: =IF(MONTH($A$1+23)=3,DAY($A$1+23),"") | AA5: =IF(MONTH($A$1+24)=3,DAY($A$1+24),"") | AB5: =IF(MONTH($A$1+25)=3,DAY($A$1+25),"") | AC5: =IF(MONTH($A$1+26)=3,DAY($A$1+26),"") | AD5: =IF(MONTH($A$1+27)=3,DAY($A$1+27),"") | AE5: =IF(MONTH($A$1+28)=3,DAY($A$1+28),"") | AF5: =IF(MONTH($A$1+29)=3,DAY($A$1+29),"") | AG5: =IF(MONTH($A$1+30)=3,DAY($A$1+30),"") | AH5: P | AI5: L | AJ5: A | AK5: E | AL5: S | AM5: V | AN5: RATE
C6: =IF(C5="","",CHOOSE(WEEKDAY($A$1+0),"Sun","Mon","Tue","Wed","Thu","Fri","Sat")) | D6: =IF(D5="","",CHOOSE(WEEKDAY($A$1+1),"Sun","Mon","Tue","Wed","Thu","Fri","Sat")) | E6: =IF(E5="","",CHOOSE(WEEKDAY($A$1+2),"Sun","Mon","Tue","Wed","Thu","Fri","Sat")) | F6: =IF(F5="","",CHOOSE(WEEKDAY($A$1+3),"Sun","Mon","Tue","Wed","Thu","Fri","Sat")) | G6: =IF(G5="","",CHOOSE(WEEKDAY($A$1+4),"Sun","Mon","Tue","Wed","Thu","Fri","Sat")) | H6: =IF(H5="","",CHOOSE(WEEKDAY($A$1+5),"Sun","Mon","Tue","Wed","Thu","Fri","Sat")) | I6: =IF(I5="","",CHOOSE(WEEKDAY($A$1+6),"Sun","Mon","Tue","Wed","Thu","Fri","Sat")) | J6: =IF(J5="","",CHOOSE(WEEKDAY($A$1+7),"Sun","Mon","Tue","Wed","Thu","Fri","Sat")) | K6: =IF(K5="","",CHOOSE(WEEKDAY($A$1+8),"Sun","Mon","Tue","Wed","Thu","Fri","Sat")) | L6: =IF(L5="","",CHOOSE(WEEKDAY($A$1+9),"Sun","Mon","Tue","Wed","Thu","Fri","Sat")) | M6: =IF(M5="","",CHOOSE(WEEKDAY($A$1+10),"Sun","Mon","Tue","Wed","Thu","Fri","Sat")) | N6: =IF(N5="","",CHOOSE(WEEKDAY($A$1+11),"Sun","Mon","Tue","Wed","Thu","Fri","Sat")) | O6: =IF(O5="","",CHOOSE(WEEKDAY($A$1+12),"Sun","Mon","Tue","Wed","Thu","Fri","Sat")) | P6: =IF(P5="","",CHOOSE(WEEKDAY($A$1+13),"Sun","Mon","Tue","Wed","Thu","Fri","Sat")) | Q6: =IF(Q5="","",CHOOSE(WEEKDAY($A$1+14),"Sun","Mon","Tue","Wed","Thu","Fri","Sat")) | R6: =IF(R5="","",CHOOSE(WEEKDAY($A$1+15),"Sun","Mon","Tue","Wed","Thu","Fri","Sat")) | S6: =IF(S5="","",CHOOSE(WEEKDAY($A$1+16),"Sun","Mon","Tue","Wed","Thu","Fri","Sat")) | T6: =IF(T5="","",CHOOSE(WEEKDAY($A$1+17),"Sun","Mon","Tue","Wed","Thu","Fri","Sat")) | U6: =IF(U5="","",CHOOSE(WEEKDAY($A$1+18),"Sun","Mon","Tue","Wed","Thu","Fri","Sat")) | V6: =IF(V5="","",CHOOSE(WEEKDAY($A$1+19),"Sun","Mon","Tue","Wed","Thu","Fri","Sat")) | W6: =IF(W5="","",CHOOSE(WEEKDAY($A$1+20),"Sun","Mon","Tue","Wed","Thu","Fri","Sat")) | X6: =IF(X5="","",CHOOSE(WEEKDAY($A$1+21),"Sun","Mon","Tue","Wed","Thu","Fri","Sat")) | Y6: =IF(Y5="","",CHOOSE(WEEKDAY($A$1+22),"Sun","Mon","Tue","Wed","Thu","Fri","Sat")) | Z6: =IF(Z5="","",CHOOSE(WEEKDAY($A$1+23),"Sun","Mon","Tue","Wed","Thu","Fri","Sat")) | AA6: =IF(AA5="","",CHOOSE(WEEKDAY($A$1+24),"Sun","Mon","Tue","Wed","Thu","Fri","Sat")) | AB6: =IF(AB5="","",CHOOSE(WEEKDAY($A$1+25),"Sun","Mon","Tue","Wed","Thu","Fri","Sat")) | AC6: =IF(AC5="","",CHOOSE(WEEKDAY($A$1+26),"Sun","Mon","Tue","Wed","Thu","Fri","Sat")) | AD6: =IF(AD5="","",CHOOSE(WEEKDAY($A$1+27),"Sun","Mon","Tue","Wed","Thu","Fri","Sat")) | AE6: =IF(AE5="","",CHOOSE(WEEKDAY($A$1+28),"Sun","Mon","Tue","Wed","Thu","Fri","Sat")) | AF6: =IF(AF5="","",CHOOSE(WEEKDAY($A$1+29),"Sun","Mon","Tue","Wed","Thu","Fri","Sat")) | AG6: =IF(AG5="","",CHOOSE(WEEKDAY($A$1+30),"Sun","Mon","Tue","Wed","Thu","Fri","Sat"))
B7: =IF(Jan!B7="","",Jan!B7) | AH7: =IF($B7="","",COUNTIF($C7:$AG7,"P")) | AI7: =IF($B7="","",COUNTIF($C7:$AG7,"L")) | AJ7: =IF($B7="","",COUNTIF($C7:$AG7,"A")) | AK7: =IF($B7="","",COUNTIF($C7:$AG7,"E")) | AL7: =IF($B7="","",COUNTIF($C7:$AG7,"S")) | AM7: =IF($B7="","",COUNTIF($C7:$AG7,"V")) | AN7: =IF(COUNTA($C7:$AG7)-COUNTIF($C7:$AG7,"H")=0,"",(AH7+AI7)/(COUNTA($C7:$AG7)-COUNTIF($C7:$AG7,"H")))
B8: =IF(Jan!B8="","",Jan!B8) | AH8: =IF($B8="","",COUNTIF($C8:$AG8,"P")) | AI8: =IF($B8="","",COUNTIF($C8:$AG8,"L")) | AJ8: =IF($B8="","",COUNTIF($C8:$AG8,"A")) | AK8: =IF($B8="","",COUNTIF($C8:$AG8,"E")) | AL8: =IF($B8="","",COUNTIF($C8:$AG8,"S")) | AM8: =IF($B8="","",COUNTIF($C8:$AG8,"V")) | AN8: =IF(COUNTA($C8:$AG8)-COUNTIF($C8:$AG8,"H")=0,"",(AH8+AI8)/(COUNTA($C8:$AG8)-COUNTIF($C8:$AG8,"H")))
B9: =IF(Jan!B9="","",Jan!B9) | AH9: =IF($B9="","",COUNTIF($C9:$AG9,"P")) | AI9: =IF($B9="","",COUNTIF($C9:$AG9,"L")) | AJ9: =IF($B9="","",COUNTIF($C9:$AG9,"A")) | AK9: =IF($B9="","",COUNTIF($C9:$AG9,"E")) | AL9: =IF($B9="","",COUNTIF($C9:$AG9,"S")) | AM9: =IF($B9="","",COUNTIF($C9:$AG9,"V")) | AN9: =IF(COUNTA($C9:$AG9)-COUNTIF($C9:$AG9,"H")=0,"",(AH9+AI9)/(COUNTA($C9:$AG9)-COUNTIF($C9:$AG9,"H")))
B10: =IF(Jan!B10="","",Jan!B10) | AH10: =IF($B10="","",COUNTIF($C10:$AG10,"P")) | AI10: =IF($B10="","",COUNTIF($C10:$AG10,"L")) | AJ10: =IF($B10="","",COUNTIF($C10:$AG10,"A")) | AK10: =IF($B10="","",COUNTIF($C10:$AG10,"E")) | AL10: =IF($B10="","",COUNTIF($C10:$AG10,"S")) | AM10: =IF($B10="","",COUNTIF($C10:$AG10,"V")) | AN10: =IF(COUNTA($C10:$AG10)-COUNTIF($C10:$AG10,"H")=0,"",(AH10+AI10)/(COUNTA($C10:$AG10)-COUNTIF($C10:$AG10,"H")))
B11: =IF(Jan!B11="","",Jan!B11) | AH11: =IF($B11="","",COUNTIF($C11:$AG11,"P")) | AI11: =IF($B11="","",COUNTIF($C11:$AG11,"L")) | AJ11: =IF($B11="","",COUNTIF($C11:$AG11,"A")) | AK11: =IF($B11="","",COUNTIF($C11:$AG11,"E")) | AL11: =IF($B11="","",COUNTIF($C11:$AG11,"S")) | AM11: =IF($B11="","",COUNTIF($C11:$AG11,"V")) | AN11: =IF(COUNTA($C11:$AG11)-COUNTIF($C11:$AG11,"H")=0,"",(AH11+AI11)/(COUNTA($C11:$AG11)-COUNTIF($C11:$AG11,"H")))
B12: =IF(Jan!B12="","",Jan!B12) | AH12: =IF($B12="","",COUNTIF($C12:$AG12,"P")) | AI12: =IF($B12="","",COUNTIF($C12:$AG12,"L")) | AJ12: =IF($B12="","",COUNTIF($C12:$AG12,"A")) | AK12: =IF($B12="","",COUNTIF($C12:$AG12,"E")) | AL12: =IF($B12="","",COUNTIF($C12:$AG12,"S")) | AM12: =IF($B12="","",COUNTIF($C12:$AG12,"V")) | AN12: =IF(COUNTA($C12:$AG12)-COUNTIF($C12:$AG12,"H")=0,"",(AH12+AI12)/(COUNTA($C12:$AG12)-COUNTIF($C12:$AG12,"H")))
B13: =IF(Jan!B13="","",Jan!B13) | AH13: =IF($B13="","",COUNTIF($C13:$AG13,"P")) | AI13: =IF($B13="","",COUNTIF($C13:$AG13,"L")) | AJ13: =IF($B13="","",COUNTIF($C13:$AG13,"A")) | AK13: =IF($B13="","",COUNTIF($C13:$AG13,"E")) | AL13: =IF($B13="","",COUNTIF($C13:$AG13,"S")) | AM13: =IF($B13="","",COUNTIF($C13:$AG13,"V")) | AN13: =IF(COUNTA($C13:$AG13)-COUNTIF($C13:$AG13,"H")=0,"",(AH13+AI13)/(COUNTA($C13:$AG13)-COUNTIF($C13:$AG13,"H")))
B14: =IF(Jan!B14="","",Jan!B14) | AH14: =IF($B14="","",COUNTIF($C14:$AG14,"P")) | AI14: =IF($B14="","",COUNTIF($C14:$AG14,"L")) | AJ14: =IF($B14="","",COUNTIF($C14:$AG14,"A")) | AK14: =IF($B14="","",COUNTIF($C14:$AG14,"E")) | AL14: =IF($B14="","",COUNTIF($C14:$AG14,"S")) | AM14: =IF($B14="","",COUNTIF($C14:$AG14,"V")) | AN14: =IF(COUNTA($C14:$AG14)-COUNTIF($C14:$AG14,"H")=0,"",(AH14+AI14)/(COUNTA($C14:$AG14)-COUNTIF($C14:$AG14,"H")))
B15: =IF(Jan!B15="","",Jan!B15) | AH15: =IF($B15="","",COUNTIF($C15:$AG15,"P")) | AI15: =IF($B15="","",COUNTIF($C15:$AG15,"L")) | AJ15: =IF($B15="","",COUNTIF($C15:$AG15,"A")) | AK15: =IF($B15="","",COUNTIF($C15:$AG15,"E")) | AL15: =IF($B15="","",COUNTIF($C15:$AG15,"S")) | AM15: =IF($B15="","",COUNTIF($C15:$AG15,"V")) | AN15: =IF(COUNTA($C15:$AG15)-COUNTIF($C15:$AG15,"H")=0,"",(AH15+AI15)/(COUNTA($C15:$AG15)-COUNTIF($C15:$AG15,"H")))
B16: =IF(Jan!B16="","",Jan!B16) | AH16: =IF($B16="","",COUNTIF($C16:$AG16,"P")) | AI16: =IF($B16="","",COUNTIF($C16:$AG16,"L")) | AJ16: =IF($B16="","",COUNTIF($C16:$AG16,"A")) | AK16: =IF($B16="","",COUNTIF($C16:$AG16,"E")) | AL16: =IF($B16="","",COUNTIF($C16:$AG16,"S")) | AM16: =IF($B16="","",COUNTIF($C16:$AG16,"V")) | AN16: =IF(COUNTA($C16:$AG16)-COUNTIF($C16:$AG16,"H")=0,"",(AH16+AI16)/(COUNTA($C16:$AG16)-COUNTIF($C16:$AG16,"H")))
B17: =IF(Jan!B17="","",Jan!B17) | AH17: =IF($B17="","",COUNTIF($C17:$AG17,"P")) | AI17: =IF($B17="","",COUNTIF($C17:$AG17,"L")) | AJ17: =IF($B17="","",COUNTIF($C17:$AG17,"A")) | AK17: =IF($B17="","",COUNTIF($C17:$AG17,"E")) | AL17: =IF($B17="","",COUNTIF($C17:$AG17,"S")) | AM17: =IF($B17="","",COUNTIF($C17:$AG17,"V")) | AN17: =IF(COUNTA($C17:$AG17)-COUNTIF($C17:$AG17,"H")=0,"",(AH17+AI17)/(COUNTA($C17:$AG17)-COUNTIF($C17:$AG17,"H")))
B18: =IF(Jan!B18="","",Jan!B18) | AH18: =IF($B18="","",COUNTIF($C18:$AG18,"P")) | AI18: =IF($B18="","",COUNTIF($C18:$AG18,"L")) | AJ18: =IF($B18="","",COUNTIF($C18:$AG18,"A")) | AK18: =IF($B18="","",COUNTIF($C18:$AG18,"E")) | AL18: =IF($B18="","",COUNTIF($C18:$AG18,"S")) | AM18: =IF($B18="","",COUNTIF($C18:$AG18,"V")) | AN18: =IF(COUNTA($C18:$AG18)-COUNTIF($C18:$AG18,"H")=0,"",(AH18+AI18)/(COUNTA($C18:$AG18)-COUNTIF($C18:$AG18,"H")))
... B31: =IF(Jan!B31="","",Jan!B31) | AH31: =IF($B31="","",COUNTIF($C31:$AG31,"P")) | AI31: =IF($B31="","",COUNTIF($C31:$AG31,"L")) | AJ31: =IF($B31="","",COUNTIF($C31:$AG31,"A")) | AK31: =IF($B31="","",COUNTIF($C31:$AG31,"E")) | AL31: =IF($B31="","",COUNTIF($C31:$AG31,"S")) | AM31: =IF($B31="","",COUNTIF($C31:$AG31,"V")) | AN31: =IF(COUNTA($C31:$AG31)-COUNTIF($C31:$AG31,"H")=0,"",(AH31+AI31)/(COUNTA($C31:$AG31)-COUNTIF($C31:$AG31,"H")))
B32: PRESENT (P+L) | C32: =IF(COUNTA(C7:C31)=0,"",COUNTIF(C7:C31,"P")+COUNTIF(C7:C31,"L")) | D32: =IF(COUNTA(D7:D31)=0,"",COUNTIF(D7:D31,"P")+COUNTIF(D7:D31,"L")) | E32: =IF(COUNTA(E7:E31)=0,"",COUNTIF(E7:E31,"P")+COUNTIF(E7:E31,"L")) | F32: =IF(COUNTA(F7:F31)=0,"",COUNTIF(F7:F31,"P")+COUNTIF(F7:F31,"L")) | G32: =IF(COUNTA(G7:G31)=0,"",COUNTIF(G7:G31,"P")+COUNTIF(G7:G31,"L")) | H32: =IF(COUNTA(H7:H31)=0,"",COUNTIF(H7:H31,"P")+COUNTIF(H7:H31,"L")) | I32: =IF(COUNTA(I7:I31)=0,"",COUNTIF(I7:I31,"P")+COUNTIF(I7:I31,"L")) | J32: =IF(COUNTA(J7:J31)=0,"",COUNTIF(J7:J31,"P")+COUNTIF(J7:J31,"L")) | ... AG32: =IF(COUNTA(AG7:AG31)=0,"",COUNTIF(AG7:AG31,"P")+COUNTIF(AG7:AG31,"L"))
B34: KEY | C34: P | D34: Present | G34: L | H34: Late | K34: A | L34: Absent | O34: E | P34: Excused | S34: S | T34: Sick | W34: V | X34: Vacation | AA34: H | AB34: Holiday | AH34: Rate = (P + L) ÷ marked days, holidays excluded
B36: Free template from niftyshelf.com · free for personal & commercial use

Sheet Apr
A1: =DATE(2027,4,1)
B2: April 2027 | AH2: =Jan!AH2
B3: Monthly attendance — P present · L late · A absent · E excused · S sick · V vacation · H holiday
B5: NAME | C5: =IF(MONTH($A$1+0)=4,DAY($A$1+0),"") | D5: =IF(MONTH($A$1+1)=4,DAY($A$1+1),"") | E5: =IF(MONTH($A$1+2)=4,DAY($A$1+2),"") | F5: =IF(MONTH($A$1+3)=4,DAY($A$1+3),"") | G5: =IF(MONTH($A$1+4)=4,DAY($A$1+4),"") | H5: =IF(MONTH($A$1+5)=4,DAY($A$1+5),"") | I5: =IF(MONTH($A$1+6)=4,DAY($A$1+6),"") | J5: =IF(MONTH($A$1+7)=4,DAY($A$1+7),"") | K5: =IF(MONTH($A$1+8)=4,DAY($A$1+8),"") | L5: =IF(MONTH($A$1+9)=4,DAY($A$1+9),"") | M5: =IF(MONTH($A$1+10)=4,DAY($A$1+10),"") | N5: =IF(MONTH($A$1+11)=4,DAY($A$1+11),"") | O5: =IF(MONTH($A$1+12)=4,DAY($A$1+12),"") | P5: =IF(MONTH($A$1+13)=4,DAY($A$1+13),"") | Q5: =IF(MONTH($A$1+14)=4,DAY($A$1+14),"") | R5: =IF(MONTH($A$1+15)=4,DAY($A$1+15),"") | S5: =IF(MONTH($A$1+16)=4,DAY($A$1+16),"") | T5: =IF(MONTH($A$1+17)=4,DAY($A$1+17),"") | U5: =IF(MONTH($A$1+18)=4,DAY($A$1+18),"") | V5: =IF(MONTH($A$1+19)=4,DAY($A$1+19),"") | W5: =IF(MONTH($A$1+20)=4,DAY($A$1+20),"") | X5: =IF(MONTH($A$1+21)=4,DAY($A$1+21),"") | Y5: =IF(MONTH($A$1+22)=4,DAY($A$1+22),"") | Z5: =IF(MONTH($A$1+23)=4,DAY($A$1+23),"") | AA5: =IF(MONTH($A$1+24)=4,DAY($A$1+24),"") | AB5: =IF(MONTH($A$1+25)=4,DAY($A$1+25),"") | AC5: =IF(MONTH($A$1+26)=4,DAY($A$1+26),"") | AD5: =IF(MONTH($A$1+27)=4,DAY($A$1+27),"") | AE5: =IF(MONTH($A$1+28)=4,DAY($A$1+28),"") | AF5: =IF(MONTH($A$1+29)=4,DAY($A$1+29),"") | AG5: =IF(MONTH($A$1+30)=4,DAY($A$1+30),"") | AH5: P | AI5: L | AJ5: A | AK5: E | AL5: S | AM5: V | AN5: RATE
C6: =IF(C5="","",CHOOSE(WEEKDAY($A$1+0),"Sun","Mon","Tue","Wed","Thu","Fri","Sat")) | D6: =IF(D5="","",CHOOSE(WEEKDAY($A$1+1),"Sun","Mon","Tue","Wed","Thu","Fri","Sat")) | E6: =IF(E5="","",CHOOSE(WEEKDAY($A$1+2),"Sun","Mon","Tue","Wed","Thu","Fri","Sat")) | F6: =IF(F5="","",CHOOSE(WEEKDAY($A$1+3),"Sun","Mon","Tue","Wed","Thu","Fri","Sat")) | G6: =IF(G5="","",CHOOSE(WEEKDAY($A$1+4),"Sun","Mon","Tue","Wed","Thu","Fri","Sat")) | H6: =IF(H5="","",CHOOSE(WEEKDAY($A$1+5),"Sun","Mon","Tue","Wed","Thu","Fri","Sat")) | I6: =IF(I5="","",CHOOSE(WEEKDAY($A$1+6),"Sun","Mon","Tue","Wed","Thu","Fri","Sat")) | J6: =IF(J5="","",CHOOSE(WEEKDAY($A$1+7),"Sun","Mon","Tue","Wed","Thu","Fri","Sat")) | K6: =IF(K5="","",CHOOSE(WEEKDAY($A$1+8),"Sun","Mon","Tue","Wed","Thu","Fri","Sat")) | L6: =IF(L5="","",CHOOSE(WEEKDAY($A$1+9),"Sun","Mon","Tue","Wed","Thu","Fri","Sat")) | M6: =IF(M5="","",CHOOSE(WEEKDAY($A$1+10),"Sun","Mon","Tue","Wed","Thu","Fri","Sat")) | N6: =IF(N5="","",CHOOSE(WEEKDAY($A$1+11),"Sun","Mon","Tue","Wed","Thu","Fri","Sat")) | O6: =IF(O5="","",CHOOSE(WEEKDAY($A$1+12),"Sun","Mon","Tue","Wed","Thu","Fri","Sat")) | P6: =IF(P5="","",CHOOSE(WEEKDAY($A$1+13),"Sun","Mon","Tue","Wed","Thu","Fri","Sat")) | Q6: =IF(Q5="","",CHOOSE(WEEKDAY($A$1+14),"Sun","Mon","Tue","Wed","Thu","Fri","Sat")) | R6: =IF(R5="","",CHOOSE(WEEKDAY($A$1+15),"Sun","Mon","Tue","Wed","Thu","Fri","Sat")) | S6: =IF(S5="","",CHOOSE(WEEKDAY($A$1+16),"Sun","Mon","Tue","Wed","Thu","Fri","Sat")) | T6: =IF(T5="","",CHOOSE(WEEKDAY($A$1+17),"Sun","Mon","Tue","Wed","Thu","Fri","Sat")) | U6: =IF(U5="","",CHOOSE(WEEKDAY($A$1+18),"Sun","Mon","Tue","Wed","Thu","Fri","Sat")) | V6: =IF(V5="","",CHOOSE(WEEKDAY($A$1+19),"Sun","Mon","Tue","Wed","Thu","Fri","Sat")) | W6: =IF(W5="","",CHOOSE(WEEKDAY($A$1+20),"Sun","Mon","Tue","Wed","Thu","Fri","Sat")) | X6: =IF(X5="","",CHOOSE(WEEKDAY($A$1+21),"Sun","Mon","Tue","Wed","Thu","Fri","Sat")) | Y6: =IF(Y5="","",CHOOSE(WEEKDAY($A$1+22),"Sun","Mon","Tue","Wed","Thu","Fri","Sat")) | Z6: =IF(Z5="","",CHOOSE(WEEKDAY($A$1+23),"Sun","Mon","Tue","Wed","Thu","Fri","Sat")) | AA6: =IF(AA5="","",CHOOSE(WEEKDAY($A$1+24),"Sun","Mon","Tue","Wed","Thu","Fri","Sat")) | AB6: =IF(AB5="","",CHOOSE(WEEKDAY($A$1+25),"Sun","Mon","Tue","Wed","Thu","Fri","Sat")) | AC6: =IF(AC5="","",CHOOSE(WEEKDAY($A$1+26),"Sun","Mon","Tue","Wed","Thu","Fri","Sat")) | AD6: =IF(AD5="","",CHOOSE(WEEKDAY($A$1+27),"Sun","Mon","Tue","Wed","Thu","Fri","Sat")) | AE6: =IF(AE5="","",CHOOSE(WEEKDAY($A$1+28),"Sun","Mon","Tue","Wed","Thu","Fri","Sat")) | AF6: =IF(AF5="","",CHOOSE(WEEKDAY($A$1+29),"Sun","Mon","Tue","Wed","Thu","Fri","Sat")) | AG6: =IF(AG5="","",CHOOSE(WEEKDAY($A$1+30),"Sun","Mon","Tue","Wed","Thu","Fri","Sat"))
B7: =IF(Jan!B7="","",Jan!B7) | AH7: =IF($B7="","",COUNTIF($C7:$AG7,"P")) | AI7: =IF($B7="","",COUNTIF($C7:$AG7,"L")) | AJ7: =IF($B7="","",COUNTIF($C7:$AG7,"A")) | AK7: =IF($B7="","",COUNTIF($C7:$AG7,"E")) | AL7: =IF($B7="","",COUNTIF($C7:$AG7,"S")) | AM7: =IF($B7="","",COUNTIF($C7:$AG7,"V")) | AN7: =IF(COUNTA($C7:$AG7)-COUNTIF($C7:$AG7,"H")=0,"",(AH7+AI7)/(COUNTA($C7:$AG7)-COUNTIF($C7:$AG7,"H")))
B8: =IF(Jan!B8="","",Jan!B8) | AH8: =IF($B8="","",COUNTIF($C8:$AG8,"P")) | AI8: =IF($B8="","",COUNTIF($C8:$AG8,"L")) | AJ8: =IF($B8="","",COUNTIF($C8:$AG8,"A")) | AK8: =IF($B8="","",COUNTIF($C8:$AG8,"E")) | AL8: =IF($B8="","",COUNTIF($C8:$AG8,"S")) | AM8: =IF($B8="","",COUNTIF($C8:$AG8,"V")) | AN8: =IF(COUNTA($C8:$AG8)-COUNTIF($C8:$AG8,"H")=0,"",(AH8+AI8)/(COUNTA($C8:$AG8)-COUNTIF($C8:$AG8,"H")))
B9: =IF(Jan!B9="","",Jan!B9) | AH9: =IF($B9="","",COUNTIF($C9:$AG9,"P")) | AI9: =IF($B9="","",COUNTIF($C9:$AG9,"L")) | AJ9: =IF($B9="","",COUNTIF($C9:$AG9,"A")) | AK9: =IF($B9="","",COUNTIF($C9:$AG9,"E")) | AL9: =IF($B9="","",COUNTIF($C9:$AG9,"S")) | AM9: =IF($B9="","",COUNTIF($C9:$AG9,"V")) | AN9: =IF(COUNTA($C9:$AG9)-COUNTIF($C9:$AG9,"H")=0,"",(AH9+AI9)/(COUNTA($C9:$AG9)-COUNTIF($C9:$AG9,"H")))
B10: =IF(Jan!B10="","",Jan!B10) | AH10: =IF($B10="","",COUNTIF($C10:$AG10,"P")) | AI10: =IF($B10="","",COUNTIF($C10:$AG10,"L")) | AJ10: =IF($B10="","",COUNTIF($C10:$AG10,"A")) | AK10: =IF($B10="","",COUNTIF($C10:$AG10,"E")) | AL10: =IF($B10="","",COUNTIF($C10:$AG10,"S")) | AM10: =IF($B10="","",COUNTIF($C10:$AG10,"V")) | AN10: =IF(COUNTA($C10:$AG10)-COUNTIF($C10:$AG10,"H")=0,"",(AH10+AI10)/(COUNTA($C10:$AG10)-COUNTIF($C10:$AG10,"H")))
B11: =IF(Jan!B11="","",Jan!B11) | AH11: =IF($B11="","",COUNTIF($C11:$AG11,"P")) | AI11: =IF($B11="","",COUNTIF($C11:$AG11,"L")) | AJ11: =IF($B11="","",COUNTIF($C11:$AG11,"A")) | AK11: =IF($B11="","",COUNTIF($C11:$AG11,"E")) | AL11: =IF($B11="","",COUNTIF($C11:$AG11,"S")) | AM11: =IF($B11="","",COUNTIF($C11:$AG11,"V")) | AN11: =IF(COUNTA($C11:$AG11)-COUNTIF($C11:$AG11,"H")=0,"",(AH11+AI11)/(COUNTA($C11:$AG11)-COUNTIF($C11:$AG11,"H")))
B12: =IF(Jan!B12="","",Jan!B12) | AH12: =IF($B12="","",COUNTIF($C12:$AG12,"P")) | AI12: =IF($B12="","",COUNTIF($C12:$AG12,"L")) | AJ12: =IF($B12="","",COUNTIF($C12:$AG12,"A")) | AK12: =IF($B12="","",COUNTIF($C12:$AG12,"E")) | AL12: =IF($B12="","",COUNTIF($C12:$AG12,"S")) | AM12: =IF($B12="","",COUNTIF($C12:$AG12,"V")) | AN12: =IF(COUNTA($C12:$AG12)-COUNTIF($C12:$AG12,"H")=0,"",(AH12+AI12)/(COUNTA($C12:$AG12)-COUNTIF($C12:$AG12,"H")))
B13: =IF(Jan!B13="","",Jan!B13) | AH13: =IF($B13="","",COUNTIF($C13:$AG13,"P")) | AI13: =IF($B13="","",COUNTIF($C13:$AG13,"L")) | AJ13: =IF($B13="","",COUNTIF($C13:$AG13,"A")) | AK13: =IF($B13="","",COUNTIF($C13:$AG13,"E")) | AL13: =IF($B13="","",COUNTIF($C13:$AG13,"S")) | AM13: =IF($B13="","",COUNTIF($C13:$AG13,"V")) | AN13: =IF(COUNTA($C13:$AG13)-COUNTIF($C13:$AG13,"H")=0,"",(AH13+AI13)/(COUNTA($C13:$AG13)-COUNTIF($C13:$AG13,"H")))
B14: =IF(Jan!B14="","",Jan!B14) | AH14: =IF($B14="","",COUNTIF($C14:$AG14,"P")) | AI14: =IF($B14="","",COUNTIF($C14:$AG14,"L")) | AJ14: =IF($B14="","",COUNTIF($C14:$AG14,"A")) | AK14: =IF($B14="","",COUNTIF($C14:$AG14,"E")) | AL14: =IF($B14="","",COUNTIF($C14:$AG14,"S")) | AM14: =IF($B14="","",COUNTIF($C14:$AG14,"V")) | AN14: =IF(COUNTA($C14:$AG14)-COUNTIF($C14:$AG14,"H")=0,"",(AH14+AI14)/(COUNTA($C14:$AG14)-COUNTIF($C14:$AG14,"H")))
B15: =IF(Jan!B15="","",Jan!B15) | AH15: =IF($B15="","",COUNTIF($C15:$AG15,"P")) | AI15: =IF($B15="","",COUNTIF($C15:$AG15,"L")) | AJ15: =IF($B15="","",COUNTIF($C15:$AG15,"A")) | AK15: =IF($B15="","",COUNTIF($C15:$AG15,"E")) | AL15: =IF($B15="","",COUNTIF($C15:$AG15,"S")) | AM15: =IF($B15="","",COUNTIF($C15:$AG15,"V")) | AN15: =IF(COUNTA($C15:$AG15)-COUNTIF($C15:$AG15,"H")=0,"",(AH15+AI15)/(COUNTA($C15:$AG15)-COUNTIF($C15:$AG15,"H")))
B16: =IF(Jan!B16="","",Jan!B16) | AH16: =IF($B16="","",COUNTIF($C16:$AG16,"P")) | AI16: =IF($B16="","",COUNTIF($C16:$AG16,"L")) | AJ16: =IF($B16="","",COUNTIF($C16:$AG16,"A")) | AK16: =IF($B16="","",COUNTIF($C16:$AG16,"E")) | AL16: =IF($B16="","",COUNTIF($C16:$AG16,"S")) | AM16: =IF($B16="","",COUNTIF($C16:$AG16,"V")) | AN16: =IF(COUNTA($C16:$AG16)-COUNTIF($C16:$AG16,"H")=0,"",(AH16+AI16)/(COUNTA($C16:$AG16)-COUNTIF($C16:$AG16,"H")))
B17: =IF(Jan!B17="","",Jan!B17) | AH17: =IF($B17="","",COUNTIF($C17:$AG17,"P")) | AI17: =IF($B17="","",COUNTIF($C17:$AG17,"L")) | AJ17: =IF($B17="","",COUNTIF($C17:$AG17,"A")) | AK17: =IF($B17="","",COUNTIF($C17:$AG17,"E")) | AL17: =IF($B17="","",COUNTIF($C17:$AG17,"S")) | AM17: =IF($B17="","",COUNTIF($C17:$AG17,"V")) | AN17: =IF(COUNTA($C17:$AG17)-COUNTIF($C17:$AG17,"H")=0,"",(AH17+AI17)/(COUNTA($C17:$AG17)-COUNTIF($C17:$AG17,"H")))
B18: =IF(Jan!B18="","",Jan!B18) | AH18: =IF($B18="","",COUNTIF($C18:$AG18,"P")) | AI18: =IF($B18="","",COUNTIF($C18:$AG18,"L")) | AJ18: =IF($B18="","",COUNTIF($C18:$AG18,"A")) | AK18: =IF($B18="","",COUNTIF($C18:$AG18,"E")) | AL18: =IF($B18="","",COUNTIF($C18:$AG18,"S")) | AM18: =IF($B18="","",COUNTIF($C18:$AG18,"V")) | AN18: =IF(COUNTA($C18:$AG18)-COUNTIF($C18:$AG18,"H")=0,"",(AH18+AI18)/(COUNTA($C18:$AG18)-COUNTIF($C18:$AG18,"H")))
... B31: =IF(Jan!B31="","",Jan!B31) | AH31: =IF($B31="","",COUNTIF($C31:$AG31,"P")) | AI31: =IF($B31="","",COUNTIF($C31:$AG31,"L")) | AJ31: =IF($B31="","",COUNTIF($C31:$AG31,"A")) | AK31: =IF($B31="","",COUNTIF($C31:$AG31,"E")) | AL31: =IF($B31="","",COUNTIF($C31:$AG31,"S")) | AM31: =IF($B31="","",COUNTIF($C31:$AG31,"V")) | AN31: =IF(COUNTA($C31:$AG31)-COUNTIF($C31:$AG31,"H")=0,"",(AH31+AI31)/(COUNTA($C31:$AG31)-COUNTIF($C31:$AG31,"H")))
B32: PRESENT (P+L) | C32: =IF(COUNTA(C7:C31)=0,"",COUNTIF(C7:C31,"P")+COUNTIF(C7:C31,"L")) | D32: =IF(COUNTA(D7:D31)=0,"",COUNTIF(D7:D31,"P")+COUNTIF(D7:D31,"L")) | E32: =IF(COUNTA(E7:E31)=0,"",COUNTIF(E7:E31,"P")+COUNTIF(E7:E31,"L")) | F32: =IF(COUNTA(F7:F31)=0,"",COUNTIF(F7:F31,"P")+COUNTIF(F7:F31,"L")) | G32: =IF(COUNTA(G7:G31)=0,"",COUNTIF(G7:G31,"P")+COUNTIF(G7:G31,"L")) | H32: =IF(COUNTA(H7:H31)=0,"",COUNTIF(H7:H31,"P")+COUNTIF(H7:H31,"L")) | I32: =IF(COUNTA(I7:I31)=0,"",COUNTIF(I7:I31,"P")+COUNTIF(I7:I31,"L")) | J32: =IF(COUNTA(J7:J31)=0,"",COUNTIF(J7:J31,"P")+COUNTIF(J7:J31,"L")) | ... AG32: =IF(COUNTA(AG7:AG31)=0,"",COUNTIF(AG7:AG31,"P")+COUNTIF(AG7:AG31,"L"))
B34: KEY | C34: P | D34: Present | G34: L | H34: Late | K34: A | L34: Absent | O34: E | P34: Excused | S34: S | T34: Sick | W34: V | X34: Vacation | AA34: H | AB34: Holiday | AH34: Rate = (P + L) ÷ marked days, holidays excluded
B36: Free template from niftyshelf.com · free for personal & commercial use

Sheet May
A1: =DATE(2027,5,1)
B2: May 2027 | AH2: =Jan!AH2
B3: Monthly attendance — P present · L late · A absent · E excused · S sick · V vacation · H holiday
B5: NAME | C5: =IF(MONTH($A$1+0)=5,DAY($A$1+0),"") | D5: =IF(MONTH($A$1+1)=5,DAY($A$1+1),"") | E5: =IF(MONTH($A$1+2)=5,DAY($A$1+2),"") | F5: =IF(MONTH($A$1+3)=5,DAY($A$1+3),"") | G5: =IF(MONTH($A$1+4)=5,DAY($A$1+4),"") | H5: =IF(MONTH($A$1+5)=5,DAY($A$1+5),"") | I5: =IF(MONTH($A$1+6)=5,DAY($A$1+6),"") | J5: =IF(MONTH($A$1+7)=5,DAY($A$1+7),"") | K5: =IF(MONTH($A$1+8)=5,DAY($A$1+8),"") | L5: =IF(MONTH($A$1+9)=5,DAY($A$1+9),"") | M5: =IF(MONTH($A$1+10)=5,DAY($A$1+10),"") | N5: =IF(MONTH($A$1+11)=5,DAY($A$1+11),"") | O5: =IF(MONTH($A$1+12)=5,DAY($A$1+12),"") | P5: =IF(MONTH($A$1+13)=5,DAY($A$1+13),"") | Q5: =IF(MONTH($A$1+14)=5,DAY($A$1+14),"") | R5: =IF(MONTH($A$1+15)=5,DAY($A$1+15),"") | S5: =IF(MONTH($A$1+16)=5,DAY($A$1+16),"") | T5: =IF(MONTH($A$1+17)=5,DAY($A$1+17),"") | U5: =IF(MONTH($A$1+18)=5,DAY($A$1+18),"") | V5: =IF(MONTH($A$1+19)=5,DAY($A$1+19),"") | W5: =IF(MONTH($A$1+20)=5,DAY($A$1+20),"") | X5: =IF(MONTH($A$1+21)=5,DAY($A$1+21),"") | Y5: =IF(MONTH($A$1+22)=5,DAY($A$1+22),"") | Z5: =IF(MONTH($A$1+23)=5,DAY($A$1+23),"") | AA5: =IF(MONTH($A$1+24)=5,DAY($A$1+24),"") | AB5: =IF(MONTH($A$1+25)=5,DAY($A$1+25),"") | AC5: =IF(MONTH($A$1+26)=5,DAY($A$1+26),"") | AD5: =IF(MONTH($A$1+27)=5,DAY($A$1+27),"") | AE5: =IF(MONTH($A$1+28)=5,DAY($A$1+28),"") | AF5: =IF(MONTH($A$1+29)=5,DAY($A$1+29),"") | AG5: =IF(MONTH($A$1+30)=5,DAY($A$1+30),"") | AH5: P | AI5: L | AJ5: A | AK5: E | AL5: S | AM5: V | AN5: RATE
C6: =IF(C5="","",CHOOSE(WEEKDAY($A$1+0),"Sun","Mon","Tue","Wed","Thu","Fri","Sat")) | D6: =IF(D5="","",CHOOSE(WEEKDAY($A$1+1),"Sun","Mon","Tue","Wed","Thu","Fri","Sat")) | E6: =IF(E5="","",CHOOSE(WEEKDAY($A$1+2),"Sun","Mon","Tue","Wed","Thu","Fri","Sat")) | F6: =IF(F5="","",CHOOSE(WEEKDAY($A$1+3),"Sun","Mon","Tue","Wed","Thu","Fri","Sat")) | G6: =IF(G5="","",CHOOSE(WEEKDAY($A$1+4),"Sun","Mon","Tue","Wed","Thu","Fri","Sat")) | H6: =IF(H5="","",CHOOSE(WEEKDAY($A$1+5),"Sun","Mon","Tue","Wed","Thu","Fri","Sat")) | I6: =IF(I5="","",CHOOSE(WEEKDAY($A$1+6),"Sun","Mon","Tue","Wed","Thu","Fri","Sat")) | J6: =IF(J5="","",CHOOSE(WEEKDAY($A$1+7),"Sun","Mon","Tue","Wed","Thu","Fri","Sat")) | K6: =IF(K5="","",CHOOSE(WEEKDAY($A$1+8),"Sun","Mon","Tue","Wed","Thu","Fri","Sat")) | L6: =IF(L5="","",CHOOSE(WEEKDAY($A$1+9),"Sun","Mon","Tue","Wed","Thu","Fri","Sat")) | M6: =IF(M5="","",CHOOSE(WEEKDAY($A$1+10),"Sun","Mon","Tue","Wed","Thu","Fri","Sat")) | N6: =IF(N5="","",CHOOSE(WEEKDAY($A$1+11),"Sun","Mon","Tue","Wed","Thu","Fri","Sat")) | O6: =IF(O5="","",CHOOSE(WEEKDAY($A$1+12),"Sun","Mon","Tue","Wed","Thu","Fri","Sat")) | P6: =IF(P5="","",CHOOSE(WEEKDAY($A$1+13),"Sun","Mon","Tue","Wed","Thu","Fri","Sat")) | Q6: =IF(Q5="","",CHOOSE(WEEKDAY($A$1+14),"Sun","Mon","Tue","Wed","Thu","Fri","Sat")) | R6: =IF(R5="","",CHOOSE(WEEKDAY($A$1+15),"Sun","Mon","Tue","Wed","Thu","Fri","Sat")) | S6: =IF(S5="","",CHOOSE(WEEKDAY($A$1+16),"Sun","Mon","Tue","Wed","Thu","Fri","Sat")) | T6: =IF(T5="","",CHOOSE(WEEKDAY($A$1+17),"Sun","Mon","Tue","Wed","Thu","Fri","Sat")) | U6: =IF(U5="","",CHOOSE(WEEKDAY($A$1+18),"Sun","Mon","Tue","Wed","Thu","Fri","Sat")) | V6: =IF(V5="","",CHOOSE(WEEKDAY($A$1+19),"Sun","Mon","Tue","Wed","Thu","Fri","Sat")) | W6: =IF(W5="","",CHOOSE(WEEKDAY($A$1+20),"Sun","Mon","Tue","Wed","Thu","Fri","Sat")) | X6: =IF(X5="","",CHOOSE(WEEKDAY($A$1+21),"Sun","Mon","Tue","Wed","Thu","Fri","Sat")) | Y6: =IF(Y5="","",CHOOSE(WEEKDAY($A$1+22),"Sun","Mon","Tue","Wed","Thu","Fri","Sat")) | Z6: =IF(Z5="","",CHOOSE(WEEKDAY($A$1+23),"Sun","Mon","Tue","Wed","Thu","Fri","Sat")) | AA6: =IF(AA5="","",CHOOSE(WEEKDAY($A$1+24),"Sun","Mon","Tue","Wed","Thu","Fri","Sat")) | AB6: =IF(AB5="","",CHOOSE(WEEKDAY($A$1+25),"Sun","Mon","Tue","Wed","Thu","Fri","Sat")) | AC6: =IF(AC5="","",CHOOSE(WEEKDAY($A$1+26),"Sun","Mon","Tue","Wed","Thu","Fri","Sat")) | AD6: =IF(AD5="","",CHOOSE(WEEKDAY($A$1+27),"Sun","Mon","Tue","Wed","Thu","Fri","Sat")) | AE6: =IF(AE5="","",CHOOSE(WEEKDAY($A$1+28),"Sun","Mon","Tue","Wed","Thu","Fri","Sat")) | AF6: =IF(AF5="","",CHOOSE(WEEKDAY($A$1+29),"Sun","Mon","Tue","Wed","Thu","Fri","Sat")) | AG6: =IF(AG5="","",CHOOSE(WEEKDAY($A$1+30),"Sun","Mon","Tue","Wed","Thu","Fri","Sat"))
B7: =IF(Jan!B7="","",Jan!B7) | AH7: =IF($B7="","",COUNTIF($C7:$AG7,"P")) | AI7: =IF($B7="","",COUNTIF($C7:$AG7,"L")) | AJ7: =IF($B7="","",COUNTIF($C7:$AG7,"A")) | AK7: =IF($B7="","",COUNTIF($C7:$AG7,"E")) | AL7: =IF($B7="","",COUNTIF($C7:$AG7,"S")) | AM7: =IF($B7="","",COUNTIF($C7:$AG7,"V")) | AN7: =IF(COUNTA($C7:$AG7)-COUNTIF($C7:$AG7,"H")=0,"",(AH7+AI7)/(COUNTA($C7:$AG7)-COUNTIF($C7:$AG7,"H")))
B8: =IF(Jan!B8="","",Jan!B8) | AH8: =IF($B8="","",COUNTIF($C8:$AG8,"P")) | AI8: =IF($B8="","",COUNTIF($C8:$AG8,"L")) | AJ8: =IF($B8="","",COUNTIF($C8:$AG8,"A")) | AK8: =IF($B8="","",COUNTIF($C8:$AG8,"E")) | AL8: =IF($B8="","",COUNTIF($C8:$AG8,"S")) | AM8: =IF($B8="","",COUNTIF($C8:$AG8,"V")) | AN8: =IF(COUNTA($C8:$AG8)-COUNTIF($C8:$AG8,"H")=0,"",(AH8+AI8)/(COUNTA($C8:$AG8)-COUNTIF($C8:$AG8,"H")))
B9: =IF(Jan!B9="","",Jan!B9) | AH9: =IF($B9="","",COUNTIF($C9:$AG9,"P")) | AI9: =IF($B9="","",COUNTIF($C9:$AG9,"L")) | AJ9: =IF($B9="","",COUNTIF($C9:$AG9,"A")) | AK9: =IF($B9="","",COUNTIF($C9:$AG9,"E")) | AL9: =IF($B9="","",COUNTIF($C9:$AG9,"S")) | AM9: =IF($B9="","",COUNTIF($C9:$AG9,"V")) | AN9: =IF(COUNTA($C9:$AG9)-COUNTIF($C9:$AG9,"H")=0,"",(AH9+AI9)/(COUNTA($C9:$AG9)-COUNTIF($C9:$AG9,"H")))
B10: =IF(Jan!B10="","",Jan!B10) | AH10: =IF($B10="","",COUNTIF($C10:$AG10,"P")) | AI10: =IF($B10="","",COUNTIF($C10:$AG10,"L")) | AJ10: =IF($B10="","",COUNTIF($C10:$AG10,"A")) | AK10: =IF($B10="","",COUNTIF($C10:$AG10,"E")) | AL10: =IF($B10="","",COUNTIF($C10:$AG10,"S")) | AM10: =IF($B10="","",COUNTIF($C10:$AG10,"V")) | AN10: =IF(COUNTA($C10:$AG10)-COUNTIF($C10:$AG10,"H")=0,"",(AH10+AI10)/(COUNTA($C10:$AG10)-COUNTIF($C10:$AG10,"H")))
B11: =IF(Jan!B11="","",Jan!B11) | AH11: =IF($B11="","",COUNTIF($C11:$AG11,"P")) | AI11: =IF($B11="","",COUNTIF($C11:$AG11,"L")) | AJ11: =IF($B11="","",COUNTIF($C11:$AG11,"A")) | AK11: =IF($B11="","",COUNTIF($C11:$AG11,"E")) | AL11: =IF($B11="","",COUNTIF($C11:$AG11,"S")) | AM11: =IF($B11="","",COUNTIF($C11:$AG11,"V")) | AN11: =IF(COUNTA($C11:$AG11)-COUNTIF($C11:$AG11,"H")=0,"",(AH11+AI11)/(COUNTA($C11:$AG11)-COUNTIF($C11:$AG11,"H")))
B12: =IF(Jan!B12="","",Jan!B12) | AH12: =IF($B12="","",COUNTIF($C12:$AG12,"P")) | AI12: =IF($B12="","",COUNTIF($C12:$AG12,"L")) | AJ12: =IF($B12="","",COUNTIF($C12:$AG12,"A")) | AK12: =IF($B12="","",COUNTIF($C12:$AG12,"E")) | AL12: =IF($B12="","",COUNTIF($C12:$AG12,"S")) | AM12: =IF($B12="","",COUNTIF($C12:$AG12,"V")) | AN12: =IF(COUNTA($C12:$AG12)-COUNTIF($C12:$AG12,"H")=0,"",(AH12+AI12)/(COUNTA($C12:$AG12)-COUNTIF($C12:$AG12,"H")))
B13: =IF(Jan!B13="","",Jan!B13) | AH13: =IF($B13="","",COUNTIF($C13:$AG13,"P")) | AI13: =IF($B13="","",COUNTIF($C13:$AG13,"L")) | AJ13: =IF($B13="","",COUNTIF($C13:$AG13,"A")) | AK13: =IF($B13="","",COUNTIF($C13:$AG13,"E")) | AL13: =IF($B13="","",COUNTIF($C13:$AG13,"S")) | AM13: =IF($B13="","",COUNTIF($C13:$AG13,"V")) | AN13: =IF(COUNTA($C13:$AG13)-COUNTIF($C13:$AG13,"H")=0,"",(AH13+AI13)/(COUNTA($C13:$AG13)-COUNTIF($C13:$AG13,"H")))
B14: =IF(Jan!B14="","",Jan!B14) | AH14: =IF($B14="","",COUNTIF($C14:$AG14,"P")) | AI14: =IF($B14="","",COUNTIF($C14:$AG14,"L")) | AJ14: =IF($B14="","",COUNTIF($C14:$AG14,"A")) | AK14: =IF($B14="","",COUNTIF($C14:$AG14,"E")) | AL14: =IF($B14="","",COUNTIF($C14:$AG14,"S")) | AM14: =IF($B14="","",COUNTIF($C14:$AG14,"V")) | AN14: =IF(COUNTA($C14:$AG14)-COUNTIF($C14:$AG14,"H")=0,"",(AH14+AI14)/(COUNTA($C14:$AG14)-COUNTIF($C14:$AG14,"H")))
B15: =IF(Jan!B15="","",Jan!B15) | AH15: =IF($B15="","",COUNTIF($C15:$AG15,"P")) | AI15: =IF($B15="","",COUNTIF($C15:$AG15,"L")) | AJ15: =IF($B15="","",COUNTIF($C15:$AG15,"A")) | AK15: =IF($B15="","",COUNTIF($C15:$AG15,"E")) | AL15: =IF($B15="","",COUNTIF($C15:$AG15,"S")) | AM15: =IF($B15="","",COUNTIF($C15:$AG15,"V")) | AN15: =IF(COUNTA($C15:$AG15)-COUNTIF($C15:$AG15,"H")=0,"",(AH15+AI15)/(COUNTA($C15:$AG15)-COUNTIF($C15:$AG15,"H")))
B16: =IF(Jan!B16="","",Jan!B16) | AH16: =IF($B16="","",COUNTIF($C16:$AG16,"P")) | AI16: =IF($B16="","",COUNTIF($C16:$AG16,"L")) | AJ16: =IF($B16="","",COUNTIF($C16:$AG16,"A")) | AK16: =IF($B16="","",COUNTIF($C16:$AG16,"E")) | AL16: =IF($B16="","",COUNTIF($C16:$AG16,"S")) | AM16: =IF($B16="","",COUNTIF($C16:$AG16,"V")) | AN16: =IF(COUNTA($C16:$AG16)-COUNTIF($C16:$AG16,"H")=0,"",(AH16+AI16)/(COUNTA($C16:$AG16)-COUNTIF($C16:$AG16,"H")))
B17: =IF(Jan!B17="","",Jan!B17) | AH17: =IF($B17="","",COUNTIF($C17:$AG17,"P")) | AI17: =IF($B17="","",COUNTIF($C17:$AG17,"L")) | AJ17: =IF($B17="","",COUNTIF($C17:$AG17,"A")) | AK17: =IF($B17="","",COUNTIF($C17:$AG17,"E")) | AL17: =IF($B17="","",COUNTIF($C17:$AG17,"S")) | AM17: =IF($B17="","",COUNTIF($C17:$AG17,"V")) | AN17: =IF(COUNTA($C17:$AG17)-COUNTIF($C17:$AG17,"H")=0,"",(AH17+AI17)/(COUNTA($C17:$AG17)-COUNTIF($C17:$AG17,"H")))
B18: =IF(Jan!B18="","",Jan!B18) | AH18: =IF($B18="","",COUNTIF($C18:$AG18,"P")) | AI18: =IF($B18="","",COUNTIF($C18:$AG18,"L")) | AJ18: =IF($B18="","",COUNTIF($C18:$AG18,"A")) | AK18: =IF($B18="","",COUNTIF($C18:$AG18,"E")) | AL18: =IF($B18="","",COUNTIF($C18:$AG18,"S")) | AM18: =IF($B18="","",COUNTIF($C18:$AG18,"V")) | AN18: =IF(COUNTA($C18:$AG18)-COUNTIF($C18:$AG18,"H")=0,"",(AH18+AI18)/(COUNTA($C18:$AG18)-COUNTIF($C18:$AG18,"H")))
... B31: =IF(Jan!B31="","",Jan!B31) | AH31: =IF($B31="","",COUNTIF($C31:$AG31,"P")) | AI31: =IF($B31="","",COUNTIF($C31:$AG31,"L")) | AJ31: =IF($B31="","",COUNTIF($C31:$AG31,"A")) | AK31: =IF($B31="","",COUNTIF($C31:$AG31,"E")) | AL31: =IF($B31="","",COUNTIF($C31:$AG31,"S")) | AM31: =IF($B31="","",COUNTIF($C31:$AG31,"V")) | AN31: =IF(COUNTA($C31:$AG31)-COUNTIF($C31:$AG31,"H")=0,"",(AH31+AI31)/(COUNTA($C31:$AG31)-COUNTIF($C31:$AG31,"H")))
