Workbook

Sheet Paycheck Budget
B2: Biweekly Paycheck Budget
B3: Every bill lands on the paycheck that covers its due date — so you know exactly what each check has to pay.
B5: First payday | C5: 46395 | I5: TAKE-HOME THIS YEAR | K5: BILLS THIS YEAR | M5: AVG. LEFT PER CHECK | O5: TIGHTEST PAYCHECK | Q5: BONUS PAYCHECKS
B6: Net pay per paycheck | C6: 2400 | I6: =SUM('Paycheck Budget'!$I$12:$AH$12) -> None | K6: =SUM('Paycheck Budget'!$I$38:$AH$38) -> None | M6: =AVERAGE('Paycheck Budget'!$I$40:$AH$40) -> None | O6: =MIN('Paycheck Budget'!$I$40:$AH$40) -> None | Q6: =COUNTIF('Paycheck Budget'!$I$41:$AH$41,"★*") -> None
B7: Save from each paycheck | C7: 200
B10: Bill | C10: Amount | D10: Due day | E10: How often | F10: Month | I10: ="#1" -> 0 | J10: ="#2" -> 0 | K10: ="#3" -> 0 | L10: ="#4" -> 0 | M10: ="#5" -> 0 | N10: ="#6" -> 0 | O10: ="#7" -> 0 | P10: ="#8" -> 0 | Q10: ="#9" -> 0 | R10: ="#10" -> 0 | S10: ="#11" -> 0 | T10: ="#12" -> 0 | U10: ="#13" -> 0 | V10: ="#14" -> 0 | W10: ="#15" -> 0 | X10: ="#16" -> 0 | Y10: ="#17" -> 0 | Z10: ="#18" -> 0 | AA10: ="#19" -> 0 | AB10: ="#20" -> 0 | AC10: ="#21" -> 0 | AD10: ="#22" -> 0 | AE10: ="#23" -> 0 | AF10: ="#24" -> 0 | AG10: ="#25" -> 0 | AH10: ="#26" -> 0
B11: Payday | I11: =$C$5+0 -> 0 | J11: =$C$5+14 -> 0 | K11: =$C$5+28 -> 0 | L11: =$C$5+42 -> 0 | M11: =$C$5+56 -> 0 | N11: =$C$5+70 -> 0 | O11: =$C$5+84 -> 0 | P11: =$C$5+98 -> 0 | Q11: =$C$5+112 -> 0 | R11: =$C$5+126 -> 0 | S11: =$C$5+140 -> 0 | T11: =$C$5+154 -> 0 | U11: =$C$5+168 -> 0 | V11: =$C$5+182 -> 0 | W11: =$C$5+196 -> 0 | X11: =$C$5+210 -> 0 | Y11: =$C$5+224 -> 0 | Z11: =$C$5+238 -> 0 | AA11: =$C$5+252 -> 0 | AB11: =$C$5+266 -> 0 | AC11: =$C$5+280 -> 0 | AD11: =$C$5+294 -> 0 | AE11: =$C$5+308 -> 0 | AF11: =$C$5+322 -> 0 | AG11: =$C$5+336 -> 0 | AH11: =$C$5+350 -> 0
B12: Paycheck amount | E12: override any check → | I12: =$C$6 -> 0 | J12: =$C$6 -> 0 | K12: =$C$6 -> 0 | L12: =$C$6 -> 0 | M12: =$C$6 -> 0 | N12: =$C$6 -> 0 | O12: =$C$6 -> 0 | P12: =$C$6 -> 0 | ... AH12: =$C$6 -> 0
B13: Rent | C13: 1450 | D13: 1 | E13: Monthly | I13: =IF(OR($B13="",N($C13)=0),"",IF($E13="Every paycheck",$C13,IF(N($D13)=0,"",IF(OR(AND(DATE(YEAR(I$11),MONTH(I$11),MIN($D13,DAY(EOMONTH(I$11,0))))>=I$11,DATE(YEAR(I$11),MONTH(I$11),MIN($D13,DAY(EOMONTH(I$11,0))))<=(I$11+13),IF($E13="Monthly",TRUE,IF($E13="Quarterly",MOD(MONTH(I$11)-N($F13),3)=0,MONTH(I$11)=N($F13)))),AND(DATE(YEAR((I$11+13)),MONTH((I$11+13)),MIN($D13,DAY(EOMONTH((I$11+13),0))))>=I$11,DATE(YEAR((I$11+13)),MONTH((I$11+13)),MIN($D13,DAY(EOMONTH((I$11+13),0))))<=(I$11+13),IF($E13="Monthly",TRUE,IF($E13="Quarterly",MOD(MONTH((I$11+13))-N($F13),3)=0,MONTH((I$11+13))=N($F13))))),$C13,"")))) -> 0 | J13: =IF(OR($B13="",N($C13)=0),"",IF($E13="Every paycheck",$C13,IF(N($D13)=0,"",IF(OR(AND(DATE(YEAR(J$11),MONTH(J$11),MIN($D13,DAY(EOMONTH(J$11,0))))>=J$11,DATE(YEAR(J$11),MONTH(J$11),MIN($D13,DAY(EOMONTH(J$11,0))))<=(J$11+13),IF($E13="Monthly",TRUE,IF($E13="Quarterly",MOD(MONTH(J$11)-N($F13),3)=0,MONTH(J$11)=N($F13)))),AND(DATE(YEAR((J$11+13)),MONTH((J$11+13)),MIN($D13,DAY(EOMONTH((J$11+13),0))))>=J$11,DATE(YEAR((J$11+13)),MONTH((J$11+13)),MIN($D13,DAY(EOMONTH((J$11+13),0))))<=(J$11+13),IF($E13="Monthly",TRUE,IF($E13="Quarterly",MOD(MONTH((J$11+13))-N($F13),3)=0,MONTH((J$11+13))=N($F13))))),$C13,"")))) -> 0 | K13: =IF(OR($B13="",N($C13)=0),"",IF($E13="Every paycheck",$C13,IF(N($D13)=0,"",IF(OR(AND(DATE(YEAR(K$11),MONTH(K$11),MIN($D13,DAY(EOMONTH(K$11,0))))>=K$11,DATE(YEAR(K$11),MONTH(K$11),MIN($D13,DAY(EOMONTH(K$11,0))))<=(K$11+13),IF($E13="Monthly",TRUE,IF($E13="Quarterly",MOD(MONTH(K$11)-N($F13),3)=0,MONTH(K$11)=N($F13)))),AND(DATE(YEAR((K$11+13)),MONTH((K$11+13)),MIN($D13,DAY(EOMONTH((K$11+13),0))))>=K$11,DATE(YEAR((K$11+13)),MONTH((K$11+13)),MIN($D13,DAY(EOMONTH((K$11+13),0))))<=(K$11+13),IF($E13="Monthly",TRUE,IF($E13="Quarterly",MOD(MONTH((K$11+13))-N($F13),3)=0,MONTH((K$11+13))=N($F13))))),$C13,"")))) -> 0 | L13: =IF(OR($B13="",N($C13)=0),"",IF($E13="Every paycheck",$C13,IF(N($D13)=0,"",IF(OR(AND(DATE(YEAR(L$11),MONTH(L$11),MIN($D13,DAY(EOMONTH(L$11,0))))>=L$11,DATE(YEAR(L$11),MONTH(L$11),MIN($D13,DAY(EOMONTH(L$11,0))))<=(L$11+13),IF($E13="Monthly",TRUE,IF($E13="Quarterly",MOD(MONTH(L$11)-N($F13),3)=0,MONTH(L$11)=N($F13)))),AND(DATE(YEAR((L$11+13)),MONTH((L$11+13)),MIN($D13,DAY(EOMONTH((L$11+13),0))))>=L$11,DATE(YEAR((L$11+13)),MONTH((L$11+13)),MIN($D13,DAY(EOMONTH((L$11+13),0))))<=(L$11+13),IF($E13="Monthly",TRUE,IF($E13="Quarterly",MOD(MONTH((L$11+13))-N($F13),3)=0,MONTH((L$11+13))=N($F13))))),$C13,"")))) -> 0 | M13: =IF(OR($B13="",N($C13)=0),"",IF($E13="Every paycheck",$C13,IF(N($D13)=0,"",IF(OR(AND(DATE(YEAR(M$11),MONTH(M$11),MIN($D13,DAY(EOMONTH(M$11,0))))>=M$11,DATE(YEAR(M$11),MONTH(M$11),MIN($D13,DAY(EOMONTH(M$11,0))))<=(M$11+13),IF($E13="Monthly",TRUE,IF($E13="Quarterly",MOD(MONTH(M$11)-N($F13),3)=0,MONTH(M$11)=N($F13)))),AND(DATE(YEAR((M$11+13)),MONTH((M$11+13)),MIN($D13,DAY(EOMONTH((M$11+13),0))))>=M$11,DATE(YEAR((M$11+13)),MONTH((M$11+13)),MIN($D13,DAY(EOMONTH((M$11+13),0))))<=(M$11+13),IF($E13="Monthly",TRUE,IF($E13="Quarterly",MOD(MONTH((M$11+13))-N($F13),3)=0,MONTH((M$11+13))=N($F13))))),$C13,"")))) -> 0 | N13: =IF(OR($B13="",N($C13)=0),"",IF($E13="Every paycheck",$C13,IF(N($D13)=0,"",IF(OR(AND(DATE(YEAR(N$11),MONTH(N$11),MIN($D13,DAY(EOMONTH(N$11,0))))>=N$11,DATE(YEAR(N$11),MONTH(N$11),MIN($D13,DAY(EOMONTH(N$11,0))))<=(N$11+13),IF($E13="Monthly",TRUE,IF($E13="Quarterly",MOD(MONTH(N$11)-N($F13),3)=0,MONTH(N$11)=N($F13)))),AND(DATE(YEAR((N$11+13)),MONTH((N$11+13)),MIN($D13,DAY(EOMONTH((N$11+13),0))))>=N$11,DATE(YEAR((N$11+13)),MONTH((N$11+13)),MIN($D13,DAY(EOMONTH((N$11+13),0))))<=(N$11+13),IF($E13="Monthly",TRUE,IF($E13="Quarterly",MOD(MONTH((N$11+13))-N($F13),3)=0,MONTH((N$11+13))=N($F13))))),$C13,"")))) -> 0 | O13: =IF(OR($B13="",N($C13)=0),"",IF($E13="Every paycheck",$C13,IF(N($D13)=0,"",IF(OR(AND(DATE(YEAR(O$11),MONTH(O$11),MIN($D13,DAY(EOMONTH(O$11,0))))>=O$11,DATE(YEAR(O$11),MONTH(O$11),MIN($D13,DAY(EOMONTH(O$11,0))))<=(O$11+13),IF($E13="Monthly",TRUE,IF($E13="Quarterly",MOD(MONTH(O$11)-N($F13),3)=0,MONTH(O$11)=N($F13)))),AND(DATE(YEAR((O$11+13)),MONTH((O$11+13)),MIN($D13,DAY(EOMONTH((O$11+13),0))))>=O$11,DATE(YEAR((O$11+13)),MONTH((O$11+13)),MIN($D13,DAY(EOMONTH((O$11+13),0))))<=(O$11+13),IF($E13="Monthly",TRUE,IF($E13="Quarterly",MOD(MONTH((O$11+13))-N($F13),3)=0,MONTH((O$11+13))=N($F13))))),$C13,"")))) -> 0 | P13: =IF(OR($B13="",N($C13)=0),"",IF($E13="Every paycheck",$C13,IF(N($D13)=0,"",IF(OR(AND(DATE(YEAR(P$11),MONTH(P$11),MIN($D13,DAY(EOMONTH(P$11,0))))>=P$11,DATE(YEAR(P$11),MONTH(P$11),MIN($D13,DAY(EOMONTH(P$11,0))))<=(P$11+13),IF($E13="Monthly",TRUE,IF($E13="Quarterly",MOD(MONTH(P$11)-N($F13),3)=0,MONTH(P$11)=N($F13)))),AND(DATE(YEAR((P$11+13)),MONTH((P$11+13)),MIN($D13,DAY(EOMONTH((P$11+13),0))))>=P$11,DATE(YEAR((P$11+13)),MONTH((P$11+13)),MIN($D13,DAY(EOMONTH((P$11+13),0))))<=(P$11+13),IF($E13="Monthly",TRUE,IF($E13="Quarterly",MOD(MONTH((P$11+13))-N($F13),3)=0,MONTH((P$11+13))=N($F13))))),$C13,"")))) -> 0 | ... AH13: =IF(OR($B13="",N($C13)=0),"",IF($E13="Every paycheck",$C13,IF(N($D13)=0,"",IF(OR(AND(DATE(YEAR(AH$11),MONTH(AH$11),MIN($D13,DAY(EOMONTH(AH$11,0))))>=AH$11,DATE(YEAR(AH$11),MONTH(AH$11),MIN($D13,DAY(EOMONTH(AH$11,0))))<=(AH$11+13),IF($E13="Monthly",TRUE,IF($E13="Quarterly",MOD(MONTH(AH$11)-N($F13),3)=0,MONTH(AH$11)=N($F13)))),AND(DATE(YEAR((AH$11+13)),MONTH((AH$11+13)),MIN($D13,DAY(EOMONTH((AH$11+13),0))))>=AH$11,DATE(YEAR((AH$11+13)),MONTH((AH$11+13)),MIN($D13,DAY(EOMONTH((AH$11+13),0))))<=(AH$11+13),IF($E13="Monthly",TRUE,IF($E13="Quarterly",MOD(MONTH((AH$11+13))-N($F13),3)=0,MONTH((AH$11+13))=N($F13))))),$C13,"")))) -> 0
B14: Car payment | C14: 310 | D14: 5 | E14: Monthly | I14: =IF(OR($B14="",N($C14)=0),"",IF($E14="Every paycheck",$C14,IF(N($D14)=0,"",IF(OR(AND(DATE(YEAR(I$11),MONTH(I$11),MIN($D14,DAY(EOMONTH(I$11,0))))>=I$11,DATE(YEAR(I$11),MONTH(I$11),MIN($D14,DAY(EOMONTH(I$11,0))))<=(I$11+13),IF($E14="Monthly",TRUE,IF($E14="Quarterly",MOD(MONTH(I$11)-N($F14),3)=0,MONTH(I$11)=N($F14)))),AND(DATE(YEAR((I$11+13)),MONTH((I$11+13)),MIN($D14,DAY(EOMONTH((I$11+13),0))))>=I$11,DATE(YEAR((I$11+13)),MONTH((I$11+13)),MIN($D14,DAY(EOMONTH((I$11+13),0))))<=(I$11+13),IF($E14="Monthly",TRUE,IF($E14="Quarterly",MOD(MONTH((I$11+13))-N($F14),3)=0,MONTH((I$11+13))=N($F14))))),$C14,"")))) -> 0 | J14: =IF(OR($B14="",N($C14)=0),"",IF($E14="Every paycheck",$C14,IF(N($D14)=0,"",IF(OR(AND(DATE(YEAR(J$11),MONTH(J$11),MIN($D14,DAY(EOMONTH(J$11,0))))>=J$11,DATE(YEAR(J$11),MONTH(J$11),MIN($D14,DAY(EOMONTH(J$11,0))))<=(J$11+13),IF($E14="Monthly",TRUE,IF($E14="Quarterly",MOD(MONTH(J$11)-N($F14),3)=0,MONTH(J$11)=N($F14)))),AND(DATE(YEAR((J$11+13)),MONTH((J$11+13)),MIN($D14,DAY(EOMONTH((J$11+13),0))))>=J$11,DATE(YEAR((J$11+13)),MONTH((J$11+13)),MIN($D14,DAY(EOMONTH((J$11+13),0))))<=(J$11+13),IF($E14="Monthly",TRUE,IF($E14="Quarterly",MOD(MONTH((J$11+13))-N($F14),3)=0,MONTH((J$11+13))=N($F14))))),$C14,"")))) -> 0 | K14: =IF(OR($B14="",N($C14)=0),"",IF($E14="Every paycheck",$C14,IF(N($D14)=0,"",IF(OR(AND(DATE(YEAR(K$11),MONTH(K$11),MIN($D14,DAY(EOMONTH(K$11,0))))>=K$11,DATE(YEAR(K$11),MONTH(K$11),MIN($D14,DAY(EOMONTH(K$11,0))))<=(K$11+13),IF($E14="Monthly",TRUE,IF($E14="Quarterly",MOD(MONTH(K$11)-N($F14),3)=0,MONTH(K$11)=N($F14)))),AND(DATE(YEAR((K$11+13)),MONTH((K$11+13)),MIN($D14,DAY(EOMONTH((K$11+13),0))))>=K$11,DATE(YEAR((K$11+13)),MONTH((K$11+13)),MIN($D14,DAY(EOMONTH((K$11+13),0))))<=(K$11+13),IF($E14="Monthly",TRUE,IF($E14="Quarterly",MOD(MONTH((K$11+13))-N($F14),3)=0,MONTH((K$11+13))=N($F14))))),$C14,"")))) -> 0 | L14: =IF(OR($B14="",N($C14)=0),"",IF($E14="Every paycheck",$C14,IF(N($D14)=0,"",IF(OR(AND(DATE(YEAR(L$11),MONTH(L$11),MIN($D14,DAY(EOMONTH(L$11,0))))>=L$11,DATE(YEAR(L$11),MONTH(L$11),MIN($D14,DAY(EOMONTH(L$11,0))))<=(L$11+13),IF($E14="Monthly",TRUE,IF($E14="Quarterly",MOD(MONTH(L$11)-N($F14),3)=0,MONTH(L$11)=N($F14)))),AND(DATE(YEAR((L$11+13)),MONTH((L$11+13)),MIN($D14,DAY(EOMONTH((L$11+13),0))))>=L$11,DATE(YEAR((L$11+13)),MONTH((L$11+13)),MIN($D14,DAY(EOMONTH((L$11+13),0))))<=(L$11+13),IF($E14="Monthly",TRUE,IF($E14="Quarterly",MOD(MONTH((L$11+13))-N($F14),3)=0,MONTH((L$11+13))=N($F14))))),$C14,"")))) -> 0 | M14: =IF(OR($B14="",N($C14)=0),"",IF($E14="Every paycheck",$C14,IF(N($D14)=0,"",IF(OR(AND(DATE(YEAR(M$11),MONTH(M$11),MIN($D14,DAY(EOMONTH(M$11,0))))>=M$11,DATE(YEAR(M$11),MONTH(M$11),MIN($D14,DAY(EOMONTH(M$11,0))))<=(M$11+13),IF($E14="Monthly",TRUE,IF($E14="Quarterly",MOD(MONTH(M$11)-N($F14),3)=0,MONTH(M$11)=N($F14)))),AND(DATE(YEAR((M$11+13)),MONTH((M$11+13)),MIN($D14,DAY(EOMONTH((M$11+13),0))))>=M$11,DATE(YEAR((M$11+13)),MONTH((M$11+13)),MIN($D14,DAY(EOMONTH((M$11+13),0))))<=(M$11+13),IF($E14="Monthly",TRUE,IF($E14="Quarterly",MOD(MONTH((M$11+13))-N($F14),3)=0,MONTH((M$11+13))=N($F14))))),$C14,"")))) -> 0 | N14: =IF(OR($B14="",N($C14)=0),"",IF($E14="Every paycheck",$C14,IF(N($D14)=0,"",IF(OR(AND(DATE(YEAR(N$11),MONTH(N$11),MIN($D14,DAY(EOMONTH(N$11,0))))>=N$11,DATE(YEAR(N$11),MONTH(N$11),MIN($D14,DAY(EOMONTH(N$11,0))))<=(N$11+13),IF($E14="Monthly",TRUE,IF($E14="Quarterly",MOD(MONTH(N$11)-N($F14),3)=0,MONTH(N$11)=N($F14)))),AND(DATE(YEAR((N$11+13)),MONTH((N$11+13)),MIN($D14,DAY(EOMONTH((N$11+13),0))))>=N$11,DATE(YEAR((N$11+13)),MONTH((N$11+13)),MIN($D14,DAY(EOMONTH((N$11+13),0))))<=(N$11+13),IF($E14="Monthly",TRUE,IF($E14="Quarterly",MOD(MONTH((N$11+13))-N($F14),3)=0,MONTH((N$11+13))=N($F14))))),$C14,"")))) -> 0 | O14: =IF(OR($B14="",N($C14)=0),"",IF($E14="Every paycheck",$C14,IF(N($D14)=0,"",IF(OR(AND(DATE(YEAR(O$11),MONTH(O$11),MIN($D14,DAY(EOMONTH(O$11,0))))>=O$11,DATE(YEAR(O$11),MONTH(O$11),MIN($D14,DAY(EOMONTH(O$11,0))))<=(O$11+13),IF($E14="Monthly",TRUE,IF($E14="Quarterly",MOD(MONTH(O$11)-N($F14),3)=0,MONTH(O$11)=N($F14)))),AND(DATE(YEAR((O$11+13)),MONTH((O$11+13)),MIN($D14,DAY(EOMONTH((O$11+13),0))))>=O$11,DATE(YEAR((O$11+13)),MONTH((O$11+13)),MIN($D14,DAY(EOMONTH((O$11+13),0))))<=(O$11+13),IF($E14="Monthly",TRUE,IF($E14="Quarterly",MOD(MONTH((O$11+13))-N($F14),3)=0,MONTH((O$11+13))=N($F14))))),$C14,"")))) -> 0 | P14: =IF(OR($B14="",N($C14)=0),"",IF($E14="Every paycheck",$C14,IF(N($D14)=0,"",IF(OR(AND(DATE(YEAR(P$11),MONTH(P$11),MIN($D14,DAY(EOMONTH(P$11,0))))>=P$11,DATE(YEAR(P$11),MONTH(P$11),MIN($D14,DAY(EOMONTH(P$11,0))))<=(P$11+13),IF($E14="Monthly",TRUE,IF($E14="Quarterly",MOD(MONTH(P$11)-N($F14),3)=0,MONTH(P$11)=N($F14)))),AND(DATE(YEAR((P$11+13)),MONTH((P$11+13)),MIN($D14,DAY(EOMONTH((P$11+13),0))))>=P$11,DATE(YEAR((P$11+13)),MONTH((P$11+13)),MIN($D14,DAY(EOMONTH((P$11+13),0))))<=(P$11+13),IF($E14="Monthly",TRUE,IF($E14="Quarterly",MOD(MONTH((P$11+13))-N($F14),3)=0,MONTH((P$11+13))=N($F14))))),$C14,"")))) -> 0 | ... AH14: =IF(OR($B14="",N($C14)=0),"",IF($E14="Every paycheck",$C14,IF(N($D14)=0,"",IF(OR(AND(DATE(YEAR(AH$11),MONTH(AH$11),MIN($D14,DAY(EOMONTH(AH$11,0))))>=AH$11,DATE(YEAR(AH$11),MONTH(AH$11),MIN($D14,DAY(EOMONTH(AH$11,0))))<=(AH$11+13),IF($E14="Monthly",TRUE,IF($E14="Quarterly",MOD(MONTH(AH$11)-N($F14),3)=0,MONTH(AH$11)=N($F14)))),AND(DATE(YEAR((AH$11+13)),MONTH((AH$11+13)),MIN($D14,DAY(EOMONTH((AH$11+13),0))))>=AH$11,DATE(YEAR((AH$11+13)),MONTH((AH$11+13)),MIN($D14,DAY(EOMONTH((AH$11+13),0))))<=(AH$11+13),IF($E14="Monthly",TRUE,IF($E14="Quarterly",MOD(MONTH((AH$11+13))-N($F14),3)=0,MONTH((AH$11+13))=N($F14))))),$C14,"")))) -> 0
B15: Car insurance | C15: 120 | D15: 8 | E15: Monthly | I15: =IF(OR($B15="",N($C15)=0),"",IF($E15="Every paycheck",$C15,IF(N($D15)=0,"",IF(OR(AND(DATE(YEAR(I$11),MONTH(I$11),MIN($D15,DAY(EOMONTH(I$11,0))))>=I$11,DATE(YEAR(I$11),MONTH(I$11),MIN($D15,DAY(EOMONTH(I$11,0))))<=(I$11+13),IF($E15="Monthly",TRUE,IF($E15="Quarterly",MOD(MONTH(I$11)-N($F15),3)=0,MONTH(I$11)=N($F15)))),AND(DATE(YEAR((I$11+13)),MONTH((I$11+13)),MIN($D15,DAY(EOMONTH((I$11+13),0))))>=I$11,DATE(YEAR((I$11+13)),MONTH((I$11+13)),MIN($D15,DAY(EOMONTH((I$11+13),0))))<=(I$11+13),IF($E15="Monthly",TRUE,IF($E15="Quarterly",MOD(MONTH((I$11+13))-N($F15),3)=0,MONTH((I$11+13))=N($F15))))),$C15,"")))) -> 0 | J15: =IF(OR($B15="",N($C15)=0),"",IF($E15="Every paycheck",$C15,IF(N($D15)=0,"",IF(OR(AND(DATE(YEAR(J$11),MONTH(J$11),MIN($D15,DAY(EOMONTH(J$11,0))))>=J$11,DATE(YEAR(J$11),MONTH(J$11),MIN($D15,DAY(EOMONTH(J$11,0))))<=(J$11+13),IF($E15="Monthly",TRUE,IF($E15="Quarterly",MOD(MONTH(J$11)-N($F15),3)=0,MONTH(J$11)=N($F15)))),AND(DATE(YEAR((J$11+13)),MONTH((J$11+13)),MIN($D15,DAY(EOMONTH((J$11+13),0))))>=J$11,DATE(YEAR((J$11+13)),MONTH((J$11+13)),MIN($D15,DAY(EOMONTH((J$11+13),0))))<=(J$11+13),IF($E15="Monthly",TRUE,IF($E15="Quarterly",MOD(MONTH((J$11+13))-N($F15),3)=0,MONTH((J$11+13))=N($F15))))),$C15,"")))) -> 0 | K15: =IF(OR($B15="",N($C15)=0),"",IF($E15="Every paycheck",$C15,IF(N($D15)=0,"",IF(OR(AND(DATE(YEAR(K$11),MONTH(K$11),MIN($D15,DAY(EOMONTH(K$11,0))))>=K$11,DATE(YEAR(K$11),MONTH(K$11),MIN($D15,DAY(EOMONTH(K$11,0))))<=(K$11+13),IF($E15="Monthly",TRUE,IF($E15="Quarterly",MOD(MONTH(K$11)-N($F15),3)=0,MONTH(K$11)=N($F15)))),AND(DATE(YEAR((K$11+13)),MONTH((K$11+13)),MIN($D15,DAY(EOMONTH((K$11+13),0))))>=K$11,DATE(YEAR((K$11+13)),MONTH((K$11+13)),MIN($D15,DAY(EOMONTH((K$11+13),0))))<=(K$11+13),IF($E15="Monthly",TRUE,IF($E15="Quarterly",MOD(MONTH((K$11+13))-N($F15),3)=0,MONTH((K$11+13))=N($F15))))),$C15,"")))) -> 0 | L15: =IF(OR($B15="",N($C15)=0),"",IF($E15="Every paycheck",$C15,IF(N($D15)=0,"",IF(OR(AND(DATE(YEAR(L$11),MONTH(L$11),MIN($D15,DAY(EOMONTH(L$11,0))))>=L$11,DATE(YEAR(L$11),MONTH(L$11),MIN($D15,DAY(EOMONTH(L$11,0))))<=(L$11+13),IF($E15="Monthly",TRUE,IF($E15="Quarterly",MOD(MONTH(L$11)-N($F15),3)=0,MONTH(L$11)=N($F15)))),AND(DATE(YEAR((L$11+13)),MONTH((L$11+13)),MIN($D15,DAY(EOMONTH((L$11+13),0))))>=L$11,DATE(YEAR((L$11+13)),MONTH((L$11+13)),MIN($D15,DAY(EOMONTH((L$11+13),0))))<=(L$11+13),IF($E15="Monthly",TRUE,IF($E15="Quarterly",MOD(MONTH((L$11+13))-N($F15),3)=0,MONTH((L$11+13))=N($F15))))),$C15,"")))) -> 0 | M15: =IF(OR($B15="",N($C15)=0),"",IF($E15="Every paycheck",$C15,IF(N($D15)=0,"",IF(OR(AND(DATE(YEAR(M$11),MONTH(M$11),MIN($D15,DAY(EOMONTH(M$11,0))))>=M$11,DATE(YEAR(M$11),MONTH(M$11),MIN($D15,DAY(EOMONTH(M$11,0))))<=(M$11+13),IF($E15="Monthly",TRUE,IF($E15="Quarterly",MOD(MONTH(M$11)-N($F15),3)=0,MONTH(M$11)=N($F15)))),AND(DATE(YEAR((M$11+13)),MONTH((M$11+13)),MIN($D15,DAY(EOMONTH((M$11+13),0))))>=M$11,DATE(YEAR((M$11+13)),MONTH((M$11+13)),MIN($D15,DAY(EOMONTH((M$11+13),0))))<=(M$11+13),IF($E15="Monthly",TRUE,IF($E15="Quarterly",MOD(MONTH((M$11+13))-N($F15),3)=0,MONTH((M$11+13))=N($F15))))),$C15,"")))) -> 0 | N15: =IF(OR($B15="",N($C15)=0),"",IF($E15="Every paycheck",$C15,IF(N($D15)=0,"",IF(OR(AND(DATE(YEAR(N$11),MONTH(N$11),MIN($D15,DAY(EOMONTH(N$11,0))))>=N$11,DATE(YEAR(N$11),MONTH(N$11),MIN($D15,DAY(EOMONTH(N$11,0))))<=(N$11+13),IF($E15="Monthly",TRUE,IF($E15="Quarterly",MOD(MONTH(N$11)-N($F15),3)=0,MONTH(N$11)=N($F15)))),AND(DATE(YEAR((N$11+13)),MONTH((N$11+13)),MIN($D15,DAY(EOMONTH((N$11+13),0))))>=N$11,DATE(YEAR((N$11+13)),MONTH((N$11+13)),MIN($D15,DAY(EOMONTH((N$11+13),0))))<=(N$11+13),IF($E15="Monthly",TRUE,IF($E15="Quarterly",MOD(MONTH((N$11+13))-N($F15),3)=0,MONTH((N$11+13))=N($F15))))),$C15,"")))) -> 0 | O15: =IF(OR($B15="",N($C15)=0),"",IF($E15="Every paycheck",$C15,IF(N($D15)=0,"",IF(OR(AND(DATE(YEAR(O$11),MONTH(O$11),MIN($D15,DAY(EOMONTH(O$11,0))))>=O$11,DATE(YEAR(O$11),MONTH(O$11),MIN($D15,DAY(EOMONTH(O$11,0))))<=(O$11+13),IF($E15="Monthly",TRUE,IF($E15="Quarterly",MOD(MONTH(O$11)-N($F15),3)=0,MONTH(O$11)=N($F15)))),AND(DATE(YEAR((O$11+13)),MONTH((O$11+13)),MIN($D15,DAY(EOMONTH((O$11+13),0))))>=O$11,DATE(YEAR((O$11+13)),MONTH((O$11+13)),MIN($D15,DAY(EOMONTH((O$11+13),0))))<=(O$11+13),IF($E15="Monthly",TRUE,IF($E15="Quarterly",MOD(MONTH((O$11+13))-N($F15),3)=0,MONTH((O$11+13))=N($F15))))),$C15,"")))) -> 0 | P15: =IF(OR($B15="",N($C15)=0),"",IF($E15="Every paycheck",$C15,IF(N($D15)=0,"",IF(OR(AND(DATE(YEAR(P$11),MONTH(P$11),MIN($D15,DAY(EOMONTH(P$11,0))))>=P$11,DATE(YEAR(P$11),MONTH(P$11),MIN($D15,DAY(EOMONTH(P$11,0))))<=(P$11+13),IF($E15="Monthly",TRUE,IF($E15="Quarterly",MOD(MONTH(P$11)-N($F15),3)=0,MONTH(P$11)=N($F15)))),AND(DATE(YEAR((P$11+13)),MONTH((P$11+13)),MIN($D15,DAY(EOMONTH((P$11+13),0))))>=P$11,DATE(YEAR((P$11+13)),MONTH((P$11+13)),MIN($D15,DAY(EOMONTH((P$11+13),0))))<=(P$11+13),IF($E15="Monthly",TRUE,IF($E15="Quarterly",MOD(MONTH((P$11+13))-N($F15),3)=0,MONTH((P$11+13))=N($F15))))),$C15,"")))) -> 0 | ... AH15: =IF(OR($B15="",N($C15)=0),"",IF($E15="Every paycheck",$C15,IF(N($D15)=0,"",IF(OR(AND(DATE(YEAR(AH$11),MONTH(AH$11),MIN($D15,DAY(EOMONTH(AH$11,0))))>=AH$11,DATE(YEAR(AH$11),MONTH(AH$11),MIN($D15,DAY(EOMONTH(AH$11,0))))<=(AH$11+13),IF($E15="Monthly",TRUE,IF($E15="Quarterly",MOD(MONTH(AH$11)-N($F15),3)=0,MONTH(AH$11)=N($F15)))),AND(DATE(YEAR((AH$11+13)),MONTH((AH$11+13)),MIN($D15,DAY(EOMONTH((AH$11+13),0))))>=AH$11,DATE(YEAR((AH$11+13)),MONTH((AH$11+13)),MIN($D15,DAY(EOMONTH((AH$11+13),0))))<=(AH$11+13),IF($E15="Monthly",TRUE,IF($E15="Quarterly",MOD(MONTH((AH$11+13))-N($F15),3)=0,MONTH((AH$11+13))=N($F15))))),$C15,"")))) -> 0
B16: Gym | C16: 30 | D16: 10 | E16: Monthly | I16: =IF(OR($B16="",N($C16)=0),"",IF($E16="Every paycheck",$C16,IF(N($D16)=0,"",IF(OR(AND(DATE(YEAR(I$11),MONTH(I$11),MIN($D16,DAY(EOMONTH(I$11,0))))>=I$11,DATE(YEAR(I$11),MONTH(I$11),MIN($D16,DAY(EOMONTH(I$11,0))))<=(I$11+13),IF($E16="Monthly",TRUE,IF($E16="Quarterly",MOD(MONTH(I$11)-N($F16),3)=0,MONTH(I$11)=N($F16)))),AND(DATE(YEAR((I$11+13)),MONTH((I$11+13)),MIN($D16,DAY(EOMONTH((I$11+13),0))))>=I$11,DATE(YEAR((I$11+13)),MONTH((I$11+13)),MIN($D16,DAY(EOMONTH((I$11+13),0))))<=(I$11+13),IF($E16="Monthly",TRUE,IF($E16="Quarterly",MOD(MONTH((I$11+13))-N($F16),3)=0,MONTH((I$11+13))=N($F16))))),$C16,"")))) -> 0 | J16: =IF(OR($B16="",N($C16)=0),"",IF($E16="Every paycheck",$C16,IF(N($D16)=0,"",IF(OR(AND(DATE(YEAR(J$11),MONTH(J$11),MIN($D16,DAY(EOMONTH(J$11,0))))>=J$11,DATE(YEAR(J$11),MONTH(J$11),MIN($D16,DAY(EOMONTH(J$11,0))))<=(J$11+13),IF($E16="Monthly",TRUE,IF($E16="Quarterly",MOD(MONTH(J$11)-N($F16),3)=0,MONTH(J$11)=N($F16)))),AND(DATE(YEAR((J$11+13)),MONTH((J$11+13)),MIN($D16,DAY(EOMONTH((J$11+13),0))))>=J$11,DATE(YEAR((J$11+13)),MONTH((J$11+13)),MIN($D16,DAY(EOMONTH((J$11+13),0))))<=(J$11+13),IF($E16="Monthly",TRUE,IF($E16="Quarterly",MOD(MONTH((J$11+13))-N($F16),3)=0,MONTH((J$11+13))=N($F16))))),$C16,"")))) -> 0 | K16: =IF(OR($B16="",N($C16)=0),"",IF($E16="Every paycheck",$C16,IF(N($D16)=0,"",IF(OR(AND(DATE(YEAR(K$11),MONTH(K$11),MIN($D16,DAY(EOMONTH(K$11,0))))>=K$11,DATE(YEAR(K$11),MONTH(K$11),MIN($D16,DAY(EOMONTH(K$11,0))))<=(K$11+13),IF($E16="Monthly",TRUE,IF($E16="Quarterly",MOD(MONTH(K$11)-N($F16),3)=0,MONTH(K$11)=N($F16)))),AND(DATE(YEAR((K$11+13)),MONTH((K$11+13)),MIN($D16,DAY(EOMONTH((K$11+13),0))))>=K$11,DATE(YEAR((K$11+13)),MONTH((K$11+13)),MIN($D16,DAY(EOMONTH((K$11+13),0))))<=(K$11+13),IF($E16="Monthly",TRUE,IF($E16="Quarterly",MOD(MONTH((K$11+13))-N($F16),3)=0,MONTH((K$11+13))=N($F16))))),$C16,"")))) -> 0 | L16: =IF(OR($B16="",N($C16)=0),"",IF($E16="Every paycheck",$C16,IF(N($D16)=0,"",IF(OR(AND(DATE(YEAR(L$11),MONTH(L$11),MIN($D16,DAY(EOMONTH(L$11,0))))>=L$11,DATE(YEAR(L$11),MONTH(L$11),MIN($D16,DAY(EOMONTH(L$11,0))))<=(L$11+13),IF($E16="Monthly",TRUE,IF($E16="Quarterly",MOD(MONTH(L$11)-N($F16),3)=0,MONTH(L$11)=N($F16)))),AND(DATE(YEAR((L$11+13)),MONTH((L$11+13)),MIN($D16,DAY(EOMONTH((L$11+13),0))))>=L$11,DATE(YEAR((L$11+13)),MONTH((L$11+13)),MIN($D16,DAY(EOMONTH((L$11+13),0))))<=(L$11+13),IF($E16="Monthly",TRUE,IF($E16="Quarterly",MOD(MONTH((L$11+13))-N($F16),3)=0,MONTH((L$11+13))=N($F16))))),$C16,"")))) -> 0 | M16: =IF(OR($B16="",N($C16)=0),"",IF($E16="Every paycheck",$C16,IF(N($D16)=0,"",IF(OR(AND(DATE(YEAR(M$11),MONTH(M$11),MIN($D16,DAY(EOMONTH(M$11,0))))>=M$11,DATE(YEAR(M$11),MONTH(M$11),MIN($D16,DAY(EOMONTH(M$11,0))))<=(M$11+13),IF($E16="Monthly",TRUE,IF($E16="Quarterly",MOD(MONTH(M$11)-N($F16),3)=0,MONTH(M$11)=N($F16)))),AND(DATE(YEAR((M$11+13)),MONTH((M$11+13)),MIN($D16,DAY(EOMONTH((M$11+13),0))))>=M$11,DATE(YEAR((M$11+13)),MONTH((M$11+13)),MIN($D16,DAY(EOMONTH((M$11+13),0))))<=(M$11+13),IF($E16="Monthly",TRUE,IF($E16="Quarterly",MOD(MONTH((M$11+13))-N($F16),3)=0,MONTH((M$11+13))=N($F16))))),$C16,"")))) -> 0 | N16: =IF(OR($B16="",N($C16)=0),"",IF($E16="Every paycheck",$C16,IF(N($D16)=0,"",IF(OR(AND(DATE(YEAR(N$11),MONTH(N$11),MIN($D16,DAY(EOMONTH(N$11,0))))>=N$11,DATE(YEAR(N$11),MONTH(N$11),MIN($D16,DAY(EOMONTH(N$11,0))))<=(N$11+13),IF($E16="Monthly",TRUE,IF($E16="Quarterly",MOD(MONTH(N$11)-N($F16),3)=0,MONTH(N$11)=N($F16)))),AND(DATE(YEAR((N$11+13)),MONTH((N$11+13)),MIN($D16,DAY(EOMONTH((N$11+13),0))))>=N$11,DATE(YEAR((N$11+13)),MONTH((N$11+13)),MIN($D16,DAY(EOMONTH((N$11+13),0))))<=(N$11+13),IF($E16="Monthly",TRUE,IF($E16="Quarterly",MOD(MONTH((N$11+13))-N($F16),3)=0,MONTH((N$11+13))=N($F16))))),$C16,"")))) -> 0 | O16: =IF(OR($B16="",N($C16)=0),"",IF($E16="Every paycheck",$C16,IF(N($D16)=0,"",IF(OR(AND(DATE(YEAR(O$11),MONTH(O$11),MIN($D16,DAY(EOMONTH(O$11,0))))>=O$11,DATE(YEAR(O$11),MONTH(O$11),MIN($D16,DAY(EOMONTH(O$11,0))))<=(O$11+13),IF($E16="Monthly",TRUE,IF($E16="Quarterly",MOD(MONTH(O$11)-N($F16),3)=0,MONTH(O$11)=N($F16)))),AND(DATE(YEAR((O$11+13)),MONTH((O$11+13)),MIN($D16,DAY(EOMONTH((O$11+13),0))))>=O$11,DATE(YEAR((O$11+13)),MONTH((O$11+13)),MIN($D16,DAY(EOMONTH((O$11+13),0))))<=(O$11+13),IF($E16="Monthly",TRUE,IF($E16="Quarterly",MOD(MONTH((O$11+13))-N($F16),3)=0,MONTH((O$11+13))=N($F16))))),$C16,"")))) -> 0 | P16: =IF(OR($B16="",N($C16)=0),"",IF($E16="Every paycheck",$C16,IF(N($D16)=0,"",IF(OR(AND(DATE(YEAR(P$11),MONTH(P$11),MIN($D16,DAY(EOMONTH(P$11,0))))>=P$11,DATE(YEAR(P$11),MONTH(P$11),MIN($D16,DAY(EOMONTH(P$11,0))))<=(P$11+13),IF($E16="Monthly",TRUE,IF($E16="Quarterly",MOD(MONTH(P$11)-N($F16),3)=0,MONTH(P$11)=N($F16)))),AND(DATE(YEAR((P$11+13)),MONTH((P$11+13)),MIN($D16,DAY(EOMONTH((P$11+13),0))))>=P$11,DATE(YEAR((P$11+13)),MONTH((P$11+13)),MIN($D16,DAY(EOMONTH((P$11+13),0))))<=(P$11+13),IF($E16="Monthly",TRUE,IF($E16="Quarterly",MOD(MONTH((P$11+13))-N($F16),3)=0,MONTH((P$11+13))=N($F16))))),$C16,"")))) -> 0 | ... AH16: =IF(OR($B16="",N($C16)=0),"",IF($E16="Every paycheck",$C16,IF(N($D16)=0,"",IF(OR(AND(DATE(YEAR(AH$11),MONTH(AH$11),MIN($D16,DAY(EOMONTH(AH$11,0))))>=AH$11,DATE(YEAR(AH$11),MONTH(AH$11),MIN($D16,DAY(EOMONTH(AH$11,0))))<=(AH$11+13),IF($E16="Monthly",TRUE,IF($E16="Quarterly",MOD(MONTH(AH$11)-N($F16),3)=0,MONTH(AH$11)=N($F16)))),AND(DATE(YEAR((AH$11+13)),MONTH((AH$11+13)),MIN($D16,DAY(EOMONTH((AH$11+13),0))))>=AH$11,DATE(YEAR((AH$11+13)),MONTH((AH$11+13)),MIN($D16,DAY(EOMONTH((AH$11+13),0))))<=(AH$11+13),IF($E16="Monthly",TRUE,IF($E16="Quarterly",MOD(MONTH((AH$11+13))-N($F16),3)=0,MONTH((AH$11+13))=N($F16))))),$C16,"")))) -> 0
B17: Phone | C17: 55 | D17: 12 | E17: Monthly | I17: =IF(OR($B17="",N($C17)=0),"",IF($E17="Every paycheck",$C17,IF(N($D17)=0,"",IF(OR(AND(DATE(YEAR(I$11),MONTH(I$11),MIN($D17,DAY(EOMONTH(I$11,0))))>=I$11,DATE(YEAR(I$11),MONTH(I$11),MIN($D17,DAY(EOMONTH(I$11,0))))<=(I$11+13),IF($E17="Monthly",TRUE,IF($E17="Quarterly",MOD(MONTH(I$11)-N($F17),3)=0,MONTH(I$11)=N($F17)))),AND(DATE(YEAR((I$11+13)),MONTH((I$11+13)),MIN($D17,DAY(EOMONTH((I$11+13),0))))>=I$11,DATE(YEAR((I$11+13)),MONTH((I$11+13)),MIN($D17,DAY(EOMONTH((I$11+13),0))))<=(I$11+13),IF($E17="Monthly",TRUE,IF($E17="Quarterly",MOD(MONTH((I$11+13))-N($F17),3)=0,MONTH((I$11+13))=N($F17))))),$C17,"")))) -> 0 | J17: =IF(OR($B17="",N($C17)=0),"",IF($E17="Every paycheck",$C17,IF(N($D17)=0,"",IF(OR(AND(DATE(YEAR(J$11),MONTH(J$11),MIN($D17,DAY(EOMONTH(J$11,0))))>=J$11,DATE(YEAR(J$11),MONTH(J$11),MIN($D17,DAY(EOMONTH(J$11,0))))<=(J$11+13),IF($E17="Monthly",TRUE,IF($E17="Quarterly",MOD(MONTH(J$11)-N($F17),3)=0,MONTH(J$11)=N($F17)))),AND(DATE(YEAR((J$11+13)),MONTH((J$11+13)),MIN($D17,DAY(EOMONTH((J$11+13),0))))>=J$11,DATE(YEAR((J$11+13)),MONTH((J$11+13)),MIN($D17,DAY(EOMONTH((J$11+13),0))))<=(J$11+13),IF($E17="Monthly",TRUE,IF($E17="Quarterly",MOD(MONTH((J$11+13))-N($F17),3)=0,MONTH((J$11+13))=N($F17))))),$C17,"")))) -> 0 | K17: =IF(OR($B17="",N($C17)=0),"",IF($E17="Every paycheck",$C17,IF(N($D17)=0,"",IF(OR(AND(DATE(YEAR(K$11),MONTH(K$11),MIN($D17,DAY(EOMONTH(K$11,0))))>=K$11,DATE(YEAR(K$11),MONTH(K$11),MIN($D17,DAY(EOMONTH(K$11,0))))<=(K$11+13),IF($E17="Monthly",TRUE,IF($E17="Quarterly",MOD(MONTH(K$11)-N($F17),3)=0,MONTH(K$11)=N($F17)))),AND(DATE(YEAR((K$11+13)),MONTH((K$11+13)),MIN($D17,DAY(EOMONTH((K$11+13),0))))>=K$11,DATE(YEAR((K$11+13)),MONTH((K$11+13)),MIN($D17,DAY(EOMONTH((K$11+13),0))))<=(K$11+13),IF($E17="Monthly",TRUE,IF($E17="Quarterly",MOD(MONTH((K$11+13))-N($F17),3)=0,MONTH((K$11+13))=N($F17))))),$C17,"")))) -> 0 | L17: =IF(OR($B17="",N($C17)=0),"",IF($E17="Every paycheck",$C17,IF(N($D17)=0,"",IF(OR(AND(DATE(YEAR(L$11),MONTH(L$11),MIN($D17,DAY(EOMONTH(L$11,0))))>=L$11,DATE(YEAR(L$11),MONTH(L$11),MIN($D17,DAY(EOMONTH(L$11,0))))<=(L$11+13),IF($E17="Monthly",TRUE,IF($E17="Quarterly",MOD(MONTH(L$11)-N($F17),3)=0,MONTH(L$11)=N($F17)))),AND(DATE(YEAR((L$11+13)),MONTH((L$11+13)),MIN($D17,DAY(EOMONTH((L$11+13),0))))>=L$11,DATE(YEAR((L$11+13)),MONTH((L$11+13)),MIN($D17,DAY(EOMONTH((L$11+13),0))))<=(L$11+13),IF($E17="Monthly",TRUE,IF($E17="Quarterly",MOD(MONTH((L$11+13))-N($F17),3)=0,MONTH((L$11+13))=N($F17))))),$C17,"")))) -> 0 | M17: =IF(OR($B17="",N($C17)=0),"",IF($E17="Every paycheck",$C17,IF(N($D17)=0,"",IF(OR(AND(DATE(YEAR(M$11),MONTH(M$11),MIN($D17,DAY(EOMONTH(M$11,0))))>=M$11,DATE(YEAR(M$11),MONTH(M$11),MIN($D17,DAY(EOMONTH(M$11,0))))<=(M$11+13),IF($E17="Monthly",TRUE,IF($E17="Quarterly",MOD(MONTH(M$11)-N($F17),3)=0,MONTH(M$11)=N($F17)))),AND(DATE(YEAR((M$11+13)),MONTH((M$11+13)),MIN($D17,DAY(EOMONTH((M$11+13),0))))>=M$11,DATE(YEAR((M$11+13)),MONTH((M$11+13)),MIN($D17,DAY(EOMONTH((M$11+13),0))))<=(M$11+13),IF($E17="Monthly",TRUE,IF($E17="Quarterly",MOD(MONTH((M$11+13))-N($F17),3)=0,MONTH((M$11+13))=N($F17))))),$C17,"")))) -> 0 | N17: =IF(OR($B17="",N($C17)=0),"",IF($E17="Every paycheck",$C17,IF(N($D17)=0,"",IF(OR(AND(DATE(YEAR(N$11),MONTH(N$11),MIN($D17,DAY(EOMONTH(N$11,0))))>=N$11,DATE(YEAR(N$11),MONTH(N$11),MIN($D17,DAY(EOMONTH(N$11,0))))<=(N$11+13),IF($E17="Monthly",TRUE,IF($E17="Quarterly",MOD(MONTH(N$11)-N($F17),3)=0,MONTH(N$11)=N($F17)))),AND(DATE(YEAR((N$11+13)),MONTH((N$11+13)),MIN($D17,DAY(EOMONTH((N$11+13),0))))>=N$11,DATE(YEAR((N$11+13)),MONTH((N$11+13)),MIN($D17,DAY(EOMONTH((N$11+13),0))))<=(N$11+13),IF($E17="Monthly",TRUE,IF($E17="Quarterly",MOD(MONTH((N$11+13))-N($F17),3)=0,MONTH((N$11+13))=N($F17))))),$C17,"")))) -> 0 | O17: =IF(OR($B17="",N($C17)=0),"",IF($E17="Every paycheck",$C17,IF(N($D17)=0,"",IF(OR(AND(DATE(YEAR(O$11),MONTH(O$11),MIN($D17,DAY(EOMONTH(O$11,0))))>=O$11,DATE(YEAR(O$11),MONTH(O$11),MIN($D17,DAY(EOMONTH(O$11,0))))<=(O$11+13),IF($E17="Monthly",TRUE,IF($E17="Quarterly",MOD(MONTH(O$11)-N($F17),3)=0,MONTH(O$11)=N($F17)))),AND(DATE(YEAR((O$11+13)),MONTH((O$11+13)),MIN($D17,DAY(EOMONTH((O$11+13),0))))>=O$11,DATE(YEAR((O$11+13)),MONTH((O$11+13)),MIN($D17,DAY(EOMONTH((O$11+13),0))))<=(O$11+13),IF($E17="Monthly",TRUE,IF($E17="Quarterly",MOD(MONTH((O$11+13))-N($F17),3)=0,MONTH((O$11+13))=N($F17))))),$C17,"")))) -> 0 | P17: =IF(OR($B17="",N($C17)=0),"",IF($E17="Every paycheck",$C17,IF(N($D17)=0,"",IF(OR(AND(DATE(YEAR(P$11),MONTH(P$11),MIN($D17,DAY(EOMONTH(P$11,0))))>=P$11,DATE(YEAR(P$11),MONTH(P$11),MIN($D17,DAY(EOMONTH(P$11,0))))<=(P$11+13),IF($E17="Monthly",TRUE,IF($E17="Quarterly",MOD(MONTH(P$11)-N($F17),3)=0,MONTH(P$11)=N($F17)))),AND(DATE(YEAR((P$11+13)),MONTH((P$11+13)),MIN($D17,DAY(EOMONTH((P$11+13),0))))>=P$11,DATE(YEAR((P$11+13)),MONTH((P$11+13)),MIN($D17,DAY(EOMONTH((P$11+13),0))))<=(P$11+13),IF($E17="Monthly",TRUE,IF($E17="Quarterly",MOD(MONTH((P$11+13))-N($F17),3)=0,MONTH((P$11+13))=N($F17))))),$C17,"")))) -> 0 | ... AH17: =IF(OR($B17="",N($C17)=0),"",IF($E17="Every paycheck",$C17,IF(N($D17)=0,"",IF(OR(AND(DATE(YEAR(AH$11),MONTH(AH$11),MIN($D17,DAY(EOMONTH(AH$11,0))))>=AH$11,DATE(YEAR(AH$11),MONTH(AH$11),MIN($D17,DAY(EOMONTH(AH$11,0))))<=(AH$11+13),IF($E17="Monthly",TRUE,IF($E17="Quarterly",MOD(MONTH(AH$11)-N($F17),3)=0,MONTH(AH$11)=N($F17)))),AND(DATE(YEAR((AH$11+13)),MONTH((AH$11+13)),MIN($D17,DAY(EOMONTH((AH$11+13),0))))>=AH$11,DATE(YEAR((AH$11+13)),MONTH((AH$11+13)),MIN($D17,DAY(EOMONTH((AH$11+13),0))))<=(AH$11+13),IF($E17="Monthly",TRUE,IF($E17="Quarterly",MOD(MONTH((AH$11+13))-N($F17),3)=0,MONTH((AH$11+13))=N($F17))))),$C17,"")))) -> 0
B18: Student loan | C18: 230 | D18: 15 | E18: Monthly | I18: =IF(OR($B18="",N($C18)=0),"",IF($E18="Every paycheck",$C18,IF(N($D18)=0,"",IF(OR(AND(DATE(YEAR(I$11),MONTH(I$11),MIN($D18,DAY(EOMONTH(I$11,0))))>=I$11,DATE(YEAR(I$11),MONTH(I$11),MIN($D18,DAY(EOMONTH(I$11,0))))<=(I$11+13),IF($E18="Monthly",TRUE,IF($E18="Quarterly",MOD(MONTH(I$11)-N($F18),3)=0,MONTH(I$11)=N($F18)))),AND(DATE(YEAR((I$11+13)),MONTH((I$11+13)),MIN($D18,DAY(EOMONTH((I$11+13),0))))>=I$11,DATE(YEAR((I$11+13)),MONTH((I$11+13)),MIN($D18,DAY(EOMONTH((I$11+13),0))))<=(I$11+13),IF($E18="Monthly",TRUE,IF($E18="Quarterly",MOD(MONTH((I$11+13))-N($F18),3)=0,MONTH((I$11+13))=N($F18))))),$C18,"")))) -> 0 | J18: =IF(OR($B18="",N($C18)=0),"",IF($E18="Every paycheck",$C18,IF(N($D18)=0,"",IF(OR(AND(DATE(YEAR(J$11),MONTH(J$11),MIN($D18,DAY(EOMONTH(J$11,0))))>=J$11,DATE(YEAR(J$11),MONTH(J$11),MIN($D18,DAY(EOMONTH(J$11,0))))<=(J$11+13),IF($E18="Monthly",TRUE,IF($E18="Quarterly",MOD(MONTH(J$11)-N($F18),3)=0,MONTH(J$11)=N($F18)))),AND(DATE(YEAR((J$11+13)),MONTH((J$11+13)),MIN($D18,DAY(EOMONTH((J$11+13),0))))>=J$11,DATE(YEAR((J$11+13)),MONTH((J$11+13)),MIN($D18,DAY(EOMONTH((J$11+13),0))))<=(J$11+13),IF($E18="Monthly",TRUE,IF($E18="Quarterly",MOD(MONTH((J$11+13))-N($F18),3)=0,MONTH((J$11+13))=N($F18))))),$C18,"")))) -> 0 | K18: =IF(OR($B18="",N($C18)=0),"",IF($E18="Every paycheck",$C18,IF(N($D18)=0,"",IF(OR(AND(DATE(YEAR(K$11),MONTH(K$11),MIN($D18,DAY(EOMONTH(K$11,0))))>=K$11,DATE(YEAR(K$11),MONTH(K$11),MIN($D18,DAY(EOMONTH(K$11,0))))<=(K$11+13),IF($E18="Monthly",TRUE,IF($E18="Quarterly",MOD(MONTH(K$11)-N($F18),3)=0,MONTH(K$11)=N($F18)))),AND(DATE(YEAR((K$11+13)),MONTH((K$11+13)),MIN($D18,DAY(EOMONTH((K$11+13),0))))>=K$11,DATE(YEAR((K$11+13)),MONTH((K$11+13)),MIN($D18,DAY(EOMONTH((K$11+13),0))))<=(K$11+13),IF($E18="Monthly",TRUE,IF($E18="Quarterly",MOD(MONTH((K$11+13))-N($F18),3)=0,MONTH((K$11+13))=N($F18))))),$C18,"")))) -> 0 | L18: =IF(OR($B18="",N($C18)=0),"",IF($E18="Every paycheck",$C18,IF(N($D18)=0,"",IF(OR(AND(DATE(YEAR(L$11),MONTH(L$11),MIN($D18,DAY(EOMONTH(L$11,0))))>=L$11,DATE(YEAR(L$11),MONTH(L$11),MIN($D18,DAY(EOMONTH(L$11,0))))<=(L$11+13),IF($E18="Monthly",TRUE,IF($E18="Quarterly",MOD(MONTH(L$11)-N($F18),3)=0,MONTH(L$11)=N($F18)))),AND(DATE(YEAR((L$11+13)),MONTH((L$11+13)),MIN($D18,DAY(EOMONTH((L$11+13),0))))>=L$11,DATE(YEAR((L$11+13)),MONTH((L$11+13)),MIN($D18,DAY(EOMONTH((L$11+13),0))))<=(L$11+13),IF($E18="Monthly",TRUE,IF($E18="Quarterly",MOD(MONTH((L$11+13))-N($F18),3)=0,MONTH((L$11+13))=N($F18))))),$C18,"")))) -> 0 | M18: =IF(OR($B18="",N($C18)=0),"",IF($E18="Every paycheck",$C18,IF(N($D18)=0,"",IF(OR(AND(DATE(YEAR(M$11),MONTH(M$11),MIN($D18,DAY(EOMONTH(M$11,0))))>=M$11,DATE(YEAR(M$11),MONTH(M$11),MIN($D18,DAY(EOMONTH(M$11,0))))<=(M$11+13),IF($E18="Monthly",TRUE,IF($E18="Quarterly",MOD(MONTH(M$11)-N($F18),3)=0,MONTH(M$11)=N($F18)))),AND(DATE(YEAR((M$11+13)),MONTH((M$11+13)),MIN($D18,DAY(EOMONTH((M$11+13),0))))>=M$11,DATE(YEAR((M$11+13)),MONTH((M$11+13)),MIN($D18,DAY(EOMONTH((M$11+13),0))))<=(M$11+13),IF($E18="Monthly",TRUE,IF($E18="Quarterly",MOD(MONTH((M$11+13))-N($F18),3)=0,MONTH((M$11+13))=N($F18))))),$C18,"")))) -> 0 | N18: =IF(OR($B18="",N($C18)=0),"",IF($E18="Every paycheck",$C18,IF(N($D18)=0,"",IF(OR(AND(DATE(YEAR(N$11),MONTH(N$11),MIN($D18,DAY(EOMONTH(N$11,0))))>=N$11,DATE(YEAR(N$11),MONTH(N$11),MIN($D18,DAY(EOMONTH(N$11,0))))<=(N$11+13),IF($E18="Monthly",TRUE,IF($E18="Quarterly",MOD(MONTH(N$11)-N($F18),3)=0,MONTH(N$11)=N($F18)))),AND(DATE(YEAR((N$11+13)),MONTH((N$11+13)),MIN($D18,DAY(EOMONTH((N$11+13),0))))>=N$11,DATE(YEAR((N$11+13)),MONTH((N$11+13)),MIN($D18,DAY(EOMONTH((N$11+13),0))))<=(N$11+13),IF($E18="Monthly",TRUE,IF($E18="Quarterly",MOD(MONTH((N$11+13))-N($F18),3)=0,MONTH((N$11+13))=N($F18))))),$C18,"")))) -> 0 | O18: =IF(OR($B18="",N($C18)=0),"",IF($E18="Every paycheck",$C18,IF(N($D18)=0,"",IF(OR(AND(DATE(YEAR(O$11),MONTH(O$11),MIN($D18,DAY(EOMONTH(O$11,0))))>=O$11,DATE(YEAR(O$11),MONTH(O$11),MIN($D18,DAY(EOMONTH(O$11,0))))<=(O$11+13),IF($E18="Monthly",TRUE,IF($E18="Quarterly",MOD(MONTH(O$11)-N($F18),3)=0,MONTH(O$11)=N($F18)))),AND(DATE(YEAR((O$11+13)),MONTH((O$11+13)),MIN($D18,DAY(EOMONTH((O$11+13),0))))>=O$11,DATE(YEAR((O$11+13)),MONTH((O$11+13)),MIN($D18,DAY(EOMONTH((O$11+13),0))))<=(O$11+13),IF($E18="Monthly",TRUE,IF($E18="Quarterly",MOD(MONTH((O$11+13))-N($F18),3)=0,MONTH((O$11+13))=N($F18))))),$C18,"")))) -> 0 | P18: =IF(OR($B18="",N($C18)=0),"",IF($E18="Every paycheck",$C18,IF(N($D18)=0,"",IF(OR(AND(DATE(YEAR(P$11),MONTH(P$11),MIN($D18,DAY(EOMONTH(P$11,0))))>=P$11,DATE(YEAR(P$11),MONTH(P$11),MIN($D18,DAY(EOMONTH(P$11,0))))<=(P$11+13),IF($E18="Monthly",TRUE,IF($E18="Quarterly",MOD(MONTH(P$11)-N($F18),3)=0,MONTH(P$11)=N($F18)))),AND(DATE(YEAR((P$11+13)),MONTH((P$11+13)),MIN($D18,DAY(EOMONTH((P$11+13),0))))>=P$11,DATE(YEAR((P$11+13)),MONTH((P$11+13)),MIN($D18,DAY(EOMONTH((P$11+13),0))))<=(P$11+13),IF($E18="Monthly",TRUE,IF($E18="Quarterly",MOD(MONTH((P$11+13))-N($F18),3)=0,MONTH((P$11+13))=N($F18))))),$C18,"")))) -> 0 | ... AH18: =IF(OR($B18="",N($C18)=0),"",IF($E18="Every paycheck",$C18,IF(N($D18)=0,"",IF(OR(AND(DATE(YEAR(AH$11),MONTH(AH$11),MIN($D18,DAY(EOMONTH(AH$11,0))))>=AH$11,DATE(YEAR(AH$11),MONTH(AH$11),MIN($D18,DAY(EOMONTH(AH$11,0))))<=(AH$11+13),IF($E18="Monthly",TRUE,IF($E18="Quarterly",MOD(MONTH(AH$11)-N($F18),3)=0,MONTH(AH$11)=N($F18)))),AND(DATE(YEAR((AH$11+13)),MONTH((AH$11+13)),MIN($D18,DAY(EOMONTH((AH$11+13),0))))>=AH$11,DATE(YEAR((AH$11+13)),MONTH((AH$11+13)),MIN($D18,DAY(EOMONTH((AH$11+13),0))))<=(AH$11+13),IF($E18="Monthly",TRUE,IF($E18="Quarterly",MOD(MONTH((AH$11+13))-N($F18),3)=0,MONTH((AH$11+13))=N($F18))))),$C18,"")))) -> 0
B19: Internet | C19: 60 | D19: 18 | E19: Monthly | I19: =IF(OR($B19="",N($C19)=0),"",IF($E19="Every paycheck",$C19,IF(N($D19)=0,"",IF(OR(AND(DATE(YEAR(I$11),MONTH(I$11),MIN($D19,DAY(EOMONTH(I$11,0))))>=I$11,DATE(YEAR(I$11),MONTH(I$11),MIN($D19,DAY(EOMONTH(I$11,0))))<=(I$11+13),IF($E19="Monthly",TRUE,IF($E19="Quarterly",MOD(MONTH(I$11)-N($F19),3)=0,MONTH(I$11)=N($F19)))),AND(DATE(YEAR((I$11+13)),MONTH((I$11+13)),MIN($D19,DAY(EOMONTH((I$11+13),0))))>=I$11,DATE(YEAR((I$11+13)),MONTH((I$11+13)),MIN($D19,DAY(EOMONTH((I$11+13),0))))<=(I$11+13),IF($E19="Monthly",TRUE,IF($E19="Quarterly",MOD(MONTH((I$11+13))-N($F19),3)=0,MONTH((I$11+13))=N($F19))))),$C19,"")))) -> 0 | J19: =IF(OR($B19="",N($C19)=0),"",IF($E19="Every paycheck",$C19,IF(N($D19)=0,"",IF(OR(AND(DATE(YEAR(J$11),MONTH(J$11),MIN($D19,DAY(EOMONTH(J$11,0))))>=J$11,DATE(YEAR(J$11),MONTH(J$11),MIN($D19,DAY(EOMONTH(J$11,0))))<=(J$11+13),IF($E19="Monthly",TRUE,IF($E19="Quarterly",MOD(MONTH(J$11)-N($F19),3)=0,MONTH(J$11)=N($F19)))),AND(DATE(YEAR((J$11+13)),MONTH((J$11+13)),MIN($D19,DAY(EOMONTH((J$11+13),0))))>=J$11,DATE(YEAR((J$11+13)),MONTH((J$11+13)),MIN($D19,DAY(EOMONTH((J$11+13),0))))<=(J$11+13),IF($E19="Monthly",TRUE,IF($E19="Quarterly",MOD(MONTH((J$11+13))-N($F19),3)=0,MONTH((J$11+13))=N($F19))))),$C19,"")))) -> 0 | K19: =IF(OR($B19="",N($C19)=0),"",IF($E19="Every paycheck",$C19,IF(N($D19)=0,"",IF(OR(AND(DATE(YEAR(K$11),MONTH(K$11),MIN($D19,DAY(EOMONTH(K$11,0))))>=K$11,DATE(YEAR(K$11),MONTH(K$11),MIN($D19,DAY(EOMONTH(K$11,0))))<=(K$11+13),IF($E19="Monthly",TRUE,IF($E19="Quarterly",MOD(MONTH(K$11)-N($F19),3)=0,MONTH(K$11)=N($F19)))),AND(DATE(YEAR((K$11+13)),MONTH((K$11+13)),MIN($D19,DAY(EOMONTH((K$11+13),0))))>=K$11,DATE(YEAR((K$11+13)),MONTH((K$11+13)),MIN($D19,DAY(EOMONTH((K$11+13),0))))<=(K$11+13),IF($E19="Monthly",TRUE,IF($E19="Quarterly",MOD(MONTH((K$11+13))-N($F19),3)=0,MONTH((K$11+13))=N($F19))))),$C19,"")))) -> 0 | L19: =IF(OR($B19="",N($C19)=0),"",IF($E19="Every paycheck",$C19,IF(N($D19)=0,"",IF(OR(AND(DATE(YEAR(L$11),MONTH(L$11),MIN($D19,DAY(EOMONTH(L$11,0))))>=L$11,DATE(YEAR(L$11),MONTH(L$11),MIN($D19,DAY(EOMONTH(L$11,0))))<=(L$11+13),IF($E19="Monthly",TRUE,IF($E19="Quarterly",MOD(MONTH(L$11)-N($F19),3)=0,MONTH(L$11)=N($F19)))),AND(DATE(YEAR((L$11+13)),MONTH((L$11+13)),MIN($D19,DAY(EOMONTH((L$11+13),0))))>=L$11,DATE(YEAR((L$11+13)),MONTH((L$11+13)),MIN($D19,DAY(EOMONTH((L$11+13),0))))<=(L$11+13),IF($E19="Monthly",TRUE,IF($E19="Quarterly",MOD(MONTH((L$11+13))-N($F19),3)=0,MONTH((L$11+13))=N($F19))))),$C19,"")))) -> 0 | M19: =IF(OR($B19="",N($C19)=0),"",IF($E19="Every paycheck",$C19,IF(N($D19)=0,"",IF(OR(AND(DATE(YEAR(M$11),MONTH(M$11),MIN($D19,DAY(EOMONTH(M$11,0))))>=M$11,DATE(YEAR(M$11),MONTH(M$11),MIN($D19,DAY(EOMONTH(M$11,0))))<=(M$11+13),IF($E19="Monthly",TRUE,IF($E19="Quarterly",MOD(MONTH(M$11)-N($F19),3)=0,MONTH(M$11)=N($F19)))),AND(DATE(YEAR((M$11+13)),MONTH((M$11+13)),MIN($D19,DAY(EOMONTH((M$11+13),0))))>=M$11,DATE(YEAR((M$11+13)),MONTH((M$11+13)),MIN($D19,DAY(EOMONTH((M$11+13),0))))<=(M$11+13),IF($E19="Monthly",TRUE,IF($E19="Quarterly",MOD(MONTH((M$11+13))-N($F19),3)=0,MONTH((M$11+13))=N($F19))))),$C19,"")))) -> 0 | N19: =IF(OR($B19="",N($C19)=0),"",IF($E19="Every paycheck",$C19,IF(N($D19)=0,"",IF(OR(AND(DATE(YEAR(N$11),MONTH(N$11),MIN($D19,DAY(EOMONTH(N$11,0))))>=N$11,DATE(YEAR(N$11),MONTH(N$11),MIN($D19,DAY(EOMONTH(N$11,0))))<=(N$11+13),IF($E19="Monthly",TRUE,IF($E19="Quarterly",MOD(MONTH(N$11)-N($F19),3)=0,MONTH(N$11)=N($F19)))),AND(DATE(YEAR((N$11+13)),MONTH((N$11+13)),MIN($D19,DAY(EOMONTH((N$11+13),0))))>=N$11,DATE(YEAR((N$11+13)),MONTH((N$11+13)),MIN($D19,DAY(EOMONTH((N$11+13),0))))<=(N$11+13),IF($E19="Monthly",TRUE,IF($E19="Quarterly",MOD(MONTH((N$11+13))-N($F19),3)=0,MONTH((N$11+13))=N($F19))))),$C19,"")))) -> 0 | O19: =IF(OR($B19="",N($C19)=0),"",IF($E19="Every paycheck",$C19,IF(N($D19)=0,"",IF(OR(AND(DATE(YEAR(O$11),MONTH(O$11),MIN($D19,DAY(EOMONTH(O$11,0))))>=O$11,DATE(YEAR(O$11),MONTH(O$11),MIN($D19,DAY(EOMONTH(O$11,0))))<=(O$11+13),IF($E19="Monthly",TRUE,IF($E19="Quarterly",MOD(MONTH(O$11)-N($F19),3)=0,MONTH(O$11)=N($F19)))),AND(DATE(YEAR((O$11+13)),MONTH((O$11+13)),MIN($D19,DAY(EOMONTH((O$11+13),0))))>=O$11,DATE(YEAR((O$11+13)),MONTH((O$11+13)),MIN($D19,DAY(EOMONTH((O$11+13),0))))<=(O$11+13),IF($E19="Monthly",TRUE,IF($E19="Quarterly",MOD(MONTH((O$11+13))-N($F19),3)=0,MONTH((O$11+13))=N($F19))))),$C19,"")))) -> 0 | P19: =IF(OR($B19="",N($C19)=0),"",IF($E19="Every paycheck",$C19,IF(N($D19)=0,"",IF(OR(AND(DATE(YEAR(P$11),MONTH(P$11),MIN($D19,DAY(EOMONTH(P$11,0))))>=P$11,DATE(YEAR(P$11),MONTH(P$11),MIN($D19,DAY(EOMONTH(P$11,0))))<=(P$11+13),IF($E19="Monthly",TRUE,IF($E19="Quarterly",MOD(MONTH(P$11)-N($F19),3)=0,MONTH(P$11)=N($F19)))),AND(DATE(YEAR((P$11+13)),MONTH((P$11+13)),MIN($D19,DAY(EOMONTH((P$11+13),0))))>=P$11,DATE(YEAR((P$11+13)),MONTH((P$11+13)),MIN($D19,DAY(EOMONTH((P$11+13),0))))<=(P$11+13),IF($E19="Monthly",TRUE,IF($E19="Quarterly",MOD(MONTH((P$11+13))-N($F19),3)=0,MONTH((P$11+13))=N($F19))))),$C19,"")))) -> 0 | ... AH19: =IF(OR($B19="",N($C19)=0),"",IF($E19="Every paycheck",$C19,IF(N($D19)=0,"",IF(OR(AND(DATE(YEAR(AH$11),MONTH(AH$11),MIN($D19,DAY(EOMONTH(AH$11,0))))>=AH$11,DATE(YEAR(AH$11),MONTH(AH$11),MIN($D19,DAY(EOMONTH(AH$11,0))))<=(AH$11+13),IF($E19="Monthly",TRUE,IF($E19="Quarterly",MOD(MONTH(AH$11)-N($F19),3)=0,MONTH(AH$11)=N($F19)))),AND(DATE(YEAR((AH$11+13)),MONTH((AH$11+13)),MIN($D19,DAY(EOMONTH((AH$11+13),0))))>=AH$11,DATE(YEAR((AH$11+13)),MONTH((AH$11+13)),MIN($D19,DAY(EOMONTH((AH$11+13),0))))<=(AH$11+13),IF($E19="Monthly",TRUE,IF($E19="Quarterly",MOD(MONTH((AH$11+13))-N($F19),3)=0,MONTH((AH$11+13))=N($F19))))),$C19,"")))) -> 0
B20: Electric | C20: 95 | D20: 22 | E20: Monthly | I20: =IF(OR($B20="",N($C20)=0),"",IF($E20="Every paycheck",$C20,IF(N($D20)=0,"",IF(OR(AND(DATE(YEAR(I$11),MONTH(I$11),MIN($D20,DAY(EOMONTH(I$11,0))))>=I$11,DATE(YEAR(I$11),MONTH(I$11),MIN($D20,DAY(EOMONTH(I$11,0))))<=(I$11+13),IF($E20="Monthly",TRUE,IF($E20="Quarterly",MOD(MONTH(I$11)-N($F20),3)=0,MONTH(I$11)=N($F20)))),AND(DATE(YEAR((I$11+13)),MONTH((I$11+13)),MIN($D20,DAY(EOMONTH((I$11+13),0))))>=I$11,DATE(YEAR((I$11+13)),MONTH((I$11+13)),MIN($D20,DAY(EOMONTH((I$11+13),0))))<=(I$11+13),IF($E20="Monthly",TRUE,IF($E20="Quarterly",MOD(MONTH((I$11+13))-N($F20),3)=0,MONTH((I$11+13))=N($F20))))),$C20,"")))) -> 0 | J20: =IF(OR($B20="",N($C20)=0),"",IF($E20="Every paycheck",$C20,IF(N($D20)=0,"",IF(OR(AND(DATE(YEAR(J$11),MONTH(J$11),MIN($D20,DAY(EOMONTH(J$11,0))))>=J$11,DATE(YEAR(J$11),MONTH(J$11),MIN($D20,DAY(EOMONTH(J$11,0))))<=(J$11+13),IF($E20="Monthly",TRUE,IF($E20="Quarterly",MOD(MONTH(J$11)-N($F20),3)=0,MONTH(J$11)=N($F20)))),AND(DATE(YEAR((J$11+13)),MONTH((J$11+13)),MIN($D20,DAY(EOMONTH((J$11+13),0))))>=J$11,DATE(YEAR((J$11+13)),MONTH((J$11+13)),MIN($D20,DAY(EOMONTH((J$11+13),0))))<=(J$11+13),IF($E20="Monthly",TRUE,IF($E20="Quarterly",MOD(MONTH((J$11+13))-N($F20),3)=0,MONTH((J$11+13))=N($F20))))),$C20,"")))) -> 0 | K20: =IF(OR($B20="",N($C20)=0),"",IF($E20="Every paycheck",$C20,IF(N($D20)=0,"",IF(OR(AND(DATE(YEAR(K$11),MONTH(K$11),MIN($D20,DAY(EOMONTH(K$11,0))))>=K$11,DATE(YEAR(K$11),MONTH(K$11),MIN($D20,DAY(EOMONTH(K$11,0))))<=(K$11+13),IF($E20="Monthly",TRUE,IF($E20="Quarterly",MOD(MONTH(K$11)-N($F20),3)=0,MONTH(K$11)=N($F20)))),AND(DATE(YEAR((K$11+13)),MONTH((K$11+13)),MIN($D20,DAY(EOMONTH((K$11+13),0))))>=K$11,DATE(YEAR((K$11+13)),MONTH((K$11+13)),MIN($D20,DAY(EOMONTH((K$11+13),0))))<=(K$11+13),IF($E20="Monthly",TRUE,IF($E20="Quarterly",MOD(MONTH((K$11+13))-N($F20),3)=0,MONTH((K$11+13))=N($F20))))),$C20,"")))) -> 0 | L20: =IF(OR($B20="",N($C20)=0),"",IF($E20="Every paycheck",$C20,IF(N($D20)=0,"",IF(OR(AND(DATE(YEAR(L$11),MONTH(L$11),MIN($D20,DAY(EOMONTH(L$11,0))))>=L$11,DATE(YEAR(L$11),MONTH(L$11),MIN($D20,DAY(EOMONTH(L$11,0))))<=(L$11+13),IF($E20="Monthly",TRUE,IF($E20="Quarterly",MOD(MONTH(L$11)-N($F20),3)=0,MONTH(L$11)=N($F20)))),AND(DATE(YEAR((L$11+13)),MONTH((L$11+13)),MIN($D20,DAY(EOMONTH((L$11+13),0))))>=L$11,DATE(YEAR((L$11+13)),MONTH((L$11+13)),MIN($D20,DAY(EOMONTH((L$11+13),0))))<=(L$11+13),IF($E20="Monthly",TRUE,IF($E20="Quarterly",MOD(MONTH((L$11+13))-N($F20),3)=0,MONTH((L$11+13))=N($F20))))),$C20,"")))) -> 0 | M20: =IF(OR($B20="",N($C20)=0),"",IF($E20="Every paycheck",$C20,IF(N($D20)=0,"",IF(OR(AND(DATE(YEAR(M$11),MONTH(M$11),MIN($D20,DAY(EOMONTH(M$11,0))))>=M$11,DATE(YEAR(M$11),MONTH(M$11),MIN($D20,DAY(EOMONTH(M$11,0))))<=(M$11+13),IF($E20="Monthly",TRUE,IF($E20="Quarterly",MOD(MONTH(M$11)-N($F20),3)=0,MONTH(M$11)=N($F20)))),AND(DATE(YEAR((M$11+13)),MONTH((M$11+13)),MIN($D20,DAY(EOMONTH((M$11+13),0))))>=M$11,DATE(YEAR((M$11+13)),MONTH((M$11+13)),MIN($D20,DAY(EOMONTH((M$11+13),0))))<=(M$11+13),IF($E20="Monthly",TRUE,IF($E20="Quarterly",MOD(MONTH((M$11+13))-N($F20),3)=0,MONTH((M$11+13))=N($F20))))),$C20,"")))) -> 0 | N20: =IF(OR($B20="",N($C20)=0),"",IF($E20="Every paycheck",$C20,IF(N($D20)=0,"",IF(OR(AND(DATE(YEAR(N$11),MONTH(N$11),MIN($D20,DAY(EOMONTH(N$11,0))))>=N$11,DATE(YEAR(N$11),MONTH(N$11),MIN($D20,DAY(EOMONTH(N$11,0))))<=(N$11+13),IF($E20="Monthly",TRUE,IF($E20="Quarterly",MOD(MONTH(N$11)-N($F20),3)=0,MONTH(N$11)=N($F20)))),AND(DATE(YEAR((N$11+13)),MONTH((N$11+13)),MIN($D20,DAY(EOMONTH((N$11+13),0))))>=N$11,DATE(YEAR((N$11+13)),MONTH((N$11+13)),MIN($D20,DAY(EOMONTH((N$11+13),0))))<=(N$11+13),IF($E20="Monthly",TRUE,IF($E20="Quarterly",MOD(MONTH((N$11+13))-N($F20),3)=0,MONTH((N$11+13))=N($F20))))),$C20,"")))) -> 0 | O20: =IF(OR($B20="",N($C20)=0),"",IF($E20="Every paycheck",$C20,IF(N($D20)=0,"",IF(OR(AND(DATE(YEAR(O$11),MONTH(O$11),MIN($D20,DAY(EOMONTH(O$11,0))))>=O$11,DATE(YEAR(O$11),MONTH(O$11),MIN($D20,DAY(EOMONTH(O$11,0))))<=(O$11+13),IF($E20="Monthly",TRUE,IF($E20="Quarterly",MOD(MONTH(O$11)-N($F20),3)=0,MONTH(O$11)=N($F20)))),AND(DATE(YEAR((O$11+13)),MONTH((O$11+13)),MIN($D20,DAY(EOMONTH((O$11+13),0))))>=O$11,DATE(YEAR((O$11+13)),MONTH((O$11+13)),MIN($D20,DAY(EOMONTH((O$11+13),0))))<=(O$11+13),IF($E20="Monthly",TRUE,IF($E20="Quarterly",MOD(MONTH((O$11+13))-N($F20),3)=0,MONTH((O$11+13))=N($F20))))),$C20,"")))) -> 0 | P20: =IF(OR($B20="",N($C20)=0),"",IF($E20="Every paycheck",$C20,IF(N($D20)=0,"",IF(OR(AND(DATE(YEAR(P$11),MONTH(P$11),MIN($D20,DAY(EOMONTH(P$11,0))))>=P$11,DATE(YEAR(P$11),MONTH(P$11),MIN($D20,DAY(EOMONTH(P$11,0))))<=(P$11+13),IF($E20="Monthly",TRUE,IF($E20="Quarterly",MOD(MONTH(P$11)-N($F20),3)=0,MONTH(P$11)=N($F20)))),AND(DATE(YEAR((P$11+13)),MONTH((P$11+13)),MIN($D20,DAY(EOMONTH((P$11+13),0))))>=P$11,DATE(YEAR((P$11+13)),MONTH((P$11+13)),MIN($D20,DAY(EOMONTH((P$11+13),0))))<=(P$11+13),IF($E20="Monthly",TRUE,IF($E20="Quarterly",MOD(MONTH((P$11+13))-N($F20),3)=0,MONTH((P$11+13))=N($F20))))),$C20,"")))) -> 0 | ... AH20: =IF(OR($B20="",N($C20)=0),"",IF($E20="Every paycheck",$C20,IF(N($D20)=0,"",IF(OR(AND(DATE(YEAR(AH$11),MONTH(AH$11),MIN($D20,DAY(EOMONTH(AH$11,0))))>=AH$11,DATE(YEAR(AH$11),MONTH(AH$11),MIN($D20,DAY(EOMONTH(AH$11,0))))<=(AH$11+13),IF($E20="Monthly",TRUE,IF($E20="Quarterly",MOD(MONTH(AH$11)-N($F20),3)=0,MONTH(AH$11)=N($F20)))),AND(DATE(YEAR((AH$11+13)),MONTH((AH$11+13)),MIN($D20,DAY(EOMONTH((AH$11+13),0))))>=AH$11,DATE(YEAR((AH$11+13)),MONTH((AH$11+13)),MIN($D20,DAY(EOMONTH((AH$11+13),0))))<=(AH$11+13),IF($E20="Monthly",TRUE,IF($E20="Quarterly",MOD(MONTH((AH$11+13))-N($F20),3)=0,MONTH((AH$11+13))=N($F20))))),$C20,"")))) -> 0
B21: Credit card | C21: 150 | D21: 25 | E21: Monthly | I21: =IF(OR($B21="",N($C21)=0),"",IF($E21="Every paycheck",$C21,IF(N($D21)=0,"",IF(OR(AND(DATE(YEAR(I$11),MONTH(I$11),MIN($D21,DAY(EOMONTH(I$11,0))))>=I$11,DATE(YEAR(I$11),MONTH(I$11),MIN($D21,DAY(EOMONTH(I$11,0))))<=(I$11+13),IF($E21="Monthly",TRUE,IF($E21="Quarterly",MOD(MONTH(I$11)-N($F21),3)=0,MONTH(I$11)=N($F21)))),AND(DATE(YEAR((I$11+13)),MONTH((I$11+13)),MIN($D21,DAY(EOMONTH((I$11+13),0))))>=I$11,DATE(YEAR((I$11+13)),MONTH((I$11+13)),MIN($D21,DAY(EOMONTH((I$11+13),0))))<=(I$11+13),IF($E21="Monthly",TRUE,IF($E21="Quarterly",MOD(MONTH((I$11+13))-N($F21),3)=0,MONTH((I$11+13))=N($F21))))),$C21,"")))) -> 0 | J21: =IF(OR($B21="",N($C21)=0),"",IF($E21="Every paycheck",$C21,IF(N($D21)=0,"",IF(OR(AND(DATE(YEAR(J$11),MONTH(J$11),MIN($D21,DAY(EOMONTH(J$11,0))))>=J$11,DATE(YEAR(J$11),MONTH(J$11),MIN($D21,DAY(EOMONTH(J$11,0))))<=(J$11+13),IF($E21="Monthly",TRUE,IF($E21="Quarterly",MOD(MONTH(J$11)-N($F21),3)=0,MONTH(J$11)=N($F21)))),AND(DATE(YEAR((J$11+13)),MONTH((J$11+13)),MIN($D21,DAY(EOMONTH((J$11+13),0))))>=J$11,DATE(YEAR((J$11+13)),MONTH((J$11+13)),MIN($D21,DAY(EOMONTH((J$11+13),0))))<=(J$11+13),IF($E21="Monthly",TRUE,IF($E21="Quarterly",MOD(MONTH((J$11+13))-N($F21),3)=0,MONTH((J$11+13))=N($F21))))),$C21,"")))) -> 0 | K21: =IF(OR($B21="",N($C21)=0),"",IF($E21="Every paycheck",$C21,IF(N($D21)=0,"",IF(OR(AND(DATE(YEAR(K$11),MONTH(K$11),MIN($D21,DAY(EOMONTH(K$11,0))))>=K$11,DATE(YEAR(K$11),MONTH(K$11),MIN($D21,DAY(EOMONTH(K$11,0))))<=(K$11+13),IF($E21="Monthly",TRUE,IF($E21="Quarterly",MOD(MONTH(K$11)-N($F21),3)=0,MONTH(K$11)=N($F21)))),AND(DATE(YEAR((K$11+13)),MONTH((K$11+13)),MIN($D21,DAY(EOMONTH((K$11+13),0))))>=K$11,DATE(YEAR((K$11+13)),MONTH((K$11+13)),MIN($D21,DAY(EOMONTH((K$11+13),0))))<=(K$11+13),IF($E21="Monthly",TRUE,IF($E21="Quarterly",MOD(MONTH((K$11+13))-N($F21),3)=0,MONTH((K$11+13))=N($F21))))),$C21,"")))) -> 0 | L21: =IF(OR($B21="",N($C21)=0),"",IF($E21="Every paycheck",$C21,IF(N($D21)=0,"",IF(OR(AND(DATE(YEAR(L$11),MONTH(L$11),MIN($D21,DAY(EOMONTH(L$11,0))))>=L$11,DATE(YEAR(L$11),MONTH(L$11),MIN($D21,DAY(EOMONTH(L$11,0))))<=(L$11+13),IF($E21="Monthly",TRUE,IF($E21="Quarterly",MOD(MONTH(L$11)-N($F21),3)=0,MONTH(L$11)=N($F21)))),AND(DATE(YEAR((L$11+13)),MONTH((L$11+13)),MIN($D21,DAY(EOMONTH((L$11+13),0))))>=L$11,DATE(YEAR((L$11+13)),MONTH((L$11+13)),MIN($D21,DAY(EOMONTH((L$11+13),0))))<=(L$11+13),IF($E21="Monthly",TRUE,IF($E21="Quarterly",MOD(MONTH((L$11+13))-N($F21),3)=0,MONTH((L$11+13))=N($F21))))),$C21,"")))) -> 0 | M21: =IF(OR($B21="",N($C21)=0),"",IF($E21="Every paycheck",$C21,IF(N($D21)=0,"",IF(OR(AND(DATE(YEAR(M$11),MONTH(M$11),MIN($D21,DAY(EOMONTH(M$11,0))))>=M$11,DATE(YEAR(M$11),MONTH(M$11),MIN($D21,DAY(EOMONTH(M$11,0))))<=(M$11+13),IF($E21="Monthly",TRUE,IF($E21="Quarterly",MOD(MONTH(M$11)-N($F21),3)=0,MONTH(M$11)=N($F21)))),AND(DATE(YEAR((M$11+13)),MONTH((M$11+13)),MIN($D21,DAY(EOMONTH((M$11+13),0))))>=M$11,DATE(YEAR((M$11+13)),MONTH((M$11+13)),MIN($D21,DAY(EOMONTH((M$11+13),0))))<=(M$11+13),IF($E21="Monthly",TRUE,IF($E21="Quarterly",MOD(MONTH((M$11+13))-N($F21),3)=0,MONTH((M$11+13))=N($F21))))),$C21,"")))) -> 0 | N21: =IF(OR($B21="",N($C21)=0),"",IF($E21="Every paycheck",$C21,IF(N($D21)=0,"",IF(OR(AND(DATE(YEAR(N$11),MONTH(N$11),MIN($D21,DAY(EOMONTH(N$11,0))))>=N$11,DATE(YEAR(N$11),MONTH(N$11),MIN($D21,DAY(EOMONTH(N$11,0))))<=(N$11+13),IF($E21="Monthly",TRUE,IF($E21="Quarterly",MOD(MONTH(N$11)-N($F21),3)=0,MONTH(N$11)=N($F21)))),AND(DATE(YEAR((N$11+13)),MONTH((N$11+13)),MIN($D21,DAY(EOMONTH((N$11+13),0))))>=N$11,DATE(YEAR((N$11+13)),MONTH((N$11+13)),MIN($D21,DAY(EOMONTH((N$11+13),0))))<=(N$11+13),IF($E21="Monthly",TRUE,IF($E21="Quarterly",MOD(MONTH((N$11+13))-N($F21),3)=0,MONTH((N$11+13))=N($F21))))),$C21,"")))) -> 0 | O21: =IF(OR($B21="",N($C21)=0),"",IF($E21="Every paycheck",$C21,IF(N($D21)=0,"",IF(OR(AND(DATE(YEAR(O$11),MONTH(O$11),MIN($D21,DAY(EOMONTH(O$11,0))))>=O$11,DATE(YEAR(O$11),MONTH(O$11),MIN($D21,DAY(EOMONTH(O$11,0))))<=(O$11+13),IF($E21="Monthly",TRUE,IF($E21="Quarterly",MOD(MONTH(O$11)-N($F21),3)=0,MONTH(O$11)=N($F21)))),AND(DATE(YEAR((O$11+13)),MONTH((O$11+13)),MIN($D21,DAY(EOMONTH((O$11+13),0))))>=O$11,DATE(YEAR((O$11+13)),MONTH((O$11+13)),MIN($D21,DAY(EOMONTH((O$11+13),0))))<=(O$11+13),IF($E21="Monthly",TRUE,IF($E21="Quarterly",MOD(MONTH((O$11+13))-N($F21),3)=0,MONTH((O$11+13))=N($F21))))),$C21,"")))) -> 0 | P21: =IF(OR($B21="",N($C21)=0),"",IF($E21="Every paycheck",$C21,IF(N($D21)=0,"",IF(OR(AND(DATE(YEAR(P$11),MONTH(P$11),MIN($D21,DAY(EOMONTH(P$11,0))))>=P$11,DATE(YEAR(P$11),MONTH(P$11),MIN($D21,DAY(EOMONTH(P$11,0))))<=(P$11+13),IF($E21="Monthly",TRUE,IF($E21="Quarterly",MOD(MONTH(P$11)-N($F21),3)=0,MONTH(P$11)=N($F21)))),AND(DATE(YEAR((P$11+13)),MONTH((P$11+13)),MIN($D21,DAY(EOMONTH((P$11+13),0))))>=P$11,DATE(YEAR((P$11+13)),MONTH((P$11+13)),MIN($D21,DAY(EOMONTH((P$11+13),0))))<=(P$11+13),IF($E21="Monthly",TRUE,IF($E21="Quarterly",MOD(MONTH((P$11+13))-N($F21),3)=0,MONTH((P$11+13))=N($F21))))),$C21,"")))) -> 0 | ... AH21: =IF(OR($B21="",N($C21)=0),"",IF($E21="Every paycheck",$C21,IF(N($D21)=0,"",IF(OR(AND(DATE(YEAR(AH$11),MONTH(AH$11),MIN($D21,DAY(EOMONTH(AH$11,0))))>=AH$11,DATE(YEAR(AH$11),MONTH(AH$11),MIN($D21,DAY(EOMONTH(AH$11,0))))<=(AH$11+13),IF($E21="Monthly",TRUE,IF($E21="Quarterly",MOD(MONTH(AH$11)-N($F21),3)=0,MONTH(AH$11)=N($F21)))),AND(DATE(YEAR((AH$11+13)),MONTH((AH$11+13)),MIN($D21,DAY(EOMONTH((AH$11+13),0))))>=AH$11,DATE(YEAR((AH$11+13)),MONTH((AH$11+13)),MIN($D21,DAY(EOMONTH((AH$11+13),0))))<=(AH$11+13),IF($E21="Monthly",TRUE,IF($E21="Quarterly",MOD(MONTH((AH$11+13))-N($F21),3)=0,MONTH((AH$11+13))=N($F21))))),$C21,"")))) -> 0
B22: Streaming | C22: 18 | D22: 3 | E22: Monthly | I22: =IF(OR($B22="",N($C22)=0),"",IF($E22="Every paycheck",$C22,IF(N($D22)=0,"",IF(OR(AND(DATE(YEAR(I$11),MONTH(I$11),MIN($D22,DAY(EOMONTH(I$11,0))))>=I$11,DATE(YEAR(I$11),MONTH(I$11),MIN($D22,DAY(EOMONTH(I$11,0))))<=(I$11+13),IF($E22="Monthly",TRUE,IF($E22="Quarterly",MOD(MONTH(I$11)-N($F22),3)=0,MONTH(I$11)=N($F22)))),AND(DATE(YEAR((I$11+13)),MONTH((I$11+13)),MIN($D22,DAY(EOMONTH((I$11+13),0))))>=I$11,DATE(YEAR((I$11+13)),MONTH((I$11+13)),MIN($D22,DAY(EOMONTH((I$11+13),0))))<=(I$11+13),IF($E22="Monthly",TRUE,IF($E22="Quarterly",MOD(MONTH((I$11+13))-N($F22),3)=0,MONTH((I$11+13))=N($F22))))),$C22,"")))) -> 0 | J22: =IF(OR($B22="",N($C22)=0),"",IF($E22="Every paycheck",$C22,IF(N($D22)=0,"",IF(OR(AND(DATE(YEAR(J$11),MONTH(J$11),MIN($D22,DAY(EOMONTH(J$11,0))))>=J$11,DATE(YEAR(J$11),MONTH(J$11),MIN($D22,DAY(EOMONTH(J$11,0))))<=(J$11+13),IF($E22="Monthly",TRUE,IF($E22="Quarterly",MOD(MONTH(J$11)-N($F22),3)=0,MONTH(J$11)=N($F22)))),AND(DATE(YEAR((J$11+13)),MONTH((J$11+13)),MIN($D22,DAY(EOMONTH((J$11+13),0))))>=J$11,DATE(YEAR((J$11+13)),MONTH((J$11+13)),MIN($D22,DAY(EOMONTH((J$11+13),0))))<=(J$11+13),IF($E22="Monthly",TRUE,IF($E22="Quarterly",MOD(MONTH((J$11+13))-N($F22),3)=0,MONTH((J$11+13))=N($F22))))),$C22,"")))) -> 0 | K22: =IF(OR($B22="",N($C22)=0),"",IF($E22="Every paycheck",$C22,IF(N($D22)=0,"",IF(OR(AND(DATE(YEAR(K$11),MONTH(K$11),MIN($D22,DAY(EOMONTH(K$11,0))))>=K$11,DATE(YEAR(K$11),MONTH(K$11),MIN($D22,DAY(EOMONTH(K$11,0))))<=(K$11+13),IF($E22="Monthly",TRUE,IF($E22="Quarterly",MOD(MONTH(K$11)-N($F22),3)=0,MONTH(K$11)=N($F22)))),AND(DATE(YEAR((K$11+13)),MONTH((K$11+13)),MIN($D22,DAY(EOMONTH((K$11+13),0))))>=K$11,DATE(YEAR((K$11+13)),MONTH((K$11+13)),MIN($D22,DAY(EOMONTH((K$11+13),0))))<=(K$11+13),IF($E22="Monthly",TRUE,IF($E22="Quarterly",MOD(MONTH((K$11+13))-N($F22),3)=0,MONTH((K$11+13))=N($F22))))),$C22,"")))) -> 0 | L22: =IF(OR($B22="",N($C22)=0),"",IF($E22="Every paycheck",$C22,IF(N($D22)=0,"",IF(OR(AND(DATE(YEAR(L$11),MONTH(L$11),MIN($D22,DAY(EOMONTH(L$11,0))))>=L$11,DATE(YEAR(L$11),MONTH(L$11),MIN($D22,DAY(EOMONTH(L$11,0))))<=(L$11+13),IF($E22="Monthly",TRUE,IF($E22="Quarterly",MOD(MONTH(L$11)-N($F22),3)=0,MONTH(L$11)=N($F22)))),AND(DATE(YEAR((L$11+13)),MONTH((L$11+13)),MIN($D22,DAY(EOMONTH((L$11+13),0))))>=L$11,DATE(YEAR((L$11+13)),MONTH((L$11+13)),MIN($D22,DAY(EOMONTH((L$11+13),0))))<=(L$11+13),IF($E22="Monthly",TRUE,IF($E22="Quarterly",MOD(MONTH((L$11+13))-N($F22),3)=0,MONTH((L$11+13))=N($F22))))),$C22,"")))) -> 0 | M22: =IF(OR($B22="",N($C22)=0),"",IF($E22="Every paycheck",$C22,IF(N($D22)=0,"",IF(OR(AND(DATE(YEAR(M$11),MONTH(M$11),MIN($D22,DAY(EOMONTH(M$11,0))))>=M$11,DATE(YEAR(M$11),MONTH(M$11),MIN($D22,DAY(EOMONTH(M$11,0))))<=(M$11+13),IF($E22="Monthly",TRUE,IF($E22="Quarterly",MOD(MONTH(M$11)-N($F22),3)=0,MONTH(M$11)=N($F22)))),AND(DATE(YEAR((M$11+13)),MONTH((M$11+13)),MIN($D22,DAY(EOMONTH((M$11+13),0))))>=M$11,DATE(YEAR((M$11+13)),MONTH((M$11+13)),MIN($D22,DAY(EOMONTH((M$11+13),0))))<=(M$11+13),IF($E22="Monthly",TRUE,IF($E22="Quarterly",MOD(MONTH((M$11+13))-N($F22),3)=0,MONTH((M$11+13))=N($F22))))),$C22,"")))) -> 0 | N22: =IF(OR($B22="",N($C22)=0),"",IF($E22="Every paycheck",$C22,IF(N($D22)=0,"",IF(OR(AND(DATE(YEAR(N$11),MONTH(N$11),MIN($D22,DAY(EOMONTH(N$11,0))))>=N$11,DATE(YEAR(N$11),MONTH(N$11),MIN($D22,DAY(EOMONTH(N$11,0))))<=(N$11+13),IF($E22="Monthly",TRUE,IF($E22="Quarterly",MOD(MONTH(N$11)-N($F22),3)=0,MONTH(N$11)=N($F22)))),AND(DATE(YEAR((N$11+13)),MONTH((N$11+13)),MIN($D22,DAY(EOMONTH((N$11+13),0))))>=N$11,DATE(YEAR((N$11+13)),MONTH((N$11+13)),MIN($D22,DAY(EOMONTH((N$11+13),0))))<=(N$11+13),IF($E22="Monthly",TRUE,IF($E22="Quarterly",MOD(MONTH((N$11+13))-N($F22),3)=0,MONTH((N$11+13))=N($F22))))),$C22,"")))) -> 0 | O22: =IF(OR($B22="",N($C22)=0),"",IF($E22="Every paycheck",$C22,IF(N($D22)=0,"",IF(OR(AND(DATE(YEAR(O$11),MONTH(O$11),MIN($D22,DAY(EOMONTH(O$11,0))))>=O$11,DATE(YEAR(O$11),MONTH(O$11),MIN($D22,DAY(EOMONTH(O$11,0))))<=(O$11+13),IF($E22="Monthly",TRUE,IF($E22="Quarterly",MOD(MONTH(O$11)-N($F22),3)=0,MONTH(O$11)=N($F22)))),AND(DATE(YEAR((O$11+13)),MONTH((O$11+13)),MIN($D22,DAY(EOMONTH((O$11+13),0))))>=O$11,DATE(YEAR((O$11+13)),MONTH((O$11+13)),MIN($D22,DAY(EOMONTH((O$11+13),0))))<=(O$11+13),IF($E22="Monthly",TRUE,IF($E22="Quarterly",MOD(MONTH((O$11+13))-N($F22),3)=0,MONTH((O$11+13))=N($F22))))),$C22,"")))) -> 0 | P22: =IF(OR($B22="",N($C22)=0),"",IF($E22="Every paycheck",$C22,IF(N($D22)=0,"",IF(OR(AND(DATE(YEAR(P$11),MONTH(P$11),MIN($D22,DAY(EOMONTH(P$11,0))))>=P$11,DATE(YEAR(P$11),MONTH(P$11),MIN($D22,DAY(EOMONTH(P$11,0))))<=(P$11+13),IF($E22="Monthly",TRUE,IF($E22="Quarterly",MOD(MONTH(P$11)-N($F22),3)=0,MONTH(P$11)=N($F22)))),AND(DATE(YEAR((P$11+13)),MONTH((P$11+13)),MIN($D22,DAY(EOMONTH((P$11+13),0))))>=P$11,DATE(YEAR((P$11+13)),MONTH((P$11+13)),MIN($D22,DAY(EOMONTH((P$11+13),0))))<=(P$11+13),IF($E22="Monthly",TRUE,IF($E22="Quarterly",MOD(MONTH((P$11+13))-N($F22),3)=0,MONTH((P$11+13))=N($F22))))),$C22,"")))) -> 0 | ... AH22: =IF(OR($B22="",N($C22)=0),"",IF($E22="Every paycheck",$C22,IF(N($D22)=0,"",IF(OR(AND(DATE(YEAR(AH$11),MONTH(AH$11),MIN($D22,DAY(EOMONTH(AH$11,0))))>=AH$11,DATE(YEAR(AH$11),MONTH(AH$11),MIN($D22,DAY(EOMONTH(AH$11,0))))<=(AH$11+13),IF($E22="Monthly",TRUE,IF($E22="Quarterly",MOD(MONTH(AH$11)-N($F22),3)=0,MONTH(AH$11)=N($F22)))),AND(DATE(YEAR((AH$11+13)),MONTH((AH$11+13)),MIN($D22,DAY(EOMONTH((AH$11+13),0))))>=AH$11,DATE(YEAR((AH$11+13)),MONTH((AH$11+13)),MIN($D22,DAY(EOMONTH((AH$11+13),0))))<=(AH$11+13),IF($E22="Monthly",TRUE,IF($E22="Quarterly",MOD(MONTH((AH$11+13))-N($F22),3)=0,MONTH((AH$11+13))=N($F22))))),$C22,"")))) -> 0
