Workbook

Sheet Inventory
B2: Inventory Tracker | E2: Your Business
B3: On-hand stock = starting qty + stock in − stock out (from the Stock Moves tab). Low-stock items flag themselves.
B5: ITEMS (SKUS) | D5: UNITS ON HAND | F5: STOCK VALUE (COST) | I5: REORDER NOW | L5: OUT OF STOCK
B6: =COUNTA($B$10:$B$69) | D6: =SUM($L$10:$L$69) | F6: =SUM($P$10:$P$69) | I6: =COUNTIF($O$10:$O$69,"Reorder") | L6: =COUNTIF($O$10:$O$69,"Out of stock")
B9: SKU | C9: ITEM | D9: CATEGORY | E9: LOCATION | F9: SUPPLIER | G9: UNIT COST | H9: SALE PRICE | I9: START QTY | J9: IN | K9: OUT | L9: ON HAND | M9: REORDER AT | N9: REORDER QTY | O9: STATUS | P9: STOCK VALUE
B10: CN-001 | C10: Soy candle 8 oz — Cedar | D10: Candles | E10: Shelf A1 | F10: WickWorks | G10: 4.1 | H10: 18 | I10: 40 | J10: =IF($B10="","",SUMIFS('Stock Moves'!$F:$F,'Stock Moves'!$C:$C,$B10,'Stock Moves'!$E:$E,"In")) | K10: =IF($B10="","",SUMIFS('Stock Moves'!$F:$F,'Stock Moves'!$C:$C,$B10,'Stock Moves'!$E:$E,"Out")) | L10: =IF($B10="","",N(I10)+N(J10)-N(K10)) | M10: 12 | N10: 24 | O10: =IF($B10="","",IF(L10<=0,"Out of stock",IF(L10<=N(M10),"Reorder","In stock"))) | P10: =IF($B10="","",L10*N(G10))
B11: CN-002 | C11: Soy candle 8 oz — Citrus | D11: Candles | E11: Shelf A1 | F11: WickWorks | G11: 4.1 | H11: 18 | I11: 35 | J11: =IF($B11="","",SUMIFS('Stock Moves'!$F:$F,'Stock Moves'!$C:$C,$B11,'Stock Moves'!$E:$E,"In")) | K11: =IF($B11="","",SUMIFS('Stock Moves'!$F:$F,'Stock Moves'!$C:$C,$B11,'Stock Moves'!$E:$E,"Out")) | L11: =IF($B11="","",N(I11)+N(J11)-N(K11)) | M11: 12 | N11: 24 | O11: =IF($B11="","",IF(L11<=0,"Out of stock",IF(L11<=N(M11),"Reorder","In stock"))) | P11: =IF($B11="","",L11*N(G11))
B12: CN-003 | C12: Travel tin 4 oz — Lavender | D12: Candles | E12: Shelf A2 | F12: WickWorks | G12: 2.35 | H12: 10 | I12: 60 | J12: =IF($B12="","",SUMIFS('Stock Moves'!$F:$F,'Stock Moves'!$C:$C,$B12,'Stock Moves'!$E:$E,"In")) | K12: =IF($B12="","",SUMIFS('Stock Moves'!$F:$F,'Stock Moves'!$C:$C,$B12,'Stock Moves'!$E:$E,"Out")) | L12: =IF($B12="","",N(I12)+N(J12)-N(K12)) | M12: 20 | N12: 40 | O12: =IF($B12="","",IF(L12<=0,"Out of stock",IF(L12<=N(M12),"Reorder","In stock"))) | P12: =IF($B12="","",L12*N(G12))
B13: SP-010 | C13: Bar soap — Oat & honey | D13: Soap | E13: Shelf B1 | F13: Lather Co. | G13: 1.8 | H13: 8 | I13: 80 | J13: =IF($B13="","",SUMIFS('Stock Moves'!$F:$F,'Stock Moves'!$C:$C,$B13,'Stock Moves'!$E:$E,"In")) | K13: =IF($B13="","",SUMIFS('Stock Moves'!$F:$F,'Stock Moves'!$C:$C,$B13,'Stock Moves'!$E:$E,"Out")) | L13: =IF($B13="","",N(I13)+N(J13)-N(K13)) | M13: 25 | N13: 50 | O13: =IF($B13="","",IF(L13<=0,"Out of stock",IF(L13<=N(M13),"Reorder","In stock"))) | P13: =IF($B13="","",L13*N(G13))
B14: SP-011 | C14: Bar soap — Charcoal | D14: Soap | E14: Shelf B1 | F14: Lather Co. | G14: 1.95 | H14: 8 | I14: 50 | J14: =IF($B14="","",SUMIFS('Stock Moves'!$F:$F,'Stock Moves'!$C:$C,$B14,'Stock Moves'!$E:$E,"In")) | K14: =IF($B14="","",SUMIFS('Stock Moves'!$F:$F,'Stock Moves'!$C:$C,$B14,'Stock Moves'!$E:$E,"Out")) | L14: =IF($B14="","",N(I14)+N(J14)-N(K14)) | M14: 25 | N14: 50 | O14: =IF($B14="","",IF(L14<=0,"Out of stock",IF(L14<=N(M14),"Reorder","In stock"))) | P14: =IF($B14="","",L14*N(G14))
B15: GF-100 | C15: Gift box — small | D15: Packaging | E15: Bin C3 | F15: BoxHouse | G15: 0.9 | H15: 0 | I15: 120 | J15: =IF($B15="","",SUMIFS('Stock Moves'!$F:$F,'Stock Moves'!$C:$C,$B15,'Stock Moves'!$E:$E,"In")) | K15: =IF($B15="","",SUMIFS('Stock Moves'!$F:$F,'Stock Moves'!$C:$C,$B15,'Stock Moves'!$E:$E,"Out")) | L15: =IF($B15="","",N(I15)+N(J15)-N(K15)) | M15: 40 | N15: 80 | O15: =IF($B15="","",IF(L15<=0,"Out of stock",IF(L15<=N(M15),"Reorder","In stock"))) | P15: =IF($B15="","",L15*N(G15))
B16: GF-101 | C16: Gift box — large | D16: Packaging | E16: Bin C3 | F16: BoxHouse | G16: 1.4 | H16: 0 | I16: 30 | J16: =IF($B16="","",SUMIFS('Stock Moves'!$F:$F,'Stock Moves'!$C:$C,$B16,'Stock Moves'!$E:$E,"In")) | K16: =IF($B16="","",SUMIFS('Stock Moves'!$F:$F,'Stock Moves'!$C:$C,$B16,'Stock Moves'!$E:$E,"Out")) | L16: =IF($B16="","",N(I16)+N(J16)-N(K16)) | M16: 20 | N16: 40 | O16: =IF($B16="","",IF(L16<=0,"Out of stock",IF(L16<=N(M16),"Reorder","In stock"))) | P16: =IF($B16="","",L16*N(G16))
B17: AC-200 | C17: Matches, glass jar | D17: Accessories | E17: Shelf A3 | F17: FlameGoods | G17: 1.25 | H17: 6 | I17: 24 | J17: =IF($B17="","",SUMIFS('Stock Moves'!$F:$F,'Stock Moves'!$C:$C,$B17,'Stock Moves'!$E:$E,"In")) | K17: =IF($B17="","",SUMIFS('Stock Moves'!$F:$F,'Stock Moves'!$C:$C,$B17,'Stock Moves'!$E:$E,"Out")) | L17: =IF($B17="","",N(I17)+N(J17)-N(K17)) | M17: 10 | N17: 20 | O17: =IF($B17="","",IF(L17<=0,"Out of stock",IF(L17<=N(M17),"Reorder","In stock"))) | P17: =IF($B17="","",L17*N(G17))
J18: =IF($B18="","",SUMIFS('Stock Moves'!$F:$F,'Stock Moves'!$C:$C,$B18,'Stock Moves'!$E:$E,"In")) | K18: =IF($B18="","",SUMIFS('Stock Moves'!$F:$F,'Stock Moves'!$C:$C,$B18,'Stock Moves'!$E:$E,"Out")) | L18: =IF($B18="","",N(I18)+N(J18)-N(K18)) | O18: =IF($B18="","",IF(L18<=0,"Out of stock",IF(L18<=N(M18),"Reorder","In stock"))) | P18: =IF($B18="","",L18*N(G18))
J19: =IF($B19="","",SUMIFS('Stock Moves'!$F:$F,'Stock Moves'!$C:$C,$B19,'Stock Moves'!$E:$E,"In")) | K19: =IF($B19="","",SUMIFS('Stock Moves'!$F:$F,'Stock Moves'!$C:$C,$B19,'Stock Moves'!$E:$E,"Out")) | L19: =IF($B19="","",N(I19)+N(J19)-N(K19)) | O19: =IF($B19="","",IF(L19<=0,"Out of stock",IF(L19<=N(M19),"Reorder","In stock"))) | P19: =IF($B19="","",L19*N(G19))
J20: =IF($B20="","",SUMIFS('Stock Moves'!$F:$F,'Stock Moves'!$C:$C,$B20,'Stock Moves'!$E:$E,"In")) | K20: =IF($B20="","",SUMIFS('Stock Moves'!$F:$F,'Stock Moves'!$C:$C,$B20,'Stock Moves'!$E:$E,"Out")) | L20: =IF($B20="","",N(I20)+N(J20)-N(K20)) | O20: =IF($B20="","",IF(L20<=0,"Out of stock",IF(L20<=N(M20),"Reorder","In stock"))) | P20: =IF($B20="","",L20*N(G20))
J21: =IF($B21="","",SUMIFS('Stock Moves'!$F:$F,'Stock Moves'!$C:$C,$B21,'Stock Moves'!$E:$E,"In")) | K21: =IF($B21="","",SUMIFS('Stock Moves'!$F:$F,'Stock Moves'!$C:$C,$B21,'Stock Moves'!$E:$E,"Out")) | L21: =IF($B21="","",N(I21)+N(J21)-N(K21)) | O21: =IF($B21="","",IF(L21<=0,"Out of stock",IF(L21<=N(M21),"Reorder","In stock"))) | P21: =IF($B21="","",L21*N(G21))
J22: =IF($B22="","",SUMIFS('Stock Moves'!$F:$F,'Stock Moves'!$C:$C,$B22,'Stock Moves'!$E:$E,"In")) | K22: =IF($B22="","",SUMIFS('Stock Moves'!$F:$F,'Stock Moves'!$C:$C,$B22,'Stock Moves'!$E:$E,"Out")) | L22: =IF($B22="","",N(I22)+N(J22)-N(K22)) | O22: =IF($B22="","",IF(L22<=0,"Out of stock",IF(L22<=N(M22),"Reorder","In stock"))) | P22: =IF($B22="","",L22*N(G22))
J23: =IF($B23="","",SUMIFS('Stock Moves'!$F:$F,'Stock Moves'!$C:$C,$B23,'Stock Moves'!$E:$E,"In")) | K23: =IF($B23="","",SUMIFS('Stock Moves'!$F:$F,'Stock Moves'!$C:$C,$B23,'Stock Moves'!$E:$E,"Out")) | L23: =IF($B23="","",N(I23)+N(J23)-N(K23)) | O23: =IF($B23="","",IF(L23<=0,"Out of stock",IF(L23<=N(M23),"Reorder","In stock"))) | P23: =IF($B23="","",L23*N(G23))
J24: =IF($B24="","",SUMIFS('Stock Moves'!$F:$F,'Stock Moves'!$C:$C,$B24,'Stock Moves'!$E:$E,"In")) | K24: =IF($B24="","",SUMIFS('Stock Moves'!$F:$F,'Stock Moves'!$C:$C,$B24,'Stock Moves'!$E:$E,"Out")) | L24: =IF($B24="","",N(I24)+N(J24)-N(K24)) | O24: =IF($B24="","",IF(L24<=0,"Out of stock",IF(L24<=N(M24),"Reorder","In stock"))) | P24: =IF($B24="","",L24*N(G24))
J25: =IF($B25="","",SUMIFS('Stock Moves'!$F:$F,'Stock Moves'!$C:$C,$B25,'Stock Moves'!$E:$E,"In")) | K25: =IF($B25="","",SUMIFS('Stock Moves'!$F:$F,'Stock Moves'!$C:$C,$B25,'Stock Moves'!$E:$E,"Out")) | L25: =IF($B25="","",N(I25)+N(J25)-N(K25)) | O25: =IF($B25="","",IF(L25<=0,"Out of stock",IF(L25<=N(M25),"Reorder","In stock"))) | P25: =IF($B25="","",L25*N(G25))
J26: =IF($B26="","",SUMIFS('Stock Moves'!$F:$F,'Stock Moves'!$C:$C,$B26,'Stock Moves'!$E:$E,"In")) | K26: =IF($B26="","",SUMIFS('Stock Moves'!$F:$F,'Stock Moves'!$C:$C,$B26,'Stock Moves'!$E:$E,"Out")) | L26: =IF($B26="","",N(I26)+N(J26)-N(K26)) | O26: =IF($B26="","",IF(L26<=0,"Out of stock",IF(L26<=N(M26),"Reorder","In stock"))) | P26: =IF($B26="","",L26*N(G26))
J27: =IF($B27="","",SUMIFS('Stock Moves'!$F:$F,'Stock Moves'!$C:$C,$B27,'Stock Moves'!$E:$E,"In")) | K27: =IF($B27="","",SUMIFS('Stock Moves'!$F:$F,'Stock Moves'!$C:$C,$B27,'Stock Moves'!$E:$E,"Out")) | L27: =IF($B27="","",N(I27)+N(J27)-N(K27)) | O27: =IF($B27="","",IF(L27<=0,"Out of stock",IF(L27<=N(M27),"Reorder","In stock"))) | P27: =IF($B27="","",L27*N(G27))
J28: =IF($B28="","",SUMIFS('Stock Moves'!$F:$F,'Stock Moves'!$C:$C,$B28,'Stock Moves'!$E:$E,"In")) | K28: =IF($B28="","",SUMIFS('Stock Moves'!$F:$F,'Stock Moves'!$C:$C,$B28,'Stock Moves'!$E:$E,"Out")) | L28: =IF($B28="","",N(I28)+N(J28)-N(K28)) | O28: =IF($B28="","",IF(L28<=0,"Out of stock",IF(L28<=N(M28),"Reorder","In stock"))) | P28: =IF($B28="","",L28*N(G28))
J29: =IF($B29="","",SUMIFS('Stock Moves'!$F:$F,'Stock Moves'!$C:$C,$B29,'Stock Moves'!$E:$E,"In")) | K29: =IF($B29="","",SUMIFS('Stock Moves'!$F:$F,'Stock Moves'!$C:$C,$B29,'Stock Moves'!$E:$E,"Out")) | L29: =IF($B29="","",N(I29)+N(J29)-N(K29)) | O29: =IF($B29="","",IF(L29<=0,"Out of stock",IF(L29<=N(M29),"Reorder","In stock"))) | P29: =IF($B29="","",L29*N(G29))
... J69: =IF($B69="","",SUMIFS('Stock Moves'!$F:$F,'Stock Moves'!$C:$C,$B69,'Stock Moves'!$E:$E,"In")) | K69: =IF($B69="","",SUMIFS('Stock Moves'!$F:$F,'Stock Moves'!$C:$C,$B69,'Stock Moves'!$E:$E,"Out")) | L69: =IF($B69="","",N(I69)+N(J69)-N(K69)) | O69: =IF($B69="","",IF(L69<=0,"Out of stock",IF(L69<=N(M69),"Reorder","In stock"))) | P69: =IF($B69="","",L69*N(G69))
B71: Free template from niftyshelf.com · free for personal & commercial use

Sheet Stock Moves
B2: Stock Moves
B3: Log every delivery (In) and sale, sample or write-off (Out). The Inventory tab updates automatically.
B5: DATE | C5: SKU | D5: ITEM | E5: IN / OUT | F5: QTY | G5: NOTE
B6: 46390 | C6: CN-001 | D6: =IF(C6="","",IFERROR(INDEX(Inventory!$C$10:$C$69,MATCH(C6,Inventory!$B$10:$B$69,0)),"⚠ unknown SKU")) | E6: Out | F6: 9 | G6: Weekend market
B7: 46390 | C7: CN-002 | D7: =IF(C7="","",IFERROR(INDEX(Inventory!$C$10:$C$69,MATCH(C7,Inventory!$B$10:$B$69,0)),"⚠ unknown SKU")) | E7: Out | F7: 14 | G7: Weekend market
B8: 46392 | C8: SP-010 | D8: =IF(C8="","",IFERROR(INDEX(Inventory!$C$10:$C$69,MATCH(C8,Inventory!$B$10:$B$69,0)),"⚠ unknown SKU")) | E8: In | F8: 40 | G8: Supplier delivery
B9: 46394 | C9: CN-002 | D9: =IF(C9="","",IFERROR(INDEX(Inventory!$C$10:$C$69,MATCH(C9,Inventory!$B$10:$B$69,0)),"⚠ unknown SKU")) | E9: Out | F9: 12 | G9: Online orders
B10: 46395 | C10: GF-101 | D10: =IF(C10="","",IFERROR(INDEX(Inventory!$C$10:$C$69,MATCH(C10,Inventory!$B$10:$B$69,0)),"⚠ unknown SKU")) | E10: Out | F10: 18 | G10: Wholesale order
B11: 46396 | C11: SP-011 | D11: =IF(C11="","",IFERROR(INDEX(Inventory!$C$10:$C$69,MATCH(C11,Inventory!$B$10:$B$69,0)),"⚠ unknown SKU")) | E11: Out | F11: 31 | G11: Wholesale order
B12: 46397 | C12: AC-200 | D12: =IF(C12="","",IFERROR(INDEX(Inventory!$C$10:$C$69,MATCH(C12,Inventory!$B$10:$B$69,0)),"⚠ unknown SKU")) | E12: Out | F12: 24 | G12: Online orders
B13: 46399 | C13: CN-003 | D13: =IF(C13="","",IFERROR(INDEX(Inventory!$C$10:$C$69,MATCH(C13,Inventory!$B$10:$B$69,0)),"⚠ unknown SKU")) | E13: Out | F13: 22 | G13: Online orders
D14: =IF(C14="","",IFERROR(INDEX(Inventory!$C$10:$C$69,MATCH(C14,Inventory!$B$10:$B$69,0)),"⚠ unknown SKU"))
D15: =IF(C15="","",IFERROR(INDEX(Inventory!$C$10:$C$69,MATCH(C15,Inventory!$B$10:$B$69,0)),"⚠ unknown SKU"))
D16: =IF(C16="","",IFERROR(INDEX(Inventory!$C$10:$C$69,MATCH(C16,Inventory!$B$10:$B$69,0)),"⚠ unknown SKU"))
D17: =IF(C17="","",IFERROR(INDEX(Inventory!$C$10:$C$69,MATCH(C17,Inventory!$B$10:$B$69,0)),"⚠ unknown SKU"))
D18: =IF(C18="","",IFERROR(INDEX(Inventory!$C$10:$C$69,MATCH(C18,Inventory!$B$10:$B$69,0)),"⚠ unknown SKU"))
D19: =IF(C19="","",IFERROR(INDEX(Inventory!$C$10:$C$69,MATCH(C19,Inventory!$B$10:$B$69,0)),"⚠ unknown SKU"))
D20: =IF(C20="","",IFERROR(INDEX(Inventory!$C$10:$C$69,MATCH(C20,Inventory!$B$10:$B$69,0)),"⚠ unknown SKU"))
D21: =IF(C21="","",IFERROR(INDEX(Inventory!$C$10:$C$69,MATCH(C21,Inventory!$B$10:$B$69,0)),"⚠ unknown SKU"))
D22: =IF(C22="","",IFERROR(INDEX(Inventory!$C$10:$C$69,MATCH(C22,Inventory!$B$10:$B$69,0)),"⚠ unknown SKU"))
D23: =IF(C23="","",IFERROR(INDEX(Inventory!$C$10:$C$69,MATCH(C23,Inventory!$B$10:$B$69,0)),"⚠ unknown SKU"))
D24: =IF(C24="","",IFERROR(INDEX(Inventory!$C$10:$C$69,MATCH(C24,Inventory!$B$10:$B$69,0)),"⚠ unknown SKU"))
D25: =IF(C25="","",IFERROR(INDEX(Inventory!$C$10:$C$69,MATCH(C25,Inventory!$B$10:$B$69,0)),"⚠ unknown SKU"))
... D405: =IF(C405="","",IFERROR(INDEX(Inventory!$C$10:$C$69,MATCH(C405,Inventory!$B$10:$B$69,0)),"⚠ unknown SKU"))

Sheet How to use
B2: How to use this inventory tracker
B3: Quick guide
B5: 1 | C5: On the Inventory tab, list each product with a unique SKU, cost, price, starting quantity and the level at which you want to reorder.
B6: 2 | C6: Log deliveries (In) and sales or write-offs (Out) on the Stock Moves tab — pick the SKU from the dropdown and the item name fills in.
B7: 3 | C7: On-hand quantity, stock value and status update automatically. Items at or below their reorder level turn amber; zero stock turns red.
B8: 4 | C8: The cards at the top show total units, stock value at cost and how many items need reordering.
B9: 5 | C9: Did a physical count? Update Start qty to the counted number and clear the old moves (or keep them and add an adjustment move).
C11: Tinted cells are inputs — type over them. White cells calculate automatically.
C14: Works in Excel, Google Sheets (File → Import), Numbers and LibreOffice.
C15: Free template from niftyshelf.com — free for personal and commercial use.
